BEGIN:VCALENDAR
PRODID:NingEventWidget-v1
VERSION:2.0
METHOD:PUBLISH
BEGIN:VTIMEZONE
TZID:Europe/London
X-LIC-LOCATION:Europe/London
BEGIN:DAYLIGHT
TZOFFSETFROM:+0000
TZOFFSETTO:+0100
TZNAME:BST
DTSTART:19700329T010000
RRULE:FREQ=YEARLY;BYMONTH=3;BYDAY=-1SU
END:DAYLIGHT
BEGIN:STANDARD
TZOFFSETFROM:+0100
TZOFFSETTO:+0000
TZNAME:GMT
DTSTART:19701025T020000
RRULE:FREQ=YEARLY;BYMONTH=10;BYDAY=-1SU
END:STANDARD
END:VTIMEZONE
BEGIN:VEVENT
UID:4626108:Event:347166
DTSTAMP:20260423T210343Z
SUMMARY:Fabulous Women Reigate Lunchtime Online
DESCRIPTION:Fabulous Women Reigate Lunchtime Online \r\n\r\nHi, I'm 
 Anita, the group leader for the Reigate Fabulous Women group. I look
  forward to welcoming you!\r\nSadly we can't meet at our usual beautif
 ul venue but we're not letting that stop us from getting together. We'
 re going to meet online at lunchtime so do feel free to bring your lun
 ch.\r\nWe'll follow a similar agenda to our usual meetings so you'll b
 e able to introduce yourself and your business in 60 seconds. Our spe
 aker will be Mandy Dineley. We'll then have either a discussion, mini
  coaching sessions or some small group or pairs conversations.\r\nThis
  event is FREE to members and for visitors attending up to three meeti
 ngs after which you can choose to join us for £17 per month or pay an
  attendance fee of £10 per meeting. All our events are currently free
  to members and you can attend as many as you like.\r\nPlease book usi
 ng the YES I'm attending button and we'll send you a link to join in s
 hortly before the meeting.\r\nCOST: FREE for Guests and FW members 
 \r\nBOOKING: Please CLICK HERE to visit our website then click on 
 the pink \"Yes I'm Attending\" button at the bottom\r\n---------------
 ------------------\r\nFind other local Fabulous Women events here on
  Networking in Surrey...\n\nFor more information visit https://network
 inginsurrey.co.uk/events/fabulous-women-reigate-lunchtime-online
DTSTART;TZID=Europe/London:20200416T120000
DTEND;TZID=Europe/London:20200416T140000
CATEGORIES:lunchtime, online, reigate, netwinning, fabulous_women
LOCATION:Online only
WEBSITE:
URL:
CONTACT:
ORGANIZER;CN="Anita Wisdom":https://networkinginsurrey.co.uk/profile/A
 nitaWisdom9
ATTACH;FMTTYPE="image/jpeg":https://storage.ning.com/topology/rest/1.0
 /file/get/541438933?profile=original
ATTENDEE;ROLE=REQ-PARTICIPANT;PARTSTAT=ACCEPTED;RSVP=TRUE;CN="Anita Wi
 sdom":https://networkinginsurrey.co.uk/profile/AnitaWisdom9
END:VEVENT
END:VCALENDAR
