BEGIN:VCALENDAR
PRODID:NingEventWidget-v1
VERSION:2.0
METHOD:PUBLISH
BEGIN:VTIMEZONE
TZID:Europe/London
X-LIC-LOCATION:Europe/London
BEGIN:DAYLIGHT
TZOFFSETFROM:+0000
TZOFFSETTO:+0100
TZNAME:BST
DTSTART:19700329T010000
RRULE:FREQ=YEARLY;BYMONTH=3;BYDAY=-1SU
END:DAYLIGHT
BEGIN:STANDARD
TZOFFSETFROM:+0100
TZOFFSETTO:+0000
TZNAME:GMT
DTSTART:19701025T020000
RRULE:FREQ=YEARLY;BYMONTH=10;BYDAY=-1SU
END:STANDARD
END:VTIMEZONE
BEGIN:VEVENT
UID:4626108:Event:101424
DTSTAMP:20260421T222745Z
SUMMARY:Fabulous Women Lunch, Godalming
DESCRIPTION: Fabulous Women Lunch at The Holistic Centre\r\n\r\nHi, I
 'm Stacey, the group leader for the Godalming Fabulous Women group.
  I look forward to welcoming you!\r\nRunning a small business can be i
 solating so it helps to get out from time to time to meet with others 
 who understand the challenges you face. Why not join us for a lunchtim
 e session of networking, learning and inspiration in an uplifting envi
 ronment? I’m Stacey McIntyre and I look forward to welcoming you.\r\
 nThe agenda will start with informal networking before we take our sea
 ts for the structured part of the meeting during which you’ll have a
 n opportunity to introduce your business in our one minute introductio
 n round. Please think what you would like us to know and do when you h
 ave made your pitch. Don’t worry if speaking to a group makes you ne
 rvous, we’ve all been there and are very supportive and we don’t m
 ind if you want to read what you prepared in advance.\r\nThis month ou
 r speaker is Amanda Weller with 'What inspired organisations do and h
 ow you can too'.\r\nWhy we get in two or more minds and how to save ti
 me by always making the right decision.\r\nIt really helps if you can 
 book so please click on the link below (and if you are a member please
  remember to login first so you don’t have to retype all your detail
 s). Remember to bring plenty of business cards and marketing material 
 and your £10 meeting fee. Visitors are welcome to attend two Fabulous
  Women and Marvellous Men meetings before joining.\r\nWe look forward 
 to meeting you.\r\nCOST: £10 for Guests and FW members (cash only 
 please, on the door!)\r\nBOOKING: Please CLICK HERE to visit our webs
 ite then click on the pink \"Yes I'm Attending\" button at the bottom
 \r\nMAP \r\nDirections to the Centre\r\nParking in the area\r\n-------
 -------------------\r\n\r\nFind other local Fabulous Women events her
 e on Networking in Surrey...\n\nFor more information visit https://ne
 tworkinginsurrey.co.uk/events/fabulous-women-lunch-godalming-2
DTSTART;TZID=Europe/London:20181101T120000
DTEND;TZID=Europe/London:20181101T140000
CATEGORIES:late_breakfast, richmond, fabulous_women
LOCATION:Holistic Centre GU7 1HL
WEBSITE:
URL:
CONTACT:
ORGANIZER:Stacey McIntyre
ATTACH;FMTTYPE="image/jpeg":http://storage.ning.com/topology/rest/1.0/
 file/get/1179757333?profile=original
ATTENDEE;ROLE=REQ-PARTICIPANT;PARTSTAT=ACCEPTED;RSVP=TRUE;CN="Keith Gr
 over, NiS Founder":https://networkinginsurrey.co.uk/profile/KeithGrove
 r
END:VEVENT
END:VCALENDAR
