BEGIN:VCALENDAR
PRODID:NingEventWidget-v1
VERSION:2.0
METHOD:PUBLISH
BEGIN:VTIMEZONE
TZID:Europe/London
X-LIC-LOCATION:Europe/London
BEGIN:DAYLIGHT
TZOFFSETFROM:+0000
TZOFFSETTO:+0100
TZNAME:BST
DTSTART:19700329T010000
RRULE:FREQ=YEARLY;BYMONTH=3;BYDAY=-1SU
END:DAYLIGHT
BEGIN:STANDARD
TZOFFSETFROM:+0100
TZOFFSETTO:+0000
TZNAME:GMT
DTSTART:19701025T020000
RRULE:FREQ=YEARLY;BYMONTH=10;BYDAY=-1SU
END:STANDARD
END:VTIMEZONE
BEGIN:VEVENT
UID:4626108:Event:69362
DTSTAMP:20260420T090325Z
SUMMARY:Fabulous Women Late Breakfast, Worcester Park
DESCRIPTION:Fabulous Women Late Breakfast at The Queen Adelaide & Drag
 on\n\nHi, I'm Catherina the group leader for the Worcester Park Fabulo
 us Women group. I look forward to welcoming you!______________________
 _____Our speaker this month is TBA____________________________If you h
 ave been wondering what benefits you will receive from being part of t
 his fabulous organisation, let me share with you just a few reasons wh
 y coming to a Fabulous Women Netwinning meeting will be the best busin
 ess decision you ever made:- Make new friends- Find customers, supplie
 rs and collaborators- Be inspired- Learn new skills- Our Agenda is the
  best mix between formal and informal networking - perfect for the new
 , as well as the more experienced networker- Inspiring speakers; a 'Ho
 t Seat' or Mini-Coaching session; and 1-2-1's with a 'twist' where we 
 all work out ways in which we can potentially collaborate or support e
 ach other, even if it's simply by following each other on Twitter etc.
 - The chance to make a one minute business pitch about who you are, wh
 at you do and who you do it for and how we can help you. (Do not worry
  about this if you are a little nervous, you can type it out and read 
 it if you wish! We do not judge, we just want to help you)- Women do b
 usiness with men too, and Fabulous Women welcomes Marvellous Men who a
 re happy to network in our style. This means collaboration not competi
 tion, and support not sell and we know that you are interested in both
  personal and business development- You don't need to be a member to a
 ttend a Fabulous Women Netwinning meeting. You can attend up to three 
 meetings as a guestWith all these benefits to being a part of the Fabu
 lous Women experience, how can you resist?! To attend, simply confirm 
 your attendance by clicking on the blue \"Yes I'm Attending\" button o
 n the right, so the venue can cater for you, then just pay the attenda
 nce fee on arrival (cash only please!).Remember to bring your business
  cards and marketing material and, if you sell products, bring some sa
 mples for us to see.Obviously, please contact me if you have ANY queri
 es or concerns. laminahealth@gmail.com\n\nCOST:Â Â£15 for Guests and Â
 £10 for FW membersÂ (cash only please!)\nBOOKING: Please CLICK HEREÂ t
 o visit our website thenÂ click on the blue \"Yes I'm Attending\" butt
 on on the right\nMAP\n\nFor more information visit https://networkingi
 nsurrey.co.uk/events/fabulous-women-late-breakfast-worcester-park
DTSTART;TZID=Europe/London:20141114T093000
DTEND;TZID=Europe/London:20141114T113000
CATEGORIES:morning, worcester, park, netwinning, fabulous_women
LOCATION:Queen Adelaide & Dragon
WEBSITE:http://www.fabulous-women.co.uk/meetings-events/viewevent/1429
 -worcester-park-launch?groupid=30
URL:http://www.fabulous-women.co.uk/meetings-events/viewevent/1429-wor
 cester-park-launch?groupid=30
CONTACT:07768 197507
ORGANIZER:Catherina Skilar-Ward
ATTACH;FMTTYPE="image/jpeg":http://storage.ning.com/topology/rest/1.0/
 file/get/2591432737?profile=original
ATTENDEE;ROLE=REQ-PARTICIPANT;PARTSTAT=ACCEPTED;RSVP=TRUE;CN="Jane Har
 dy":https://networkinginsurrey.co.uk/profile/JaneHardy
END:VEVENT
END:VCALENDAR
