BEGIN:VCALENDAR
PRODID:NingEventWidget-v1
VERSION:2.0
METHOD:PUBLISH
BEGIN:VTIMEZONE
TZID:Europe/London
X-LIC-LOCATION:Europe/London
BEGIN:DAYLIGHT
TZOFFSETFROM:+0000
TZOFFSETTO:+0100
TZNAME:BST
DTSTART:19700329T010000
RRULE:FREQ=YEARLY;BYMONTH=3;BYDAY=-1SU
END:DAYLIGHT
BEGIN:STANDARD
TZOFFSETFROM:+0100
TZOFFSETTO:+0000
TZNAME:GMT
DTSTART:19701025T020000
RRULE:FREQ=YEARLY;BYMONTH=10;BYDAY=-1SU
END:STANDARD
END:VTIMEZONE
BEGIN:VEVENT
UID:4626108:Event:69365
DTSTAMP:20260423T155359Z
SUMMARY:Fabulous Women Late Breakfast, Ewell
DESCRIPTION:Fabulous Women Late Breakfast at The Queen Adelaide & Drag
 on\n\nHi, I'm Catherina the group leader for the Ewell Fabulous Women 
 group. I look forward to welcoming you!\nWe are following this months 
 meeting with a FABULOUS Christmas lunch, contact us for details :)\n _
 __________________________  Our speaker this month is Mariette Jansen
  and she will be speaking on Mindfulness for Stress.\n _______________
 _____________  If you have been wondering what benefits you will recei
 ve from being part of this fabulous organisation, let me share with yo
 u just a few reasons why coming to a Fabulous Women Netwinning meeting
  will be the best business decision you ever made:  - Make new friends
  - Find customers, suppliers and collaborators - Be inspired - Learn n
 ew skills  - Our Agenda is the best mix between formal and informal ne
 tworking - perfect for the new, as well as the more experienced networ
 ker  - Inspiring speakers; a 'Hot Seat' or Mini-Coaching session; and 
 1-2-1's with a 'twist' where we all work out ways in which we can pote
 ntially collaborate or support each other, even if it's simply by foll
 owing each other on Twitter etc.  - The chance to make a one minute bu
 siness pitch about who you are, what you do and who you do it for and 
 how we can help you. (Do not worry about this if you are a little nerv
 ous, you can type it out and read it if you wish! We do not judge, we 
 just want to help you)  - Women do business with men too, and Fabulous
  Women welcomes Marvellous Men who are happy to network in our style. 
 This means collaboration not competition, and support not sell and we 
 know that you are interested in both personal and business development
   - You don't need to be a member to attend a Fabulous Women Netwinnin
 g meeting. You can attend up to three meetings as a guest  With all th
 ese benefits to being a part of the Fabulous Women experience, how can
  you resist?! To attend, simply confirm your attendance by clicking on
  the blue \"Yes I'm Attending\" button on the right, so the venue can 
 cater for you, then just pay the attendance fee on arrival (cash only 
 please!).  Remember to bring your business cards and marketing materia
 l and, if you sell products, bring some samples for us to see.  Obviou
 sly, please contact me if you have ANY queries or concerns. laminaheal
 th@gmail.com\n\nCOST: £15 for Guests and £10 for FW members (cash 
 only please!)\nBOOKING: Please CLICK HERE to visit our website then 
 click on the blue \"Yes I'm Attending\" button on the right\nMAP\n\nFo
 r more information visit https://networkinginsurrey.co.uk/events/fabul
 ous-women-late-breakfast-worcester-park-1
DTSTART;TZID=Europe/London:20141212T100000
DTEND;TZID=Europe/London:20141212T120000
CATEGORIES:morning, worcesterpark, netwinning, fabulous_women
LOCATION:Queen Adelaide & Dragon
WEBSITE:http://www.fabulous-women.co.uk/meetings-events/viewevent/1430
 -worcester-park?groupid=30
URL:http://www.fabulous-women.co.uk/meetings-events/viewevent/1430-wor
 cester-park?groupid=30
CONTACT:07768 197507
ORGANIZER:Catherina Skilar-Ward
ATTACH;FMTTYPE="image/jpeg":http://storage.ning.com/topology/rest/1.0/
 file/get/2591435681?profile=original
ATTENDEE;ROLE=REQ-PARTICIPANT;PARTSTAT=ACCEPTED;RSVP=TRUE;CN="Jane Har
 dy":https://networkinginsurrey.co.uk/profile/JaneHardy
END:VEVENT
END:VCALENDAR
