BEGIN:VCALENDAR
PRODID:NingEventWidget-v1
VERSION:2.0
METHOD:PUBLISH
BEGIN:VTIMEZONE
TZID:Europe/London
X-LIC-LOCATION:Europe/London
BEGIN:DAYLIGHT
TZOFFSETFROM:+0000
TZOFFSETTO:+0100
TZNAME:BST
DTSTART:19700329T010000
RRULE:FREQ=YEARLY;BYMONTH=3;BYDAY=-1SU
END:DAYLIGHT
BEGIN:STANDARD
TZOFFSETFROM:+0100
TZOFFSETTO:+0000
TZNAME:GMT
DTSTART:19701025T020000
RRULE:FREQ=YEARLY;BYMONTH=10;BYDAY=-1SU
END:STANDARD
END:VTIMEZONE
BEGIN:VEVENT
UID:4626108:Event:75063
DTSTAMP:20260426T050502Z
SUMMARY:Fabulous Women Late Breakfast, Woking
DESCRIPTION:Fabulous Women Late Breakfast at The Inn at Maybury\n\nHi,
  I'm Jill, the group leader for the Woking Fabulous Women group. I loo
 k forward to welcoming you to our meetings on the first Tuesday of eve
 ry month!\nOur speaker for December is Graham Le-Gall - 'The Highly I
 mportant 60 Seconds Business Pitch' with tips to help resolve the iss
 ue and make those short pitches more effective and memorable.\nIf you 
 have been wondering what benefits you will receive from being part of 
 this fabulous organisation, let me share with you just a few reasons w
 hy coming to a Fabulous Women Netwinning meeting will be the best busi
 ness decision you ever made:      - Make new friends     - Find c
 ustomers, suppliers and collaborators     - Be inspired     - Lear
 n new skills      - Our Agenda is the best mix between formal and i
 nformal networking - perfect for the new, as well as the more experien
 ced networker      - Inspiring speakers; a 'Hot Seat' or Mini-Coach
 ing session; and 1-2-1's with a 'twist' where we all work out ways in 
 which we can potentially collaborate or support each other, even if it
 's simply by following each other on Twitter etc.      - The chance
  to make a one minute business pitch about who you are, what you do an
 d who you do it for and how we can help you. (Do not worry about this 
 if you are a little nervous, you can type it out and read it if you wi
 sh! We do not judge, we just want to help you)      - Women do busi
 ness with men too, and Fabulous Women welcomes Marvellous Men who are 
 happy to network in our style. This means collaboration not competitio
 n, and support not sell and we know that you are interested in both pe
 rsonal and business development      - You don't need to be a membe
 r to attend a Fabulous Women Netwinning meeting. You can attend up to 
 three meetings as a guest\nWith all these benefits to being a part of 
 the Fabulous Women experience, how can you resist?!\nPlease register t
 o attend (see BOOKING below) and just pay on the door on arrival.\nRem
 ember to bring your business cards and marketing material and, if you 
 sell products, bring some samples for us to see.\nCOST: £10 for Gue
 sts and FW Members (cash only please, on arrival!)\nBOOKING: Please
  CLICK HERE to visit our website then click on the pink \"I'm Atten
 ding\" button at the bottom of the detailed event listing to register\
 nMAP\n---------------------------------\nFind other local Fabulous Wo
 men events here on Networking in Surrey...\n\nFor more information vi
 sit https://networkinginsurrey.co.uk/events/fabulous-women-late-breakf
 ast-woking-950
DTSTART;TZID=Europe/London:20151201T100000
DTEND;TZID=Europe/London:20151201T120000
CATEGORIES:fabulous_women, woking, morning
LOCATION:The Inn at Maybury GU22 8AB
WEBSITE:
URL:
CONTACT:07958 949969
ORGANIZER;CN="Jill Bennett":https://networkinginsurrey.co.uk/profile/J
 illBennett
ATTACH;FMTTYPE="image/jpeg":http://storage.ning.com/topology/rest/1.0/
 file/get/2591434052?profile=original
ATTENDEE;ROLE=REQ-PARTICIPANT;PARTSTAT=ACCEPTED;RSVP=TRUE;CN="Jill Ben
 nett":https://networkinginsurrey.co.uk/profile/JillBennett
END:VEVENT
END:VCALENDAR
