BEGIN:VCALENDAR
PRODID:NingEventWidget-v1
VERSION:2.0
METHOD:PUBLISH
BEGIN:VTIMEZONE
TZID:Europe/London
X-LIC-LOCATION:Europe/London
BEGIN:DAYLIGHT
TZOFFSETFROM:+0000
TZOFFSETTO:+0100
TZNAME:BST
DTSTART:19700329T010000
RRULE:FREQ=YEARLY;BYMONTH=3;BYDAY=-1SU
END:DAYLIGHT
BEGIN:STANDARD
TZOFFSETFROM:+0100
TZOFFSETTO:+0000
TZNAME:GMT
DTSTART:19701025T020000
RRULE:FREQ=YEARLY;BYMONTH=10;BYDAY=-1SU
END:STANDARD
END:VTIMEZONE
BEGIN:VEVENT
UID:4626108:Event:97114
DTSTAMP:20260423T043824Z
SUMMARY:Fabulous Women Late Breakfast, Woking
DESCRIPTION:Fabulous Women Late Breakfast at Sands, Bleak House\r\n\r\
 nHello, I’m  Mike Black  the group leader for the Woking Fabulo
 us Women group and I would be delighted to welcome you to our next me
 eting!\r\nIf you have been wondering what benefits you will receive fr
 om being part of this fabulous organisation, here are just a few reaso
 ns why coming to a Fabulous Women Netwinning meeting will be the best 
 business decision you ever made:\r\n\r\nMake new friends\r\nFind custo
 mers, suppliers and collaborators\r\nBe inspired\r\nLearn new skills\r
 \n\r\nOur Agenda is the best mix between formal and informal networkin
 g - perfect for the new, as well as more experienced networkers.\r\nWe
  have Inspiring speakers; a 'Hot Seat' or Mini-Coaching session; and 1
 -2-1's with a 'twist' where we all work out ways we can potentially co
 llaborate or support each other, even if it's simply by following each
  other on Twitter etc. This month our speaker is Julia Elgar whose tal
 k is entitled 'The top 5 questions I get asked about email marketing (
 and the answers)'.\r\nYou have the chance to make a one-minute busines
 s pitch about who you are, what you do and who you do it for and how w
 e can help you. (If you are a little nervous, you can type it out and 
 read it if you wish! We do not judge, we just want to help you).\r\nWo
 men do business with men too, and Fabulous Women welcomes Marvellous M
 en who are happy to network in our style. This means collaboration not
  competition, and support not sell and we know that you are interested
  in both personal and business development.\r\nYou don't need to be a 
 member to attend a Fabulous Women Netwinning meeting. You can attend u
 p to three meetings as a guest.\r\nWith all these benefits to being a 
 part of the Fabulous Women experience, how can you resist?! To attend,
  simply confirm your attendance by clicking on the blue \"Yes I'm Atte
 nding\" button on the right, so the venue can cater for you, then just
  pay the attendance fee on arrival (cash only please!). \r\nRemember 
 to bring your business cards and marketing material and, if you sell p
 roducts, bring some samples for us to see.\r\nCOST: £10 for Guests a
 nd FW members (cash only please, on the door!)\r\nBOOKING: Please CLI
 CK HERE to visit our website then click on the pink \"Yes I'm Attend
 ing\" button at the bottom\r\nMAP\r\n---------------------------------
 \r\nFind other local Fabulous Women events here on Networking in Sur
 rey...\r\n\n\nFor more information visit https://networkinginsurrey.co
 .uk/events/fabulous-women-late-breakfast-woking-849
DTSTART;TZID=Europe/London:20180403T100000
DTEND;TZID=Europe/London:20180403T120000
CATEGORIES:fabulous_women, woking, late_breakfast
LOCATION:The Sands at Bleak House GU21 5NL
WEBSITE:http://www.sandsatbleakhouse.co.uk/home.aspx
URL:http://www.sandsatbleakhouse.co.uk/home.aspx
CONTACT:07979 001769
ORGANIZER;CN="Mike Black":https://networkinginsurrey.co.uk/profile/Mik
 eBlack
ATTACH;FMTTYPE="image/jpeg":http://storage.ning.com/topology/rest/1.0/
 file/get/1179757333?profile=original
ATTENDEE;ROLE=REQ-PARTICIPANT;PARTSTAT=ACCEPTED;RSVP=TRUE;CN="Mike Bla
 ck":https://networkinginsurrey.co.uk/profile/MikeBlack
END:VEVENT
END:VCALENDAR
