BEGIN:VCALENDAR
PRODID:NingEventWidget-v1
VERSION:2.0
METHOD:PUBLISH
BEGIN:VTIMEZONE
TZID:Europe/London
X-LIC-LOCATION:Europe/London
BEGIN:DAYLIGHT
TZOFFSETFROM:+0000
TZOFFSETTO:+0100
TZNAME:BST
DTSTART:19700329T010000
RRULE:FREQ=YEARLY;BYMONTH=3;BYDAY=-1SU
END:DAYLIGHT
BEGIN:STANDARD
TZOFFSETFROM:+0100
TZOFFSETTO:+0000
TZNAME:GMT
DTSTART:19701025T020000
RRULE:FREQ=YEARLY;BYMONTH=10;BYDAY=-1SU
END:STANDARD
END:VTIMEZONE
BEGIN:VEVENT
UID:4626108:Event:98301
DTSTAMP:20260423T012814Z
SUMMARY:Fabulous Women Late Breakfast, Woking
DESCRIPTION:Fabulous Women Late Breakfast at Sands, Bleak House\r\n\r\
 nHello, I’m  Mike Black  the group leader for the Woking Fabulo
 us Women group and I would be delighted to welcome you to our next me
 eting!\r\nIf you have been wondering what benefits you will receive fr
 om being part of this fabulous organisation, here are just a few reaso
 ns why coming to a Fabulous Women Netwinning meeting will be the best 
 business decision you ever made:\r\n\r\nMake new friends\r\nFind custo
 mers, suppliers and collaborators\r\nBe inspired\r\nLearn new skills\r
 \n\r\nOur Agenda is the best mix between formal and informal networkin
 g - perfect for the new, as well as more experienced networkers.\r\nWe
  have Inspiring speakers; a 'Hot Seat' or Mini-Coaching session; and 1
 -2-1's with a 'twist' where we all work out ways we can potentially co
 llaborate or support each other, even if it's simply by following each
  other on Twitter etc. The speaker this month is Nevil Kapadia on mark
 eting.\r\nYou have the chance to make a one-minute business pitch abou
 t who you are, what you do and who you do it for and how we can help y
 ou. (If you are a little nervous, you can type it out and read it if y
 ou wish! We do not judge, we just want to help you).\r\nWomen do busin
 ess with men too, and Fabulous Women welcomes Marvellous Men who are h
 appy to network in our style. This means collaboration not competition
 , and support not sell and we know that you are interested in both per
 sonal and business development.\r\nYou don't need to be a member to at
 tend a Fabulous Women Netwinning meeting. You can attend up to three m
 eetings as a guest.\r\nWith all these benefits to being a part of the 
 Fabulous Women experience, how can you resist?! To attend, simply conf
 irm your attendance by clicking on the blue \"Yes I'm Attending\" butt
 on on the right, so the venue can cater for you, then just pay the att
 endance fee on arrival (cash only please!). \r\nRemember to bring you
 r business cards and marketing material and, if you sell products, bri
 ng some samples for us to see.\r\nCOST: £10 for Guests and FW member
 s (cash only please, on the door!)\r\nBOOKING: Please CLICK HERE to 
 visit our website then click on the pink \"Yes I'm Attending\" button
  at the bottom\r\nMAP\r\n---------------------------------\r\nFind oth
 er local Fabulous Women events here on Networking in Surrey...\r\n\n
 \nFor more information visit https://networkinginsurrey.co.uk/events/f
 abulous-women-late-breakfast-woking-843
DTSTART;TZID=Europe/London:20180605T100000
DTEND;TZID=Europe/London:20180605T120000
CATEGORIES:fabulous_women, woking, late_breakfast
LOCATION:The Sands at Bleak House GU21 5NL
WEBSITE:http://www.sandsatbleakhouse.co.uk/home.aspx
URL:http://www.sandsatbleakhouse.co.uk/home.aspx
CONTACT:07979 001769
ORGANIZER;CN="Mike Black":https://networkinginsurrey.co.uk/profile/Mik
 eBlack
ATTACH;FMTTYPE="image/jpeg":http://storage.ning.com/topology/rest/1.0/
 file/get/1179757333?profile=original
ATTENDEE;ROLE=REQ-PARTICIPANT;PARTSTAT=ACCEPTED;RSVP=TRUE;CN="Mike Bla
 ck":https://networkinginsurrey.co.uk/profile/MikeBlack
END:VEVENT
END:VCALENDAR
