BEGIN:VCALENDAR
PRODID:NingEventWidget-v1
VERSION:2.0
METHOD:PUBLISH
BEGIN:VTIMEZONE
TZID:Europe/London
X-LIC-LOCATION:Europe/London
BEGIN:DAYLIGHT
TZOFFSETFROM:+0000
TZOFFSETTO:+0100
TZNAME:BST
DTSTART:19700329T010000
RRULE:FREQ=YEARLY;BYMONTH=3;BYDAY=-1SU
END:DAYLIGHT
BEGIN:STANDARD
TZOFFSETFROM:+0100
TZOFFSETTO:+0000
TZNAME:GMT
DTSTART:19701025T020000
RRULE:FREQ=YEARLY;BYMONTH=10;BYDAY=-1SU
END:STANDARD
END:VTIMEZONE
BEGIN:VEVENT
UID:4626108:Event:87888
DTSTAMP:20260424T064813Z
SUMMARY:Fabulous Women Late Breakfast, Guildford
DESCRIPTION:Fabulous Women Late Breakfast at Clandon Wood Natural Buri
 al Ground\n\nHi, I'm Jill, the group leader for the Guildford Fabulous
  Women group. I look forward to welcoming you!\nHere are just a few re
 asons why coming to a Fabulous Women Netwinning meeting will be the be
 st business decision you ever made:\n\nMake new friends\nFind customer
 s, suppliers and collaborators\nBe inspired\nLearn new skills\n\n Our 
 Agenda is the best mix between formal and informal networking - perfec
 t for the new, as well as the more experienced networker  We have Insp
 iring speakers; a 'Hot Seat' or Mini-Coaching session; and 1-2-1's wit
 h a 'twist' where we all work out ways in which we can potentially col
 laborate or support each other, even if it's simply by following each 
 other on Twitter etc. \nOur speakers this month are Glenda Shawley, o
 ur fabulous marketing guru, with 'Wham! more effective business commu
 nications' and David Goodman with  \"Top 10 Public Speaking Tips\".
 \nYou have the chance to make a one-minute business pitch about who yo
 u are, what you do and who you do it for and how we can help you. (Do 
 not worry about this if you are a little nervous, you can type it out 
 and read it if you wish! We do not judge, we just want to help you)  W
 omen do business with men too, and Fabulous Women welcomes Marvellous 
 Men who are happy to network in our style. This means collaboration no
 t competition, and support not sell and we know that you are intereste
 d in both personal and business development  You don't need to be a me
 mber to attend a Fabulous Women Netwinning meeting. You can attend up 
 to three meetings as a guest  With all these benefits to being a part 
 of the Fabulous Women experience, how can you resist?! To attend, simp
 ly confirm your attendance by clicking on the blue \"Yes I'm Attending
 \" button on the right, so the venue can cater for you, then just pay 
 the attendance fee on arrival (cash only please!).  Remember to bring 
 your business cards and marketing material and, if you sell products, 
 bring some samples for us to see.  If you have any queries please emai
 l me on jillbennett80@gmail.com. I look forward to seeing you.\nCOST:
  £10 for Guests and FW members (cash only please, on the door!)\nBO
 OKING: Please CLICK HERE to visit our website then click on the pink
  \"Yes I'm Attending\" button at the bottom\nMAP\n(for sat-navs please
  use GU4 7TT)\n---------------------------------\nFind other local Fa
 bulous Women events here on Networking in Surrey...\n\nFor more infor
 mation visit https://networkinginsurrey.co.uk/events/fabulous-women-la
 te-breakfast-woking-837
DTSTART;TZID=Europe/London:20170418T100000
DTEND;TZID=Europe/London:20170418T120000
CATEGORIES:morning, guildford, netwinning, fabulous_women
LOCATION:Clandon Wood Natural Burial Ground GU4 7FN
WEBSITE:
URL:
CONTACT:
ORGANIZER;CN="Jill Bennett":https://networkinginsurrey.co.uk/profile/J
 illBennett
ATTACH;FMTTYPE="image/jpeg":http://storage.ning.com/topology/rest/1.0/
 file/get/1179757333?profile=original
ATTENDEE;ROLE=REQ-PARTICIPANT;PARTSTAT=ACCEPTED;RSVP=TRUE;CN="Jill Ben
 nett":https://networkinginsurrey.co.uk/profile/JillBennett
END:VEVENT
END:VCALENDAR
