BEGIN:VCALENDAR
PRODID:NingEventWidget-v1
VERSION:2.0
METHOD:PUBLISH
BEGIN:VTIMEZONE
TZID:Europe/London
X-LIC-LOCATION:Europe/London
BEGIN:DAYLIGHT
TZOFFSETFROM:+0000
TZOFFSETTO:+0100
TZNAME:BST
DTSTART:19700329T010000
RRULE:FREQ=YEARLY;BYMONTH=3;BYDAY=-1SU
END:DAYLIGHT
BEGIN:STANDARD
TZOFFSETFROM:+0100
TZOFFSETTO:+0000
TZNAME:GMT
DTSTART:19701025T020000
RRULE:FREQ=YEARLY;BYMONTH=10;BYDAY=-1SU
END:STANDARD
END:VTIMEZONE
BEGIN:VEVENT
UID:4626108:Event:101573
DTSTAMP:20260422T041525Z
SUMMARY:Fabulous Women Late Breakfast, Woking
DESCRIPTION:Fabulous Women Late Breakfast at The Inn at Maybury\n\nHel
 lo, I’m  Mike Black  the group leader for the Woking Fabulous W
 omen group and I would be delighted to welcome you to our next meetin
 g!\nIf you have been wondering what benefits you will receive from bei
 ng part of this fabulous organisation, here are just a few reasons why
  coming to a Fabulous Women Netwinning meeting will be the best busine
 ss decision you ever made:\n\nMake new friends\nFind customers, suppli
 ers and collaborators\nBe inspired\nLearn new skills\n\nOur Agenda is 
 the best mix between formal and informal networking - perfect for the 
 new, as well as more experienced networkers.\nWe have Inspiring speake
 rs; a 'Hot Seat' or Mini-Coaching session; and 1-2-1's with a 'twist' 
 where we all work out ways we can potentially collaborate or support e
 ach other, even if it's simply by following each other on Twitter etc.
 \nThis month our speaker is Kim Raine with '3 simple steps to be a mo
 re fabulous you'.\nYou have the chance to make a one-minute business p
 itch about who you are, what you do and who you do it for and how we c
 an help you. (If you are a little nervous, you can type it out and rea
 d it if you wish! We do not judge, we just want to help you).\nWomen d
 o business with men too, and Fabulous Women welcomes Marvellous Men wh
 o are happy to network in our style. This means collaboration not comp
 etition, and support not sell and we know that you are interested in b
 oth personal and business development.\nYou don't need to be a member 
 to attend a Fabulous Women Netwinning meeting. You can attend up to th
 ree meetings as a guest.\nWith all these benefits to being a part of t
 he Fabulous Women experience, how can you resist?! To attend, simply c
 onfirm your attendance by clicking on the blue \"Yes I'm Attending\" b
 utton on the right, so the venue can cater for you, then just pay the 
 attendance fee on arrival (cash only please!). \nRemember to bring yo
 ur business cards and marketing material and, if you sell products, br
 ing some samples for us to see.\nCOST: £10 for Guests and FW members
  (cash only please, on the door!)\nBOOKING: Please CLICK HERE to vis
 it our website then click on the pink \"Yes I'm Attending\" button at
  the bottom\nMAP\n---------------------------------\nFind other local
  Fabulous Women events here on Networking in Surrey...\n\n\nFor more 
 information visit https://networkinginsurrey.co.uk/events/fabulous-wom
 en-late-breakfast-woking-617
DTSTART;TZID=Europe/London:20181106T100000
DTEND;TZID=Europe/London:20181106T120000
CATEGORIES:fabulous_women, woking, late_breakfast
LOCATION:The Inn at Maybury GU22 8AB
WEBSITE:http://www.sandsatbleakhouse.co.uk/home.aspx
URL:http://www.sandsatbleakhouse.co.uk/home.aspx
CONTACT:07979 001769
ORGANIZER;CN="Mike Black":https://networkinginsurrey.co.uk/profile/Mik
 eBlack
ATTACH;FMTTYPE="image/jpeg":http://storage.ning.com/topology/rest/1.0/
 file/get/1179757333?profile=original
ATTENDEE;ROLE=REQ-PARTICIPANT;PARTSTAT=ACCEPTED;RSVP=TRUE;CN="Mike Bla
 ck":https://networkinginsurrey.co.uk/profile/MikeBlack
END:VEVENT
END:VCALENDAR
