BEGIN:VCALENDAR
PRODID:NingEventWidget-v1
VERSION:2.0
METHOD:PUBLISH
BEGIN:VTIMEZONE
TZID:Europe/London
X-LIC-LOCATION:Europe/London
BEGIN:DAYLIGHT
TZOFFSETFROM:+0000
TZOFFSETTO:+0100
TZNAME:BST
DTSTART:19700329T010000
RRULE:FREQ=YEARLY;BYMONTH=3;BYDAY=-1SU
END:DAYLIGHT
BEGIN:STANDARD
TZOFFSETFROM:+0100
TZOFFSETTO:+0000
TZNAME:GMT
DTSTART:19701025T020000
RRULE:FREQ=YEARLY;BYMONTH=10;BYDAY=-1SU
END:STANDARD
END:VTIMEZONE
BEGIN:VEVENT
UID:4626108:Event:95684
DTSTAMP:20260423T040527Z
SUMMARY:Fabulous Women Late Breakfast, Woking
DESCRIPTION:Fabulous Women Late Breakfast at Sands, Bleak House\r\n\r\
 nHello, I’m  Mike Black  the group leader for the Woking Fabulo
 us Women group and I would be delighted to welcome you to our next me
 eting!\r\nIf you have been wondering what benefits you will receive fr
 om being part of this fabulous organisation, here are just a few reaso
 ns why coming to a Fabulous Women Netwinning meeting will be the best 
 business decision you ever made:\r\n\r\nMake new friends\r\nFind custo
 mers, suppliers and collaborators\r\nBe inspired\r\nLearn new skills\r
 \n\r\nOur Agenda is the best mix between formal and informal networkin
 g - perfect for the new, as well as more experienced networkers.\r\nWe
  have Inspiring speakers; a 'Hot Seat' or Mini-Coaching session; and 1
 -2-1's with a 'twist' where we all work out ways we can potentially co
 llaborate or support each other, even if it's simply by following each
  other on Twitter etc. This month our speaker is Glenda Shawley whose 
 talk is entitled Three steps to an effective marketing plan.\r\nYou h
 ave the chance to make a one-minute business pitch about who you are, 
 what you do and who you do it for and how we can help you. (If you are
  a little nervous, you can type it out and read it if you wish! We do 
 not judge, we just want to help you).\r\nWomen do business with men to
 o, and Fabulous Women welcomes Marvellous Men who are happy to network
  in our style. This means collaboration not competition, and support n
 ot sell and we know that you are interested in both personal and busin
 ess development.\r\nYou don't need to be a member to attend a Fabulous
  Women Netwinning meeting. You can attend up to three meetings as a gu
 est.\r\nWith all these benefits to being a part of the Fabulous Women 
 experience, how can you resist?! To attend, simply confirm your attend
 ance by clicking on the blue \"Yes I'm Attending\" button on the right
 , so the venue can cater for you, then just pay the attendance fee on 
 arrival (cash only please!). \r\nRemember to bring your business card
 s and marketing material and, if you sell products, bring some samples
  for us to see.\r\nCOST: £10 for Guests and FW members (cash only p
 lease, on the door!)\r\nBOOKING: Please CLICK HERE to visit our websi
 te then click on the pink \"Yes I'm Attending\" button at the bottom\
 r\nMAP\r\n---------------------------------\r\nFind other local Fabul
 ous Women events here on Networking in Surrey...\r\n\n\nFor more info
 rmation visit https://networkinginsurrey.co.uk/events/fabulous-women-l
 ate-breakfast-woking-507
DTSTART;TZID=Europe/London:20180206T100000
DTEND;TZID=Europe/London:20180206T120000
CATEGORIES:fabulous_women, woking, late_breakfast
LOCATION:The Sands at Bleak House GU21 5NL
WEBSITE:http://www.sandsatbleakhouse.co.uk/home.aspx
URL:http://www.sandsatbleakhouse.co.uk/home.aspx
CONTACT:07979 001769
ORGANIZER;CN="Mike Black":https://networkinginsurrey.co.uk/profile/Mik
 eBlack
ATTACH;FMTTYPE="image/jpeg":http://storage.ning.com/topology/rest/1.0/
 file/get/1179757333?profile=original
ATTENDEE;ROLE=REQ-PARTICIPANT;PARTSTAT=ACCEPTED;RSVP=TRUE;CN="Mike Bla
 ck":https://networkinginsurrey.co.uk/profile/MikeBlack
END:VEVENT
END:VCALENDAR
