BEGIN:VCALENDAR
PRODID:NingEventWidget-v1
VERSION:2.0
METHOD:PUBLISH
BEGIN:VTIMEZONE
TZID:Europe/London
X-LIC-LOCATION:Europe/London
BEGIN:DAYLIGHT
TZOFFSETFROM:+0000
TZOFFSETTO:+0100
TZNAME:BST
DTSTART:19700329T010000
RRULE:FREQ=YEARLY;BYMONTH=3;BYDAY=-1SU
END:DAYLIGHT
BEGIN:STANDARD
TZOFFSETFROM:+0100
TZOFFSETTO:+0000
TZNAME:GMT
DTSTART:19701025T020000
RRULE:FREQ=YEARLY;BYMONTH=10;BYDAY=-1SU
END:STANDARD
END:VTIMEZONE
BEGIN:VEVENT
UID:4626108:Event:69437
DTSTAMP:20260421T210108Z
SUMMARY:Fabulous Women Late Breakfast, Woking
DESCRIPTION:Fabulous Women Late Breakfast at Sands at Bleak House\n\nH
 i, I'm Toni the Group Leader for the Woking Fabulous Women Group. I lo
 ok forward to welcoming you!\nMake new friends, find customers, suppli
 ers and collaborators. Be inspired. Learn new skills. These are just a
  few of the things you can expect from a Fabulous Women NetWinning mee
 ting.\nOur Agenda is the best mix between formal and informal networki
 ng which is perfect for both the new-at-networking and the more experi
 enced networker. Bring your business cards and marketing material and,
  if you sell products, please bring some examples for us to see. You'l
 l also have the chance to make a one minute business pitch (who you ar
 e, what you do and who you do it for and how we can help you) – type
  it out and read it if you are a little nervous. We do not judge, we j
 ust want to help you.\nWomen do business with men too, and Fabulous Wo
 men welcomes Marvellous Men who are happy to network in our style. Thi
 s means collaboration not competition, and support not sell and we kno
 w that you are interested in both personal and business development. S
 o why not come along and experience NetWinning the fabulous way?\nWe h
 ave inspiring speakers and a 'Hot Seat' or Mini-Coaching session. Also
 , if time permits, we like to organise 1-2-1's with a 'twist'! Not 10 
 minutes 'selling' at each other, but working out ways how you can pote
 ntially collaborate, support each other, or simply follow each other o
 n Twitter etc., or just find out what you have in common – This buil
 ds trust J\nOur speakers this month are Lorraine from Evolve and Alida
  Ballard of SAS - Getting the champagne flowing!\nYou do not need a me
 mbership to attend a Fabulous Women Netwinning meeting as you are very
  welcome to attend up to three meetings as a guest. Please confirm you
 r attendance by clicking on the blue \"Yes I'm Attending\" button on t
 he right, so the venue can cater for you and please pay the attendance
  fee on arrival - cash only please!\nPlease take care parking in Chisw
 ick, many of the meters are only 2 hours, the best place to park is pr
 obably behind Marks and Spencer where the meter is 4 hours or better s
 till come by public transport.\nI look forward to welcoming you and pl
 ease don't forget that strangers are just friends and colleagues that 
 you haven't met yet.\nObviously, please do not hesitate to contact me 
 if you have any queries or concerns toni@cxadvisory.org\nCOST: £15 f
 or Guests and £10 for FW members (cash only please!)\nBOOKING: Pleas
 e CLICK HERE to visit our website then click on the blue \"Yes I'm A
 ttending\" button on the right\nMAP\n\nFor more information visit http
 s://networkinginsurrey.co.uk/events/fabulous-women-late-breakfast-woki
 ng-28
DTSTART;TZID=Europe/London:20141202T093000
DTEND;TZID=Europe/London:20141202T113000
CATEGORIES:networking, fabulous-women, woking, morning
LOCATION:Sands at Bleak House
WEBSITE:http://www.fabulous-women.co.uk/meetings-events/viewevent/1419
 -woking?groupid=30
URL:http://www.fabulous-women.co.uk/meetings-events/viewevent/1419-wok
 ing?groupid=30
CONTACT:07768 197507
ORGANIZER:Toni Riding
ATTACH;FMTTYPE="image/jpeg":http://storage.ning.com/topology/rest/1.0/
 file/get/2591437964?profile=original
ATTENDEE;ROLE=REQ-PARTICIPANT;PARTSTAT=ACCEPTED;RSVP=TRUE;CN="Jane Har
 dy":https://networkinginsurrey.co.uk/profile/JaneHardy
END:VEVENT
END:VCALENDAR
