BEGIN:VCALENDAR
PRODID:NingEventWidget-v1
VERSION:2.0
METHOD:PUBLISH
BEGIN:VTIMEZONE
TZID:Europe/London
X-LIC-LOCATION:Europe/London
BEGIN:DAYLIGHT
TZOFFSETFROM:+0000
TZOFFSETTO:+0100
TZNAME:BST
DTSTART:19700329T010000
RRULE:FREQ=YEARLY;BYMONTH=3;BYDAY=-1SU
END:DAYLIGHT
BEGIN:STANDARD
TZOFFSETFROM:+0100
TZOFFSETTO:+0000
TZNAME:GMT
DTSTART:19701025T020000
RRULE:FREQ=YEARLY;BYMONTH=10;BYDAY=-1SU
END:STANDARD
END:VTIMEZONE
BEGIN:VEVENT
UID:4626108:Event:75401
DTSTAMP:20260426T044057Z
SUMMARY:Fabulous Women Late Breakfast, Woking
DESCRIPTION:Fabulous Women Late Breakfast at the Inn at Maybury\n\nHi
 , I'm Jill, the group leader for the Woking Fabulous Women group. I lo
 ok forward to welcoming you!\nIf you have been wondering what benefits
  you will receive from being part of this fabulous organisation, let m
 e share with you just a few reasons why coming to a Fabulous Women Net
 winning meeting will be the best business decision you ever made:\n\nM
 ake new friends\nFind customers, suppliers and collaborators\nBe inspi
 red\nLearn new skills\n\nOur Agenda is the best mix between formal and
  informal networking - perfect for the new, as well as the more experi
 enced networker.\nWe have Inspiring speakers; a 'Hot Seat' or Mini-Coa
 ching session; and 1-2-1's with a 'twist' where we all work out ways i
 n which we can potentially collaborate or support each other, even if 
 it's simply by following each other on Twitter etc. Our speaker this 
 month is Janet Alkema and if you are wanting some advice on your busi
 ness, you wll be in the right place. \nYou have the chance to make a 
 one-minute business pitch about who you are, what you do and who you d
 o it for and how we can help you. (Do not worry about this if you are 
 a little nervous, you can type it out and read it if you wish! We do n
 ot judge, we just want to help you).\nWomen do business with men too, 
 and Fabulous Women welcomes Marvellous Men who are happy to network in
  our style. This means collaboration not competition, and support not 
 sell and we know that you are interested in both personal and business
  development.\nYou don't need to be a member to attend a Fabulous Wome
 n Netwinning meeting. You can attend up to three meetings as a guest.\
 nWith all these benefits to being a part of the Fabulous Women experie
 nce, how can you resist?! To attend, simply confirm your attendance by
  clicking on the blue \"Yes I'm Attending\" button on the right, so th
 e venue can cater for you, then just pay the attendance fee on arrival
  (cash only please!). \nRemember to bring your business cards and mar
 keting material and, if you sell products, bring some samples for us t
 o see.  Feel free to contact me with any queries or for further inform
 ation jillbennett80@gmail.com\nCOST: £10 for Guests and FW members 
 (cash only please, on the door!)\nBOOKING: Please CLICK HERE to visit
  our website then click on the pink \"Yes I'm Attending\" button at t
 he bottom\nMAP\n---------------------------------\nFind other local F
 abulous Women events here on Networking in Surrey...\n\nFor more info
 rmation visit https://networkinginsurrey.co.uk/events/fabulous-women-l
 ate-breakfast-woking-106
DTSTART;TZID=Europe/London:20151103T100000
DTEND;TZID=Europe/London:20151103T120000
CATEGORIES:morning, woking, netwinning, fabulous_women
LOCATION:The Inn at Maybury
WEBSITE:http://fabulous-women.co.uk/event/detail_1769
URL:http://fabulous-women.co.uk/event/detail_1769
CONTACT:
ORGANIZER;CN="Jill Bennett":https://networkinginsurrey.co.uk/profile/J
 illBennett
ATTACH;FMTTYPE="image/jpeg":http://storage.ning.com/topology/rest/1.0/
 file/get/1179757333?profile=original
ATTENDEE;ROLE=REQ-PARTICIPANT;PARTSTAT=ACCEPTED;RSVP=TRUE;CN="Jill Ben
 nett":https://networkinginsurrey.co.uk/profile/JillBennett
END:VEVENT
END:VCALENDAR
