BEGIN:VCALENDAR
PRODID:NingEventWidget-v1
VERSION:2.0
METHOD:PUBLISH
BEGIN:VTIMEZONE
TZID:Europe/London
X-LIC-LOCATION:Europe/London
BEGIN:DAYLIGHT
TZOFFSETFROM:+0000
TZOFFSETTO:+0100
TZNAME:BST
DTSTART:19700329T010000
RRULE:FREQ=YEARLY;BYMONTH=3;BYDAY=-1SU
END:DAYLIGHT
BEGIN:STANDARD
TZOFFSETFROM:+0100
TZOFFSETTO:+0000
TZNAME:GMT
DTSTART:19701025T020000
RRULE:FREQ=YEARLY;BYMONTH=10;BYDAY=-1SU
END:STANDARD
END:VTIMEZONE
BEGIN:VEVENT
UID:4626108:Event:178327
DTSTAMP:20260422T025334Z
SUMMARY:Fabulous Women Late Breakfast, Wimbledon
DESCRIPTION:Fabulous Women Late Breakfast at the Fox & Grapes \r\n\r\n
 Hi, I'm Caroline, the group leader for the Wimbledon Fabulous Women gr
 oup. I look forward to welcoming you!\r\nIf you have been wondering wh
 at benefits you will receive from being part of this fabulous organisa
 tion, here are just a few reasons why coming to a Fabulous Women Netwi
 nning meeting will be the best business decision you ever made:\r\n\r\
 nMake new friends\r\nFind customers, suppliers and collaborators\r\nBe
  inspired\r\nLearn new skills\r\n\r\nOur Agenda is the best mix betwee
 n formal and informal networking - perfect for the new, as well as the
  more experienced networker.\r\nWe have Inspiring speakers; a 'Hot Sea
 t' or Mini-Coaching session; and 1-2-1's with a 'twist' where we all w
 ork out ways in which we can potentially collaborate or support each o
 ther, even if it's simply by following each other on Twitter etc. \r\
 nThis month our speaker is Mark Rouvray of Activ Web Design with 'Wha
 t's in a name?' Choosing a name for your business affects how you are
  perceived, your ability to distinguish from the competition and your 
 ability to attract interest.\r\nYou have the chance to make a one-minu
 te business pitch about who you are, what you do and who you do it for
  and how we can help you. (If you are a little nervous, you can type i
 t out and read it if you wish! We do not judge, we just want to help y
 ou).\r\nWomen do business with men too, and Fabulous Women welcomes Ma
 rvellous Men who are happy to network in our style. This means collabo
 ration not competition, and support not sell and we know that you are 
 interested in both personal and business development.\r\nYou don't nee
 d to be a member to attend a Fabulous Women Netwinning meeting. You ca
 n attend up to three meetings as a guest.\r\nWith all these benefits t
 o being a part of the Fabulous Women experience, how can you resist?! 
 To attend, simply confirm your attendance by clicking on the blue \"Ye
 s I'm Attending\" button on the right, so the venue can cater for you,
  then just pay the attendance fee on arrival (cash only please!). \r\
 nRemember to bring your business cards and marketing material and, if 
 you sell products, bring some samples for us to see. \r\nFeel free to
  contact me with any queries or for further information caroline.ewans
 @zoho.com\r\nCOST: £10 for Guests and FW members (cash only please,
  on the door!)\r\nBOOKING: Please CLICK HERE to visit our website the
 n click on the pink \"Yes I'm Attending\" button at the bottom\r\nMAP
  \r\n---------------------------------\r\nFind other local Fabulous W
 omen events here on Networking in Surrey...\n\nFor more information v
 isit https://networkinginsurrey.co.uk/events/fabulous-women-late-break
 fast-wimbledon-949
DTSTART;TZID=Europe/London:20190801T100000
DTEND;TZID=Europe/London:20190801T120000
CATEGORIES:morning, wimbledon, netwinning, fabulous_women
LOCATION:Fox and Grapes SW19 4UN
WEBSITE:http://fabulous-women.co.uk/eventdetails
URL:http://fabulous-women.co.uk/eventdetails
CONTACT:
ORGANIZER;CN="Caroline Ewans":https://networkinginsurrey.co.uk/profile
 /CarolineEwans
ATTACH;FMTTYPE="image/jpeg":https://storage.ning.com/topology/rest/1.0
 /file/get/1179757333?profile=original
ATTENDEE;ROLE=REQ-PARTICIPANT;PARTSTAT=ACCEPTED;RSVP=TRUE;CN="Caroline
  Ewans":https://networkinginsurrey.co.uk/profile/CarolineEwans
END:VEVENT
END:VCALENDAR
