BEGIN:VCALENDAR
PRODID:NingEventWidget-v1
VERSION:2.0
METHOD:PUBLISH
BEGIN:VTIMEZONE
TZID:Europe/London
X-LIC-LOCATION:Europe/London
BEGIN:DAYLIGHT
TZOFFSETFROM:+0000
TZOFFSETTO:+0100
TZNAME:BST
DTSTART:19700329T010000
RRULE:FREQ=YEARLY;BYMONTH=3;BYDAY=-1SU
END:DAYLIGHT
BEGIN:STANDARD
TZOFFSETFROM:+0100
TZOFFSETTO:+0000
TZNAME:GMT
DTSTART:19701025T020000
RRULE:FREQ=YEARLY;BYMONTH=10;BYDAY=-1SU
END:STANDARD
END:VTIMEZONE
BEGIN:VEVENT
UID:4626108:Event:221019
DTSTAMP:20260422T025354Z
SUMMARY:Fabulous Women Late Breakfast, Wimbledon
DESCRIPTION:Fabulous Women Late Breakfast at the Fox & Grapes \r\n\r\n
 Hi, I'm Caroline, the group leader for the Wimbledon Fabulous Women gr
 oup. I look forward to welcoming you!\r\nIf you have been wondering wh
 at benefits you will receive from being part of this fabulous organisa
 tion, here are just a few reasons why coming to a Fabulous Women Netwi
 nning meeting will be the best business decision you ever made:\r\n\r\
 nMake new friends\r\nFind customers, suppliers and collaborators\r\nBe
  inspired\r\nLearn new skills\r\n\r\nOur Agenda is the best mix betwee
 n formal and informal networking - perfect for the new, as well as the
  more experienced networker.\r\nWe have Inspiring speakers; a 'Hot Sea
 t' or Mini-Coaching session; and 1-2-1's with a 'twist' where we all w
 ork out ways in which we can potentially collaborate or support each o
 ther, even if it's simply by following each other on Twitter etc. \r\
 nThis month's speaker is Mandy Dineley.\r\nYou have the chance to make
  a one-minute business pitch about who you are, what you do and who yo
 u do it for and how we can help you. (If you are a little nervous, you
  can type it out and read it if you wish! We do not judge, we just wan
 t to help you).\r\nWomen do business with men too, and Fabulous Women 
 welcomes Marvellous Men who are happy to network in our style. This me
 ans collaboration not competition, and support not sell and we know th
 at you are interested in both personal and business development.\r\nYo
 u don't need to be a member to attend a Fabulous Women Netwinning meet
 ing. You can attend up to three meetings as a guest.\r\nWith all these
  benefits to being a part of the Fabulous Women experience, how can yo
 u resist?! To attend, simply confirm your attendance by clicking on th
 e blue \"Yes I'm Attending\" button on the right, so the venue can cat
 er for you, then just pay the attendance fee on arrival (cash only ple
 ase!). \r\nRemember to bring your business cards and marketing materi
 al and, if you sell products, bring some samples for us to see. \r\nF
 eel free to contact me with any queries or for further information car
 oline.ewans@zoho.com\r\nCOST: £10 for Guests and FW members (cash o
 nly please, on the door!)\r\nBOOKING: Please CLICK HERE to visit our 
 website then click on the pink \"Yes I'm Attending\" button at the bo
 ttom\r\nMAP \r\n---------------------------------\r\nFind other local
  Fabulous Women events here on Networking in Surrey...\n\nFor more in
 formation visit https://networkinginsurrey.co.uk/events/fabulous-women
 -late-breakfast-wimbledon-617
DTSTART;TZID=Europe/London:20191003T100000
DTEND;TZID=Europe/London:20191003T120000
CATEGORIES:morning, wimbledon, netwinning, fabulous_women
LOCATION:Fox and Grapes SW19 4UN
WEBSITE:http://fabulous-women.co.uk/eventdetails
URL:http://fabulous-women.co.uk/eventdetails
CONTACT:
ORGANIZER;CN="Caroline Ewans":https://networkinginsurrey.co.uk/profile
 /CarolineEwans
ATTACH;FMTTYPE="image/jpeg":https://storage.ning.com/topology/rest/1.0
 /file/get/1179757333?profile=original
ATTENDEE;ROLE=REQ-PARTICIPANT;PARTSTAT=ACCEPTED;RSVP=TRUE;CN="Caroline
  Ewans":https://networkinginsurrey.co.uk/profile/CarolineEwans
END:VEVENT
END:VCALENDAR
