BEGIN:VCALENDAR
PRODID:NingEventWidget-v1
VERSION:2.0
METHOD:PUBLISH
BEGIN:VTIMEZONE
TZID:Europe/London
X-LIC-LOCATION:Europe/London
BEGIN:DAYLIGHT
TZOFFSETFROM:+0000
TZOFFSETTO:+0100
TZNAME:BST
DTSTART:19700329T010000
RRULE:FREQ=YEARLY;BYMONTH=3;BYDAY=-1SU
END:DAYLIGHT
BEGIN:STANDARD
TZOFFSETFROM:+0100
TZOFFSETTO:+0000
TZNAME:GMT
DTSTART:19701025T020000
RRULE:FREQ=YEARLY;BYMONTH=10;BYDAY=-1SU
END:STANDARD
END:VTIMEZONE
BEGIN:VEVENT
UID:4626108:Event:101535
DTSTAMP:20260422T000258Z
SUMMARY:Fabulous Women Late Breakfast, Wimbledon
DESCRIPTION:Fabulous Women Late Breakfast at the Fox & Grapes\n\nHi, I
 'm Caroline, the group leader for the Wimbledon Fabulous Women group. 
 I look forward to welcoming you!\nIf you have been wondering what bene
 fits you will receive from being part of this fabulous organisation, h
 ere are just a few reasons why coming to a Fabulous Women Netwinning m
 eeting will be the best business decision you ever made:\n\nMake new f
 riends\nFind customers, suppliers and collaborators\nBe inspired\nLear
 n new skills\n\nOur Agenda is the best mix between formal and informal
  networking - perfect for the new, as well as the more experienced net
 worker.\nWe have Inspiring speakers; a 'Hot Seat' or Mini-Coaching ses
 sion; and 1-2-1's with a 'twist' where we all work out ways in which w
 e can potentially collaborate or support each other, even if it's simp
 ly by following each other on Twitter etc. This month our speaker is L
 iz Morgan with 'What is marketing?'\nYou have the chance to make a one
 -minute business pitch about who you are, what you do and who you do i
 t for and how we can help you. (If you are a little nervous, you can t
 ype it out and read it if you wish! We do not judge, we just want to h
 elp you).\nWomen do business with men too, and Fabulous Women welcomes
  Marvellous Men who are happy to network in our style. This means coll
 aboration not competition, and support not sell and we know that you a
 re interested in both personal and business development.\nYou don't ne
 ed to be a member to attend a Fabulous Women Netwinning meeting. You c
 an attend up to three meetings as a guest.\nWith all these benefits to
  being a part of the Fabulous Women experience, how can you resist?! T
 o attend, simply confirm your attendance by clicking on the blue \"Yes
  I'm Attending\" button on the right, so the venue can cater for you, 
 then just pay the attendance fee on arrival (cash only please!). \nRe
 member to bring your business cards and marketing material and, if you
  sell products, bring some samples for us to see.  Feel free to contac
 t me with any queries or for further information caroline.ewans@zoho.c
 om\nCOST: £10 for Guests and FW members (cash only please, on the d
 oor!)\nBOOKING: Please CLICK HERE to visit our website then click on
  the pink \"Yes I'm Attending\" button at the bottom\nMAP\n-----------
 ----------------------\nFind other local Fabulous Women events here 
 on Networking in Surrey...\n\nFor more information visit https://netwo
 rkinginsurrey.co.uk/events/fabulous-women-late-breakfast-wimbledon-414
DTSTART;TZID=Europe/London:20181101T100000
DTEND;TZID=Europe/London:20181101T120000
CATEGORIES:morning, wimbledon, netwinning, fabulous_women
LOCATION:Fox and Grapes SW19 4UN
WEBSITE:http://fabulous-women.co.uk/eventdetails
URL:http://fabulous-women.co.uk/eventdetails
CONTACT:
ORGANIZER;CN="Caroline Ewans":https://networkinginsurrey.co.uk/profile
 /CarolineEwans
ATTACH;FMTTYPE="image/jpeg":http://storage.ning.com/topology/rest/1.0/
 file/get/1179757333?profile=original
ATTENDEE;ROLE=REQ-PARTICIPANT;PARTSTAT=ACCEPTED;RSVP=TRUE;CN="Caroline
  Ewans":https://networkinginsurrey.co.uk/profile/CarolineEwans
END:VEVENT
END:VCALENDAR
