BEGIN:VCALENDAR
PRODID:NingEventWidget-v1
VERSION:2.0
METHOD:PUBLISH
BEGIN:VTIMEZONE
TZID:Europe/London
X-LIC-LOCATION:Europe/London
BEGIN:DAYLIGHT
TZOFFSETFROM:+0000
TZOFFSETTO:+0100
TZNAME:BST
DTSTART:19700329T010000
RRULE:FREQ=YEARLY;BYMONTH=3;BYDAY=-1SU
END:DAYLIGHT
BEGIN:STANDARD
TZOFFSETFROM:+0100
TZOFFSETTO:+0000
TZNAME:GMT
DTSTART:19701025T020000
RRULE:FREQ=YEARLY;BYMONTH=10;BYDAY=-1SU
END:STANDARD
END:VTIMEZONE
BEGIN:VEVENT
UID:4626108:Event:75406
DTSTAMP:20260425T220055Z
SUMMARY:Fabulous Women Late Breakfast, Wimbledon
DESCRIPTION:Fabulous Women Late Breakfast at the Fox & Grapes\n\nHi, I
 'm Caroline, the group leader for the Wimbledon Fabulous Women group. 
 I look forward to welcoming you!\nIf you have been wondering what bene
 fits you will receive from being part of this fabulous organisation, l
 et me share with you just a few reasons why coming to a Fabulous Women
  Netwinning meeting will be the best business decision you ever made:\
 n\nMake new friends\nFind customers, suppliers and collaborators\nBe i
 nspired\nLearn new skills\n\nOur Agenda is the best mix between formal
  and informal networking - perfect for the new, as well as the more ex
 perienced networker.\nWe have Inspiring speakers; a 'Hot Seat' or Mini
 -Coaching session; and 1-2-1's with a 'twist' where we all work out wa
 ys in which we can potentially collaborate or support each other, even
  if it's simply by following each other on Twitter etc. Our speaker t
 his month is Anna Florio of the Wise Woman Program telling us about
  \"The long terms effects of my first act of gratitude and how it is s
 till working 32 years later\". \nYou have the chance to make a one-mi
 nute business pitch about who you are, what you do and who you do it f
 or and how we can help you. (Do not worry about this if you are a litt
 le nervous, you can type it out and read it if you wish! We do not jud
 ge, we just want to help you).\nWomen do business with men too, and Fa
 bulous Women welcomes Marvellous Men who are happy to network in our s
 tyle. This means collaboration not competition, and support not sell a
 nd we know that you are interested in both personal and business devel
 opment.\nYou don't need to be a member to attend a Fabulous Women Netw
 inning meeting. You can attend up to three meetings as a guest.\nWith 
 all these benefits to being a part of the Fabulous Women experience, h
 ow can you resist?! To attend, simply confirm your attendance by click
 ing on the blue \"Yes I'm Attending\" button on the right, so the venu
 e can cater for you, then just pay the attendance fee on arrival (cash
  only please!). \nRemember to bring your business cards and marketing
  material and, if you sell products, bring some samples for us to see.
   Feel free to contact me with any queries or for further information 
 caroline.ewans@zoho.com\nCOST: £10 for Guests and FW members (cash 
 only please, on the door!)\nBOOKING: Please CLICK HERE to visit our w
 ebsite then click on the pink \"Yes I'm Attending\" button at the bot
 tom\nMAP\n---------------------------------\nFind other local Fabulou
 s Women events here on Networking in Surrey...\n\nFor more informatio
 n visit https://networkinginsurrey.co.uk/events/fabulous-women-late-br
 eakfast-wimbledon-3
DTSTART;TZID=Europe/London:20151203T100000
DTEND;TZID=Europe/London:20151203T120000
CATEGORIES:morning, wimbledon, netwinning, fabulous_women
LOCATION:Fox & Grapes SW19 4UN
WEBSITE:http://fabulous-women.co.uk/eventdetails
URL:http://fabulous-women.co.uk/eventdetails
CONTACT:
ORGANIZER;CN="Caroline Ewans":https://networkinginsurrey.co.uk/profile
 /CarolineEwans
ATTACH;FMTTYPE="image/jpeg":http://storage.ning.com/topology/rest/1.0/
 file/get/1179757333?profile=original
ATTENDEE;ROLE=REQ-PARTICIPANT;PARTSTAT=ACCEPTED;RSVP=TRUE;CN="Caroline
  Ewans":https://networkinginsurrey.co.uk/profile/CarolineEwans
END:VEVENT
END:VCALENDAR
