BEGIN:VCALENDAR
PRODID:NingEventWidget-v1
VERSION:2.0
METHOD:PUBLISH
BEGIN:VTIMEZONE
TZID:Europe/London
X-LIC-LOCATION:Europe/London
BEGIN:DAYLIGHT
TZOFFSETFROM:+0000
TZOFFSETTO:+0100
TZNAME:BST
DTSTART:19700329T010000
RRULE:FREQ=YEARLY;BYMONTH=3;BYDAY=-1SU
END:DAYLIGHT
BEGIN:STANDARD
TZOFFSETFROM:+0100
TZOFFSETTO:+0000
TZNAME:GMT
DTSTART:19701025T020000
RRULE:FREQ=YEARLY;BYMONTH=10;BYDAY=-1SU
END:STANDARD
END:VTIMEZONE
BEGIN:VEVENT
UID:4626108:Event:95764
DTSTAMP:20260423T040558Z
SUMMARY:Fabulous Women Late Breakfast, Wimbledon
DESCRIPTION:Fabulous Women Late Breakfast at the Fox & Grapes\n\nHi, I
 'm Caroline, the group leader for the Wimbledon Fabulous Women group. 
 I look forward to welcoming you!\nIf you have been wondering what bene
 fits you will receive from being part of this fabulous organisation, h
 ere are just a few reasons why coming to a Fabulous Women Netwinning m
 eeting will be the best business decision you ever made:\n\nMake new f
 riends\nFind customers, suppliers and collaborators\nBe inspired\nLear
 n new skills\n\nOur Agenda is the best mix between formal and informal
  networking - perfect for the new, as well as the more experienced net
 worker.\nWe have Inspiring speakers; a 'Hot Seat' or Mini-Coaching ses
 sion; and 1-2-1's with a 'twist' where we all work out ways in which w
 e can potentially collaborate or support each other, even if it's simp
 ly by following each other on Twitter etc. This month our speaker is A
 nne McAllister whose talk is entitled - 'Getting to yes - how mediatio
 n can help facilitate agreement'.\nYou have the chance to make a one-m
 inute business pitch about who you are, what you do and who you do it 
 for and how we can help you. (If you are a little nervous, you can typ
 e it out and read it if you wish! We do not judge, we just want to hel
 p you).\nWomen do business with men too, and Fabulous Women welcomes M
 arvellous Men who are happy to network in our style. This means collab
 oration not competition, and support not sell and we know that you are
  interested in both personal and business development.\nYou don't need
  to be a member to attend a Fabulous Women Netwinning meeting. You can
  attend up to three meetings as a guest.\nWith all these benefits to b
 eing a part of the Fabulous Women experience, how can you resist?! To 
 attend, simply confirm your attendance by clicking on the blue \"Yes I
 'm Attending\" button on the right, so the venue can cater for you, th
 en just pay the attendance fee on arrival (cash only please!). \nReme
 mber to bring your business cards and marketing material and, if you s
 ell products, bring some samples for us to see.  Feel free to contact 
 me with any queries or for further information caroline.ewans@zoho.com
 \nCOST: £10 for Guests and FW members (cash only please, on the doo
 r!)\nBOOKING: Please CLICK HERE to visit our website then click on t
 he pink \"Yes I'm Attending\" button at the bottom\nMAP\n-------------
 --------------------\nFind other local Fabulous Women events here on
  Networking in Surrey...\n\nFor more information visit https://network
 inginsurrey.co.uk/events/fabulous-women-late-breakfast-wimbledon-29
DTSTART;TZID=Europe/London:20180201T100000
DTEND;TZID=Europe/London:20180201T120000
CATEGORIES:morning, wimbledon, netwinning, fabulous_women
LOCATION:Fox and Grapes SW19 4UN
WEBSITE:http://fabulous-women.co.uk/eventdetails
URL:http://fabulous-women.co.uk/eventdetails
CONTACT:
ORGANIZER;CN="Caroline Ewans":https://networkinginsurrey.co.uk/profile
 /CarolineEwans
ATTACH;FMTTYPE="image/jpeg":http://storage.ning.com/topology/rest/1.0/
 file/get/1179757333?profile=original
ATTENDEE;ROLE=REQ-PARTICIPANT;PARTSTAT=ACCEPTED;RSVP=TRUE;CN="Caroline
  Ewans":https://networkinginsurrey.co.uk/profile/CarolineEwans
END:VEVENT
END:VCALENDAR
