BEGIN:VCALENDAR
PRODID:NingEventWidget-v1
VERSION:2.0
METHOD:PUBLISH
BEGIN:VTIMEZONE
TZID:Europe/London
X-LIC-LOCATION:Europe/London
BEGIN:DAYLIGHT
TZOFFSETFROM:+0000
TZOFFSETTO:+0100
TZNAME:BST
DTSTART:19700329T010000
RRULE:FREQ=YEARLY;BYMONTH=3;BYDAY=-1SU
END:DAYLIGHT
BEGIN:STANDARD
TZOFFSETFROM:+0100
TZOFFSETTO:+0000
TZNAME:GMT
DTSTART:19701025T020000
RRULE:FREQ=YEARLY;BYMONTH=10;BYDAY=-1SU
END:STANDARD
END:VTIMEZONE
BEGIN:VEVENT
UID:4626108:Event:98220
DTSTAMP:20260423T042710Z
SUMMARY:Fabulous Women Late Breakfast, Weybridge
DESCRIPTION:Fabulous Women Late Breakfast at The Hand and Spear\n\nHi
 , I'm Jo, the group leader for the Walton/Weybridge Fabulous Women gr
 oup. I look forward to welcoming you!\nIf you have been wondering what
  benefits you will receive from being part of this fabulous organisati
 on, let me share with you just a few reasons why coming to a Fabulous
  Women Netwinning meeting will be the best business decision you ever
  made:\n\nMake new friends\nFind customers, suppliers and collaborator
 s\nBe inspired\nLearn new skills\n\nOur Agenda is the best mix between
  formal and informal networking - perfect for the new, as well as the 
 more experienced networker.\nWe have Inspiring speakers; a 'Hot Seat' 
 or Mini-Coaching session; and 1-2-1's with a 'twist' where we all work
  out ways in which we can potentially collaborate or support each othe
 r, even if it's simply by following each other on Twitter etc. This mo
 nth our speaker is Jacqui McGinn whose talk is entitled \"Drama or Em
 powerment? You choose\" \nYou have the chance to make a one-minute bu
 siness pitch about who you are, what you do and who you do it for and
  how we can help you. (Do not worry about this if you are a little ner
 vous, you can type it out and read it if you wish! We do not judge, we
  just want to help you).\nWomen do business with men too, and Fabulous
  Women welcomes Marvellous Men who are happy to network in our style. 
 This means collaboration not competition, and support not sell and we 
 know that you are interested in both personal and business development
 .\nYou don't need to be a member to attend a Fabulous Women Netwinnin
 g meeting. You can attend up to three meetings as a guest\nWith all th
 ese benefits to being a part of the Fabulous Women experience, how can
  you resist?! \nRemember to bring your business cards and marketing m
 aterial and, if you sell products, bring some samples for us to see.\n
 COST: £10 for Guests and FW Members (cash only please, on arrival
 !)\nBOOKING: Please CLICK HERE to visit our website then click on 
 the pink \"I'm Attending\" button at the bottom of the detailed event 
 listing to register\nMAP\nAmple free parking\n------------------------
 ---------\nFind other local Fabulous Women events here on Networking
  in Surrey...\n\n\nFor more information visit https://networkinginsurr
 ey.co.uk/events/fabulous-women-late-breakfast-weybridge
DTSTART;TZID=Europe/London:20180511T093000
DTEND;TZID=Europe/London:20180511T113000
CATEGORIES:fabulous_women, walton, weybridge, morning, breakfast
LOCATION:The Hand and Spear KT13 8TX
WEBSITE:
URL:
CONTACT:07930 414525
ORGANIZER;CN="Joanna Bristow-Watkins":https://networkinginsurrey.co.uk
 /profile/JoannaBristowWatkins
ATTACH;FMTTYPE="image/jpeg":http://storage.ning.com/topology/rest/1.0/
 file/get/1179757333?profile=original
ATTENDEE;ROLE=REQ-PARTICIPANT;PARTSTAT=ACCEPTED;RSVP=TRUE;CN="Joanna B
 ristow-Watkins":https://networkinginsurrey.co.uk/profile/JoannaBristow
 Watkins
END:VEVENT
END:VCALENDAR
