BEGIN:VCALENDAR
PRODID:NingEventWidget-v1
VERSION:2.0
METHOD:PUBLISH
BEGIN:VTIMEZONE
TZID:Europe/London
X-LIC-LOCATION:Europe/London
BEGIN:DAYLIGHT
TZOFFSETFROM:+0000
TZOFFSETTO:+0100
TZNAME:BST
DTSTART:19700329T010000
RRULE:FREQ=YEARLY;BYMONTH=3;BYDAY=-1SU
END:DAYLIGHT
BEGIN:STANDARD
TZOFFSETFROM:+0100
TZOFFSETTO:+0000
TZNAME:GMT
DTSTART:19701025T020000
RRULE:FREQ=YEARLY;BYMONTH=10;BYDAY=-1SU
END:STANDARD
END:VTIMEZONE
BEGIN:VEVENT
UID:4626108:Event:103941
DTSTAMP:20260424T010510Z
SUMMARY:Fabulous Women Late Breakfast, Weybridge
DESCRIPTION:Fabulous Women Late Breakfast at The Hand and Spear\r\n\r
 \nHi, I'm Clare O'Callaghan, the group leader for the Walton/Weybridg
 e Fabulous Women group. I look forward to welcoming you!\r\n\r\nIf you
  have been wondering what benefits you will receive from being part of
  this fabulous organisation, let me share with you just a few reasons 
 why coming to a Fabulous Women Netwinning meeting will be the best b
 usiness decision you ever made:\r\n\r\nMake new friends\r\nFind custom
 ers, suppliers and collaborators\r\nBe inspired\r\nLearn new skills\r\
 n\r\nOur Agenda is the best mix between formal and informal networking
  - perfect for the new, as well as the more experienced networker.\r\n
 We have Inspiring speakers; a 'Hot Seat' or Mini-Coaching session; and
  1-2-1's with a 'twist' where we all work out ways in which we can pot
 entially collaborate or support each other, even if it's simply by fol
 lowing each other on Twitter etc. This month's speaker will be announc
 ed shortly...\r\nYou have the chance to make a one-minute business pit
 ch about who you are, what you do and who you do it for and how we ca
 n help you. (Do not worry about this if you are a little nervous, you 
 can type it out and read it if you wish! We do not judge, we just want
  to help you).\r\nWomen do business with men too, and Fabulous Women w
 elcomes Marvellous Men who are happy to network in our style. This mea
 ns collaboration not competition, and support not sell and we know tha
 t you are interested in both personal and business development.\r\nYou
  don't need to be a member to attend a Fabulous Women Netwinning meet
 ing. You can attend up to three meetings as a guest\r\nWith all these 
 benefits to being a part of the Fabulous Women experience, how can you
  resist?!  \r\nRemember to bring your business cards and marketing ma
 terial and, if you sell products, bring some samples for us to see.\r\
 nCOST: £10 for Guests and FW Members (cash only please, on arriva
 l!)\r\nBOOKING: Please CLICK HERE to visit our website then click 
 on the pink \"I'm Attending\" button at the bottom of the detailed eve
 nt listing to register\r\nMAP\r\nAmple free parking\r\n---------------
 ------------------\r\nFind other local Fabulous Women events here on
  Networking in Surrey...\r\n\n\nFor more information visit https://net
 workinginsurrey.co.uk/events/fabulous-women-late-breakfast-weybridge-8
DTSTART;TZID=Europe/London:20190308T093000
DTEND;TZID=Europe/London:20190308T113000
CATEGORIES:fabulous_women, walton, weybridge, morning, breakfast
LOCATION:The Hand and Spear KT13 8TX
WEBSITE:
URL:
CONTACT:07930 414525
ORGANIZER:Clare O'Callaghan
ATTACH;FMTTYPE="image/jpeg":https://storage.ning.com/topology/rest/1.0
 /file/get/253793534?profile=original
ATTENDEE;ROLE=REQ-PARTICIPANT;PARTSTAT=ACCEPTED;RSVP=TRUE;CN="Keith Gr
 over, NiS Founder":https://networkinginsurrey.co.uk/profile/KeithGrove
 r
END:VEVENT
END:VCALENDAR
