BEGIN:VCALENDAR
PRODID:NingEventWidget-v1
VERSION:2.0
METHOD:PUBLISH
BEGIN:VTIMEZONE
TZID:Europe/London
X-LIC-LOCATION:Europe/London
BEGIN:DAYLIGHT
TZOFFSETFROM:+0000
TZOFFSETTO:+0100
TZNAME:BST
DTSTART:19700329T010000
RRULE:FREQ=YEARLY;BYMONTH=3;BYDAY=-1SU
END:DAYLIGHT
BEGIN:STANDARD
TZOFFSETFROM:+0100
TZOFFSETTO:+0000
TZNAME:GMT
DTSTART:19701025T020000
RRULE:FREQ=YEARLY;BYMONTH=10;BYDAY=-1SU
END:STANDARD
END:VTIMEZONE
BEGIN:VEVENT
UID:4626108:Event:302093
DTSTAMP:20260422T223229Z
SUMMARY:Fabulous Women Late Breakfast, Weybridge
DESCRIPTION:Fabulous Women Late Breakfast at the Hand and Spear\n\n\nT
 he meeting is a balanced mix of informal and structured business netwo
 rking that gives you plenty of opportunity to meet people and promote 
 your business.\nOur agenda typically includes:\n\nInformal networking\
 nA networking tip\nA business card shuffle\nA one minute introduction 
 round, we donâ€™t mind if you want to read your prepared script\nSpeak
 er\nBusiness development slot\n\nThis month's speaker will be confirme
 d shortly...\nIt really helps if you can book so please click on the l
 ink before (and if you are a member please remember to login first so 
 you donâ€™t have to retype all your details). Remember to bring plenty
  of business cards and marketing material and your Â£10 meeting fee. V
 isitors are welcome to attend two Fabulous Women and Marvellous Men me
 etings before joining.\nWe look forward to meeting you.\nCOST:Â Â£10Â 
 for Guests andÂ FW MembersÂ (cash only please, on arrival!)\nBOOKING:Â
  PleaseÂ CLICK HEREÂ to visit our website thenÂ click on the pink \"I'
 m Attending\" button at the bottom of the detailed event listing to re
 gister\nMAP\nAmple free parking\n---------------------------------\nFi
 nd otherÂ local Fabulous Women events hereÂ on Networking in Surrey...
 \n\nFor more information visit https://networkinginsurrey.co.uk/events
 /fabulous-women-late-breakfast-weybridge-21
DTSTART;TZID=Europe/London:20200214T100000
DTEND;TZID=Europe/London:20200214T120000
CATEGORIES:late_breakfast, weybridge, fabulous_networking
LOCATION:The Hand and Spear KT13 8TX
WEBSITE:
URL:
CONTACT:
ORGANIZER;CN="Clare O'Callaghan":https://networkinginsurrey.co.uk/prof
 ile/ClareOCallaghan
ATTACH;FMTTYPE="image/jpeg":https://storage.ning.com/topology/rest/1.0
 /file/get/1179757333?profile=original
ATTENDEE;ROLE=REQ-PARTICIPANT;PARTSTAT=ACCEPTED;RSVP=TRUE;CN="Clare O'
 Callaghan":https://networkinginsurrey.co.uk/profile/ClareOCallaghan
END:VEVENT
END:VCALENDAR
