BEGIN:VCALENDAR
PRODID:NingEventWidget-v1
VERSION:2.0
METHOD:PUBLISH
BEGIN:VTIMEZONE
TZID:Europe/London
X-LIC-LOCATION:Europe/London
BEGIN:DAYLIGHT
TZOFFSETFROM:+0000
TZOFFSETTO:+0100
TZNAME:BST
DTSTART:19700329T010000
RRULE:FREQ=YEARLY;BYMONTH=3;BYDAY=-1SU
END:DAYLIGHT
BEGIN:STANDARD
TZOFFSETFROM:+0100
TZOFFSETTO:+0000
TZNAME:GMT
DTSTART:19701025T020000
RRULE:FREQ=YEARLY;BYMONTH=10;BYDAY=-1SU
END:STANDARD
END:VTIMEZONE
BEGIN:VEVENT
UID:4626108:Event:280106
DTSTAMP:20260422T114826Z
SUMMARY:CANCELLED: Fabulous Women Late Breakfast, Weybridge
DESCRIPTION:Event Cancelled - Fabulous Women Late Breakfast at the Han
 d and Spear\r\n\r\nWith apologies for the short notice...\r\nWe are so
 rry that this event is cancelled. \r\n\r\nWe'll be back on February 14
 th.\r\n\r\n \r\nThe meeting is a balanced mix of informal and structu
 red business networking that gives you plenty of opportunity to meet p
 eople and promote your business.\r\nOur agenda typically includes:\r\n
 \r\nInformal networking\r\nA networking tip\r\nA business card shuffle
 \r\nA one minute introduction round, we don’t mind if you want to re
 ad your prepared script\r\nSpeaker\r\nBusiness development slot\r\n\r\
 nThis month's speaker will be confirmed shortly...\r\nIt really helps 
 if you can book so please click on the link before (and if you are a m
 ember please remember to login first so you don’t have to retype all
  your details). Remember to bring plenty of business cards and marketi
 ng material and your £10 meeting fee. Visitors are welcome to attend 
 two Fabulous Women and Marvellous Men meetings before joining.\r\nWe l
 ook forward to meeting you.\r\nCOST: £10 for Guests and FW Members
  (cash only please, on arrival!)\r\nBOOKING: Please CLICK HERE to 
 visit our website then click on the pink \"I'm Attending\" button at 
 the bottom of the detailed event listing to register\r\nMAP\r\nAmple f
 ree parking\r\n---------------------------------\r\nFind other local 
 Fabulous Women events here on Networking in Surrey...\n\nFor more inf
 ormation visit https://networkinginsurrey.co.uk/events/fabulous-women-
 late-breakfast-weybridge-19
DTSTART;TZID=Europe/London:20200110T100000
DTEND;TZID=Europe/London:20200110T120000
CATEGORIES:late_breakfast, weybridge, fabulous_networking
LOCATION:The Hand and Spear KT13 8TX
WEBSITE:
URL:
CONTACT:
ORGANIZER;CN="Clare O'Callaghan":https://networkinginsurrey.co.uk/prof
 ile/ClareOCallaghan
ATTACH;FMTTYPE="image/jpeg":https://storage.ning.com/topology/rest/1.0
 /file/get/1179757333?profile=original
ATTENDEE;ROLE=REQ-PARTICIPANT;PARTSTAT=ACCEPTED;RSVP=TRUE;CN="Clare O'
 Callaghan":https://networkinginsurrey.co.uk/profile/ClareOCallaghan
END:VEVENT
END:VCALENDAR
