BEGIN:VCALENDAR
PRODID:NingEventWidget-v1
VERSION:2.0
METHOD:PUBLISH
BEGIN:VTIMEZONE
TZID:Europe/London
X-LIC-LOCATION:Europe/London
BEGIN:DAYLIGHT
TZOFFSETFROM:+0000
TZOFFSETTO:+0100
TZNAME:BST
DTSTART:19700329T010000
RRULE:FREQ=YEARLY;BYMONTH=3;BYDAY=-1SU
END:DAYLIGHT
BEGIN:STANDARD
TZOFFSETFROM:+0100
TZOFFSETTO:+0000
TZNAME:GMT
DTSTART:19701025T020000
RRULE:FREQ=YEARLY;BYMONTH=10;BYDAY=-1SU
END:STANDARD
END:VTIMEZONE
BEGIN:VEVENT
UID:4626108:Event:69537
DTSTAMP:20260420T112108Z
SUMMARY:Fabulous Women Late Breakfast, Walton/Weybridge
DESCRIPTION:Fabulous Women Late Breakfast at The Oatlands Chaser\n\nHi
 , I'm Jo, the group leader for the Walton/Weybridge Fabulous Women gro
 up. I look forward to welcoming you!  * This month's speakers are:-  1
 . Karen Bashford with a talk entitled “Asking for the Business” Ka
 ren Bashford is an intuitive Business and Money Coach, helping women t
 o be financially successful, by focusing on the unconscious blocks whi
 ch sabotage their efforts to create the life they dream of.  2. Lynn S
 leet - Artistic Director @ Blooming Useful Floral Art & Design. Lynn w
 ill be giving a Practical demonstration on preparing a simple table de
 coration for your Christmas table!  If you have been wondering what be
 nefits you will receive from being part of this fabulous organisation,
  let me share with you just a few reasons why coming to a Fabulous Wom
 en Netwinning meeting will be the best business decision you ever made
 :  - Make new friends - Find customers, suppliers and collaborators - 
 Be inspired - Learn new skills  - Our Agenda is the best mix between f
 ormal and informal networking - perfect for the new, as well as the mo
 re experienced networker  - Inspiring speakers; a 'Hot Seat' or Mini-C
 oaching session; and 1-2-1's with a 'twist' where we all work out ways
  in which we can potentially collaborate or support each other, even i
 f it's simply by following each other on Twitter etc.  - The chance to
  make a one minute business pitch about who you are, what you do and w
 ho you do it for and how we can help you. (Do not worry about this if 
 you are a little nervous, you can type it out and read it if you wish!
  We do not judge, we just want to help you)  - Women do business with 
 men too, and Fabulous Women welcomes Marvellous Men who are happy to n
 etwork in our style. This means collaboration not competition, and sup
 port not sell and we know that you are interested in both personal and
  business development  - You don't need to be a member to attend a Fab
 ulous Women Netwinning meeting. You can attend up to three meetings as
  a guest  With all these benefits to being a part of the Fabulous Wome
 n experience, how can you resist?! To attend, simply confirm your atte
 ndance by clicking on the blue \"Yes I'm Attending\" button on the rig
 ht, so the venue can cater for you, then just pay the attendance fee o
 n arrival (cash only please!).  Remember to bring your business cards 
 and marketing material and, if you sell products, bring some samples f
 or us to see.  Feel free to contact me with any queries  jo_harmony@h
 otmail.com\nCOST: £15 for Guests and £10 for FW members (cash only
  please!)\nBOOKING: Please CLICK HERE to visit our website then clic
 k on the blue \"Yes I'm Attending\" button on the right\nMAP\n\nFor mo
 re information visit https://networkinginsurrey.co.uk/events/fabulous-
 women-late-breakfast-walton-weybridge
DTSTART;TZID=Europe/London:20141114T093000
DTEND;TZID=Europe/London:20141114T113000
CATEGORIES:morning, walton, netwinning, fabulous_women
LOCATION:The Oatlands Chaser
WEBSITE:http://www.fabulous-women.co.uk/meetings-events/viewevent/1333
 -walton-weybridge
URL:http://www.fabulous-women.co.uk/meetings-events/viewevent/1333-wal
 ton-weybridge
CONTACT:07768 197507
ORGANIZER:Jo Bristow-Watkins
ATTACH;FMTTYPE="image/jpeg":http://storage.ning.com/topology/rest/1.0/
 file/get/2591438221?profile=original
ATTENDEE;ROLE=REQ-PARTICIPANT;PARTSTAT=ACCEPTED;RSVP=TRUE;CN="Jane Har
 dy":https://networkinginsurrey.co.uk/profile/JaneHardy
END:VEVENT
END:VCALENDAR
