BEGIN:VCALENDAR
PRODID:NingEventWidget-v1
VERSION:2.0
METHOD:PUBLISH
BEGIN:VTIMEZONE
TZID:Europe/London
X-LIC-LOCATION:Europe/London
BEGIN:DAYLIGHT
TZOFFSETFROM:+0000
TZOFFSETTO:+0100
TZNAME:BST
DTSTART:19700329T010000
RRULE:FREQ=YEARLY;BYMONTH=3;BYDAY=-1SU
END:DAYLIGHT
BEGIN:STANDARD
TZOFFSETFROM:+0100
TZOFFSETTO:+0000
TZNAME:GMT
DTSTART:19701025T020000
RRULE:FREQ=YEARLY;BYMONTH=10;BYDAY=-1SU
END:STANDARD
END:VTIMEZONE
BEGIN:VEVENT
UID:4626108:Event:75924
DTSTAMP:20260426T023145Z
SUMMARY:Fabulous Women Late Breakfast, Walton/Weybridge
DESCRIPTION:Fabulous Women atÂ The Oatlands Chaser\n\nHi, I'm Jo, the 
 group leader for theÂ Walton/Weybridge Fabulous Women group. I look fo
 rward to welcoming you!\nIf you have been wondering what benefits you 
 will receive from being part of this fabulous organisation, let me sha
 re with you just a few reasons why coming to aÂ Fabulous Women Netwinn
 ingÂ meeting will be the best business decision you ever made:\n\nMake
  new friends\nFind customers, suppliers and collaborators\nBe inspired
 \nLearn new skills\n\n Our Agenda is the best mix between formal and i
 nformal networking - perfect for the new, as well as the more experien
 ced networker  We have Inspiring speakers; a 'Hot Seat' or Mini-Coachi
 ng session; and 1-2-1's with a 'twist' where we all work out ways in w
 hich we can potentially collaborate or support each other, even if it'
 s simply by following each other on Twitter etc.Â Our speaker this mon
 th is Yetunde Hofmann with Â talk entitled 'Your Choices, Your Life!Â 
  How the choices we make can have a lasting impact on our lives and we
 ll-being.'Â Â   You have the chance to make a one-minute business pitc
 hÂ about who you are, what you do and who you do it for and how we can
  help you. (Do not worry about this if you are a little nervous, you c
 an type it out and read it if you wish! We do not judge, we just want 
 to help you)  Women do business with men too, and Fabulous Women welco
 mes Marvellous Men who are happy to network in our style. This means c
 ollaboration not competition, and support not sell and we know that yo
 u are interested in both personal and business development  You don't 
 need to be a memberÂ to attend a Fabulous Women Netwinning meeting. Yo
 u can attend up to three meetings as a guest\nWith all these benefits 
 to being a part of the Fabulous Women experience, how can you resist?!
 Â \nRemember to bring your business cards and marketing material and, 
 if you sell products, bring some samples for us to see.\nCOST:Â Â£10Â 
 for Guests andÂ FW MembersÂ (cash only please, on arrival!)\nBOOKING:Â
  PleaseÂ CLICK HEREÂ to visit our website thenÂ click on the pink \"I'
 m Attending\" button at the bottom of the detailed event listing to re
 gister\nMAP\nAmple free parking\n---------------------------------\nFi
 nd otherÂ local Fabulous Women events hereÂ on Networking in Surrey...
 \n\n\nFor more information visit https://networkinginsurrey.co.uk/even
 ts/fabulous-women-late-breakfast-walton-weybridge-9
DTSTART;TZID=Europe/London:20151211T093000
DTEND;TZID=Europe/London:20151211T113000
CATEGORIES:fabulous_women, walton, weybridge, morning, breakfast
LOCATION:The Oatlands Chaser KT13 9RW
WEBSITE:https://www.google.co.uk/maps/place/The+Oatlands+Chaser/@51.37
 53155,-0.4285445,17z/data=!4m2!3m1!1s0x0000000000000000:0x332b7d5bfd6f
 011f?hl=en
URL:https://www.google.co.uk/maps/place/The+Oatlands+Chaser/@51.375315
 5,-0.4285445,17z/data=!4m2!3m1!1s0x0000000000000000:0x332b7d5bfd6f011f
 ?hl=en
CONTACT:07930 414525
ORGANIZER;CN="Joanna Bristow-Watkins":https://networkinginsurrey.co.uk
 /profile/JoannaBristowWatkins
ATTACH;FMTTYPE="image/jpeg":http://storage.ning.com/topology/rest/1.0/
 file/get/1179757333?profile=original
ATTENDEE;ROLE=REQ-PARTICIPANT;PARTSTAT=ACCEPTED;RSVP=TRUE;CN="Joanna B
 ristow-Watkins":https://networkinginsurrey.co.uk/profile/JoannaBristow
 Watkins
END:VEVENT
END:VCALENDAR
