BEGIN:VCALENDAR
PRODID:NingEventWidget-v1
VERSION:2.0
METHOD:PUBLISH
BEGIN:VTIMEZONE
TZID:Europe/London
X-LIC-LOCATION:Europe/London
BEGIN:DAYLIGHT
TZOFFSETFROM:+0000
TZOFFSETTO:+0100
TZNAME:BST
DTSTART:19700329T010000
RRULE:FREQ=YEARLY;BYMONTH=3;BYDAY=-1SU
END:DAYLIGHT
BEGIN:STANDARD
TZOFFSETFROM:+0100
TZOFFSETTO:+0000
TZNAME:GMT
DTSTART:19701025T020000
RRULE:FREQ=YEARLY;BYMONTH=10;BYDAY=-1SU
END:STANDARD
END:VTIMEZONE
BEGIN:VEVENT
UID:4626108:Event:132009
DTSTAMP:20260424T010530Z
SUMMARY:Fabulous Women Late Breakfast, Teddington
DESCRIPTION:Fabulous Women Late Breakfast at Causeway House\nHello, Iâ
 €™mÂ Nevil KapadiaÂ and I would be delighted to welcome you to our mee
 ting.\nJoin us to:\n\nMake new friends\nFind customers, suppliers and 
 collaborators\nBe inspired\nLearn new skills\n\nOur AgendaÂ is the bes
 t mix between formal and informal networking - perfect for the new, as
  well as the more experienced networker.\nWe have Inspiring speakers; 
 a 'Hot Seat' or Mini-Coaching session; and 1-2-1's with a 'twist' wher
 e we all work out ways in which we can potentially collaborate or supp
 ort each other, even if it's simply by following each other on Twitter
  etc.Â \nThis month's speakerÂ will beÂ Glenda Shawley who will be sha
 ring some tips for integrating networking into your marketing plan.\nY
 ou have the chance to make a one-minute business pitchÂ about who you 
 are, what you do and who you do it for and how we can help you. (Do no
 t worry about this if you are a little nervous, you can type it out an
 d read it if you wish! We do not judge, we just want to help you)\nWom
 en do business with men too, and Fabulous Women welcomesÂ Marvellous M
 enÂ who are happy to network in our style. This means collaboration no
 t competition, and support not sell and we know that you are intereste
 d in both personal and business development\nYou don't need to be a me
 mberÂ - you can attend up to three meetings as a guest.\nWith all thes
 e benefits to being a part of the Fabulous Women experience, how can y
 ou resist?!Â To attend, simply confirm your attendance by clicking on 
 the pink \"Yes I'm Attending\" button so the venue can cater for you, 
 then just pay the attendance fee on arrival (cash only please!).\nReme
 mber to bring your business cards and marketing material and product s
 amples if appropriate.Â \nFeel free to contact me with any queries or 
 for further informationÂ nevil@nkenterprises.co.uk\nCOST:Â Â£10Â for F
 W membersÂ  but Guests are only Â£5Â this month - and if as a Member y
 ou bring a Guest it's just Â£5 for you too (cash only please, on the d
 oor!)\nBOOKING:Â PleaseÂ CLICK HEREÂ to visit our website thenÂ click 
 on the pink \"Yes I'm Attending\" button at the bottom\nMAP\n---------
 ------------------------\nFind otherÂ local Fabulous Women events here
 Â on Networking in Surrey...\n\n\nFor more information visit https://n
 etworkinginsurrey.co.uk/events/fabulous-women-late-breakfast-teddingto
 n-739
DTSTART;TZID=Europe/London:20190517T100000
DTEND;TZID=Europe/London:20190517T120000
CATEGORIES:morning, teddington, netwinning, fabulous_women
LOCATION:Causeway House TW11 0JR
WEBSITE:
URL:
CONTACT:
ORGANIZER;CN="Nevil Kapadia":https://networkinginsurrey.co.uk/profile/
 nevilkapadia
ATTACH;FMTTYPE="image/jpeg":https://storage.ning.com/topology/rest/1.0
 /file/get/358696419?profile=original
ATTENDEE;ROLE=REQ-PARTICIPANT;PARTSTAT=ACCEPTED;RSVP=TRUE;CN="Nevil Ka
 padia":https://networkinginsurrey.co.uk/profile/nevilkapadia
END:VEVENT
END:VCALENDAR
