BEGIN:VCALENDAR
PRODID:NingEventWidget-v1
VERSION:2.0
METHOD:PUBLISH
BEGIN:VTIMEZONE
TZID:Europe/London
X-LIC-LOCATION:Europe/London
BEGIN:DAYLIGHT
TZOFFSETFROM:+0000
TZOFFSETTO:+0100
TZNAME:BST
DTSTART:19700329T010000
RRULE:FREQ=YEARLY;BYMONTH=3;BYDAY=-1SU
END:DAYLIGHT
BEGIN:STANDARD
TZOFFSETFROM:+0100
TZOFFSETTO:+0000
TZNAME:GMT
DTSTART:19701025T020000
RRULE:FREQ=YEARLY;BYMONTH=10;BYDAY=-1SU
END:STANDARD
END:VTIMEZONE
BEGIN:VEVENT
UID:4626108:Event:103533
DTSTAMP:20260424T122142Z
SUMMARY:Fabulous Women Late Breakfast, Teddington
DESCRIPTION:Fabulous Women Late Breakfast at Causeway House\nHello, Iâ
 €™mÂ Nevil KapadiaÂ and I would be delighted to welcome you to our mee
 ting.\nJoin us to:\n\nMake new friends\nFind customers, suppliers and 
 collaborators\nBe inspired\nLearn new skills\n\nOur AgendaÂ is the bes
 t mix between formal and informal networking - perfect for the new, as
  well as the more experienced networker.\nWe have Inspiring speakers; 
 a 'Hot Seat' or Mini-Coaching session; and 1-2-1's with a 'twist' wher
 e we all work out ways in which we can potentially collaborate or supp
 ort each other, even if it's simply by following each other on Twitter
  etc.Â \nThis month our speaker isÂ Anne Williams with a presentation 
 on 'What's the mindset difference that makes the difference when it co
 mes to business success'.\nYou have the chance to make a one-minute bu
 siness pitchÂ about who you are, what you do and who you do it for and
  how we can help you. (Do not worry about this if you are a little ner
 vous, you can type it out and read it if you wish! We do not judge, we
  just want to help you)\nWomen do business with men too, and Fabulous 
 Women welcomesÂ Marvellous MenÂ who are happy to network in our style.
  This means collaboration not competition, and support not sell and we
  know that you are interested in both personal and business developmen
 t\nYou don't need to be a memberÂ - you can attend up to three meeting
 s as a guest.\nWith all these benefits to being a part of the Fabulous
  Women experience, how can you resist?!Â To attend, simply confirm you
 r attendance by clicking on the pink \"Yes I'm Attending\" button so t
 he venue can cater for you, then just pay the attendance fee on arriva
 l (cash only please!).\nRemember to bring your business cards and mark
 eting material and product samples if appropriate.Â \nFeel free to con
 tact me with any queries or for further informationÂ nevil@nkenterpris
 es.co.uk\nCOST:Â Â£10Â for FW membersÂ  but Guests are only Â£5Â this 
 month - and if as a Member you bring a Guest it's just Â£5 for you too
  (cash only please, on the door!)\nBOOKING:Â PleaseÂ CLICK HEREÂ to vi
 sit our website thenÂ click on the pink \"Yes I'm Attending\" button a
 t the bottom\nMAP\n---------------------------------\nFind otherÂ loca
 l Fabulous Women events hereÂ on Networking in Surrey...\n\n\nFor more
  information visit https://networkinginsurrey.co.uk/events/fabulous-wo
 men-late-breakfast-teddington-40
DTSTART;TZID=Europe/London:20190215T100000
DTEND;TZID=Europe/London:20190215T120000
CATEGORIES:morning, teddington, netwinning, fabulous_women
LOCATION:Causeway House TW11 0JR
WEBSITE:
URL:
CONTACT:
ORGANIZER;CN="Nevil Kapadia":https://networkinginsurrey.co.uk/profile/
 nevilkapadia
ATTACH;FMTTYPE="image/jpeg":https://storage.ning.com/topology/rest/1.0
 /file/get/358696419?profile=original
ATTENDEE;ROLE=REQ-PARTICIPANT;PARTSTAT=ACCEPTED;RSVP=TRUE;CN="Nevil Ka
 padia":https://networkinginsurrey.co.uk/profile/nevilkapadia
END:VEVENT
END:VCALENDAR
