BEGIN:VCALENDAR
PRODID:NingEventWidget-v1
VERSION:2.0
METHOD:PUBLISH
BEGIN:VTIMEZONE
TZID:Europe/London
X-LIC-LOCATION:Europe/London
BEGIN:DAYLIGHT
TZOFFSETFROM:+0000
TZOFFSETTO:+0100
TZNAME:BST
DTSTART:19700329T010000
RRULE:FREQ=YEARLY;BYMONTH=3;BYDAY=-1SU
END:DAYLIGHT
BEGIN:STANDARD
TZOFFSETFROM:+0100
TZOFFSETTO:+0000
TZNAME:GMT
DTSTART:19701025T020000
RRULE:FREQ=YEARLY;BYMONTH=10;BYDAY=-1SU
END:STANDARD
END:VTIMEZONE
BEGIN:VEVENT
UID:4626108:Event:75100
DTSTAMP:20260426T035909Z
SUMMARY:Fabulous Women Late Breakfast, Teddington
DESCRIPTION:Fabulous Women Late Breakfast at The Anglers\n\nHi, I am M
 onica, the group leader for the Teddington Fabulous Women group. I loo
 k forward to welcoming you!\nHere are just a few reasons why coming to
  a Fabulous Women Netwinning meeting will be the best business decisio
 n you ever made:\n\nMake new friends\nFind customers, suppliers and co
 llaborators\nBe inspired\nLearn new skills\n\nOur Agenda is the best m
 ix between formal and informal networking - perfect for the new, as we
 ll as the more experienced networker  We have Inspiring speakers; a 'H
 ot Seat' or Mini-Coaching session; and 1-2-1's with a 'twist' where we
  all work out ways in which we can potentially collaborate or support 
 each other, even if it's simply by following each other on Twitter etc
 . Our speakers this month are Public Speaking Coach Graham Le-Gall of
  Galleou Training Consultancy who will talk about \"The Highly Importa
 nt 60 Seconds Pitch\": Graham will offer a few tips and his five-point
  plan to help with this, and Jill Bennett of Arbonne will be our s
 econd speaker. \nYou have the chance to make a one-minute business pi
 tch about who you are, what you do and who you do it for and how we ca
 n help you. (Do not worry about this if you are a little nervous, you 
 can type it out and read it if you wish! We do not judge, we just want
  to help you)\nWomen do business with men too, and Fabulous Women welc
 omes Marvellous Men who are happy to network in our style. This means 
 collaboration not competition, and support not sell and we know that y
 ou are interested in both personal and business development\nYou don't
  need to be a member to attend a Fabulous Women Netwinning meeting. Yo
 u can attend up to three meetings as a guest.\nWith all these benefits
  to being a part of the Fabulous Women experience, how can you resist?
 ! To attend, simply confirm your attendance by clicking on the pink \"
 Yes I'm Attending\" button so the venue can cater for you, then just p
 ay the attendance fee on arrival (cash only please!).\nRemember to bri
 ng your business cards and marketing material and, if you sell product
 s, bring some samples for us to see. \nFeel free to contact me with a
 ny queries or for further information monica@livealifeyoulove.co.uk\n
 COST: £10 for Guests and FW members (cash only please, on the door!
 )\nBOOKING: Please CLICK HERE to visit our website then click on the
  pink \"Yes I'm Attending\" button at the bottom\nMAP\n---------------
 ------------------\nFind other local Fabulous Women events here on N
 etworking in Surrey...\n\nFor more information visit https://networkin
 ginsurrey.co.uk/events/fabulous-women-late-breakfast-teddington-3
DTSTART;TZID=Europe/London:20151120T100000
DTEND;TZID=Europe/London:20151120T120000
CATEGORIES:morning, teddington, netwinning, fabulous_women
LOCATION:The Anglers TW11 9NR
WEBSITE:http://fabulous-women.co.uk/event.aspx?cid=0&p=2&se=
URL:http://fabulous-women.co.uk/event.aspx?cid=0&p=2&se=
CONTACT:
ORGANIZER;CN="Monica Castenetto":https://networkinginsurrey.co.uk/prof
 ile/MonicaCastenetto
ATTACH;FMTTYPE="image/jpeg":http://storage.ning.com/topology/rest/1.0/
 file/get/1179757333?profile=original
ATTENDEE;ROLE=REQ-PARTICIPANT;PARTSTAT=ACCEPTED;RSVP=TRUE;CN="Monica C
 astenetto":https://networkinginsurrey.co.uk/profile/MonicaCastenetto
END:VEVENT
END:VCALENDAR
