BEGIN:VCALENDAR
PRODID:NingEventWidget-v1
VERSION:2.0
METHOD:PUBLISH
BEGIN:VTIMEZONE
TZID:Europe/London
X-LIC-LOCATION:Europe/London
BEGIN:DAYLIGHT
TZOFFSETFROM:+0000
TZOFFSETTO:+0100
TZNAME:BST
DTSTART:19700329T010000
RRULE:FREQ=YEARLY;BYMONTH=3;BYDAY=-1SU
END:DAYLIGHT
BEGIN:STANDARD
TZOFFSETFROM:+0100
TZOFFSETTO:+0000
TZNAME:GMT
DTSTART:19701025T020000
RRULE:FREQ=YEARLY;BYMONTH=10;BYDAY=-1SU
END:STANDARD
END:VTIMEZONE
BEGIN:VEVENT
UID:4626108:Event:96407
DTSTAMP:20260423T053412Z
SUMMARY:Fabulous Women Late Breakfast, Teddington
DESCRIPTION:NEW VENUE: Fabulous Women Late Breakfast at Causeway House
 \r\nHello, I’m Nevil Kapadia and I would be delighted to welcome y
 ou to our next meeting. \r\nHere are just a few reasons why coming to
  a Fabulous Women Netwinning meeting will be the best business decisio
 n you ever made:\r\n\r\nMake new friends\r\nFind customers, suppliers 
 and collaborators\r\nBe inspired\r\nLearn new skills\r\n\r\nOur Agenda
  is the best mix between formal and informal networking - perfect for
  the new, as well as the more experienced networker.\r\nWe have Inspir
 ing speakers; a 'Hot Seat' or Mini-Coaching session; and 1-2-1's with 
 a 'twist' where we all work out ways in which we can potentially colla
 borate or support each other, even if it's simply by following each ot
 her on Twitter etc. \r\nOur speaker this month is Richard Owen, with
  'Retirement... what's that?'\r\nYou have the chance to make a one-min
 ute business pitch about who you are, what you do and who you do it f
 or and how we can help you. (Do not worry about this if you are a litt
 le nervous, you can type it out and read it if you wish! We do not jud
 ge, we just want to help you)\r\nWomen do business with men too, and F
 abulous Women welcomes Marvellous Men who are happy to network in ou
 r style. This means collaboration not competition, and support not sel
 l and we know that you are interested in both personal and business de
 velopment\r\nYou don't need to be a member to attend a Fabulous Women
  Netwinning meeting. You can attend up to three meetings as a guest.\r
 \nWith all these benefits to being a part of the Fabulous Women experi
 ence, how can you resist?! To attend, simply confirm your attendance 
 by clicking on the pink \"Yes I'm Attending\" button so the venue can 
 cater for you, then just pay the attendance fee on arrival (cash only 
 please!).\r\nRemember to bring your business cards and marketing mater
 ial and, if you sell products, bring some samples for us to see. \r\n
 Feel free to contact me with any queries or for further information n
 evil@nkenterprises.co.uk\r\nCOST: £10 for Guests and FW members (c
 ash only please, on the door!)\r\nBOOKING: Please CLICK HERE to vis
 it our website then click on the pink \"Yes I'm Attending\" button at
  the bottom\r\nMAP \r\n---------------------------------\r\nFind other
  local Fabulous Women events here on Networking in Surrey...\r\n\n\n
 For more information visit https://networkinginsurrey.co.uk/events/fab
 ulous-women-late-breakfast-teddington-25
DTSTART;TZID=Europe/London:20180216T100000
DTEND;TZID=Europe/London:20180216T120000
CATEGORIES:morning, teddington, netwinning, fabulous_women
LOCATION:Causeway House TW11 0JR
WEBSITE:
URL:
CONTACT:
ORGANIZER:Nevil Kapadia
ATTACH;FMTTYPE="image/jpeg":http://storage.ning.com/topology/rest/1.0/
 file/get/1179757333?profile=original
ATTENDEE;ROLE=REQ-PARTICIPANT;PARTSTAT=ACCEPTED;RSVP=TRUE;CN="Nevil Ka
 padia":https://networkinginsurrey.co.uk/profile/nevilkapadia
END:VEVENT
END:VCALENDAR
