BEGIN:VCALENDAR
PRODID:NingEventWidget-v1
VERSION:2.0
METHOD:PUBLISH
BEGIN:VTIMEZONE
TZID:Europe/London
X-LIC-LOCATION:Europe/London
BEGIN:DAYLIGHT
TZOFFSETFROM:+0000
TZOFFSETTO:+0100
TZNAME:BST
DTSTART:19700329T010000
RRULE:FREQ=YEARLY;BYMONTH=3;BYDAY=-1SU
END:DAYLIGHT
BEGIN:STANDARD
TZOFFSETFROM:+0100
TZOFFSETTO:+0000
TZNAME:GMT
DTSTART:19701025T020000
RRULE:FREQ=YEARLY;BYMONTH=10;BYDAY=-1SU
END:STANDARD
END:VTIMEZONE
BEGIN:VEVENT
UID:4626108:Event:101898
DTSTAMP:20260422T053937Z
SUMMARY:Fabulous Women Late Breakfast, Teddington
DESCRIPTION:Fabulous Women Late Breakfast at Causeway House\nHello, Iâ
 €™mÂ Nevil KapadiaÂ and I would be delighted to welcome you to our mee
 ting.\nWe're going ahead with the last event of the year for business 
 owners who know that Christmas can be super productive and enjoyable t
 oo!\nAnd there's a special half-price offer this monthÂ  - see below..
 .\nJoin us to:\n\nMake new friends\nFind customers, suppliers and coll
 aborators\nBe inspired\nLearn new skills\n\nOur AgendaÂ is the best mi
 x between formal and informal networking - perfect for the new, as wel
 l as the more experienced networker.\nWe have Inspiring speakers; a 'H
 ot Seat' or Mini-Coaching session; and 1-2-1's with a 'twist' where we
  all work out ways in which we can potentially collaborate or support 
 each other, even if it's simply by following each other on Twitter etc
 .Â \nWe'll have a VERY SPECIAL section on 'Why 80% of UK Business Owne
 rs Are Broke' so you are not one of them!\nYou have the chance to make
  a one-minute business pitchÂ about who you are, what you do and who y
 ou do it for and how we can help you. (Do not worry about this if you 
 are a little nervous, you can type it out and read it if you wish! We 
 do not judge, we just want to help you)\nWomen do business with men to
 o, and Fabulous Women welcomesÂ Marvellous MenÂ who are happy to netwo
 rk in our style. This means collaboration not competition, and support
  not sell and we know that you are interested in both personal and bus
 iness development\nYou don't need to be a memberÂ - you can attend up 
 to three meetings as a guest.\nWith all these benefits to being a part
  of the Fabulous Women experience, how can you resist?!Â To attend, si
 mply confirm your attendance by clicking on the pink \"Yes I'm Attendi
 ng\" button so the venue can cater for you, then just pay the attendan
 ce fee on arrival (cash only please!).\nRemember to bring your busines
 s cards and marketing material and product samples if appropriate.Â \n
 Feel free to contact me with any queries or for further informationÂ n
 evil@nkenterprises.co.uk\nCOST:Â Â£10Â for FW membersÂ  but Guests are
  only Â£5Â this month - and if as a Member you bring a Guest it's just
  Â£5 for you too (cash only please, on the door!)\nBOOKING:Â PleaseÂ C
 LICK HEREÂ to visit our website thenÂ click on the pink \"Yes I'm Atte
 nding\" button at the bottom\nMAP\n---------------------------------\n
 Find otherÂ local Fabulous Women events hereÂ on Networking in Surrey.
 ..\n\n\nFor more information visit https://networkinginsurrey.co.uk/ev
 ents/fabulous-women-late-breakfast-teddington-238
DTSTART;TZID=Europe/London:20181116T100000
DTEND;TZID=Europe/London:20181116T120000
CATEGORIES:morning, teddington, netwinning, fabulous_women
LOCATION:Causeway House TW11 0JR
WEBSITE:
URL:
CONTACT:
ORGANIZER:Nevil Kapadia
ATTACH;FMTTYPE="image/jpeg":https://storage.ning.com/topology/rest/1.0
 /file/get/358696419?profile=original
ATTENDEE;ROLE=REQ-PARTICIPANT;PARTSTAT=ACCEPTED;RSVP=TRUE;CN="Nevil Ka
 padia":https://networkinginsurrey.co.uk/profile/nevilkapadia
END:VEVENT
END:VCALENDAR
