BEGIN:VCALENDAR
PRODID:NingEventWidget-v1
VERSION:2.0
METHOD:PUBLISH
BEGIN:VTIMEZONE
TZID:Europe/London
X-LIC-LOCATION:Europe/London
BEGIN:DAYLIGHT
TZOFFSETFROM:+0000
TZOFFSETTO:+0100
TZNAME:BST
DTSTART:19700329T010000
RRULE:FREQ=YEARLY;BYMONTH=3;BYDAY=-1SU
END:DAYLIGHT
BEGIN:STANDARD
TZOFFSETFROM:+0100
TZOFFSETTO:+0000
TZNAME:GMT
DTSTART:19701025T020000
RRULE:FREQ=YEARLY;BYMONTH=10;BYDAY=-1SU
END:STANDARD
END:VTIMEZONE
BEGIN:VEVENT
UID:4626108:Event:100763
DTSTAMP:20260424T200531Z
SUMMARY:Fabulous Women Late Breakfast, Teddington
DESCRIPTION:Fabulous Women Late Breakfast at Causeway House\nHello, Iâ
 €™mÂ Nevil KapadiaÂ and I would be delighted to welcome you to our nex
 t meeting.Â \nHere are just a few reasons why coming to a Fabulous Wom
 en Netwinning meeting will be the best business decision you ever made
 :\n\nMake new friends\nFind customers, suppliers and collaborators\nBe
  inspired\nLearn new skills\n\nOur AgendaÂ is the best mix between for
 mal and informal networking - perfect for the new, as well as the more
  experienced networker.\nWe have Inspiring speakers; a 'Hot Seat' or M
 ini-Coaching session; and 1-2-1's with a 'twist' where we all work out
  ways in which we can potentially collaborate or support each other, e
 ven if it's simply by following each other on Twitter etc.Â \nOur spea
 ker this month is Joanna Bristow-Watkins whose talk is entitled -Â 'Sa
 cred Sites - is it the Ley of the land?'\nYou have the chance to make 
 a one-minute business pitchÂ about who you are, what you do and who yo
 u do it for and how we can help you. (Do not worry about this if you a
 re a little nervous, you can type it out and read it if you wish! We d
 o not judge, we just want to help you)\nWomen do business with men too
 , and Fabulous Women welcomesÂ Marvellous MenÂ who are happy to networ
 k in our style. This means collaboration not competition, and support 
 not sell and we know that you are interested in both personal and busi
 ness development\nYou don't need to be a memberÂ to attend a Fabulous 
 Women Netwinning meeting. You can attend up to three meetings as a gue
 st.\nWith all these benefits to being a part of the Fabulous Women exp
 erience, how can you resist?!Â To attend, simply confirm your attendan
 ce by clicking on the pink \"Yes I'm Attending\" button so the venue c
 an cater for you, then just pay the attendance fee on arrival (cash on
 ly please!).\nRemember to bring your business cards and marketing mate
 rial and, if you sell products, bring some samples for us to see.Â \nF
 eel free to contact me with any queries or for further informationÂ ne
 vil@nkenterprises.co.uk\nCOST:Â Â£10Â for Guests and FW membersÂ (cash
  only please, on the door!)\nBOOKING:Â PleaseÂ CLICK HEREÂ to visit ou
 r website thenÂ click on the pink \"Yes I'm Attending\" button at the 
 bottom\nMAP\n---------------------------------\nFind otherÂ local Fabu
 lous Women events hereÂ on Networking in Surrey...\n\n\nFor more infor
 mation visit https://networkinginsurrey.co.uk/events/fabulous-women-la
 te-breakfast-teddington-224
DTSTART;TZID=Europe/London:20180921T100000
DTEND;TZID=Europe/London:20180921T120000
CATEGORIES:morning, teddington, netwinning, fabulous_women
LOCATION:Causeway House TW11 0JR
WEBSITE:
URL:
CONTACT:
ORGANIZER:Nevil Kapadia
ATTACH;FMTTYPE="image/jpeg":http://storage.ning.com/topology/rest/1.0/
 file/get/1179757333?profile=original
ATTENDEE;ROLE=REQ-PARTICIPANT;PARTSTAT=ACCEPTED;RSVP=TRUE;CN="Nevil Ka
 padia":https://networkinginsurrey.co.uk/profile/nevilkapadia
END:VEVENT
END:VCALENDAR
