BEGIN:VCALENDAR
PRODID:NingEventWidget-v1
VERSION:2.0
METHOD:PUBLISH
BEGIN:VTIMEZONE
TZID:Europe/London
X-LIC-LOCATION:Europe/London
BEGIN:DAYLIGHT
TZOFFSETFROM:+0000
TZOFFSETTO:+0100
TZNAME:BST
DTSTART:19700329T010000
RRULE:FREQ=YEARLY;BYMONTH=3;BYDAY=-1SU
END:DAYLIGHT
BEGIN:STANDARD
TZOFFSETFROM:+0100
TZOFFSETTO:+0000
TZNAME:GMT
DTSTART:19701025T020000
RRULE:FREQ=YEARLY;BYMONTH=10;BYDAY=-1SU
END:STANDARD
END:VTIMEZONE
BEGIN:VEVENT
UID:4626108:Event:75170
DTSTAMP:20260426T044650Z
SUMMARY:Fabulous Women Late Breakfast, Teddington
DESCRIPTION:Fabulous Women Late Breakfast at The Anglers\n\nHi, I am M
 onica, the group leader for the Teddington Fabulous Women group. I loo
 k forward to welcoming you!\nHere are just a few reasons why coming to
  a Fabulous Women Netwinning meeting will be the best business decisio
 n you ever made:\n\nMake new friends\nFind customers, suppliers and co
 llaborators\nBe inspired\nLearn new skills\n\nOur Agenda is the best m
 ix between formal and informal networking - perfect for the new, as we
 ll as the more experienced networker  We have Inspiring speakers; a 'H
 ot Seat' or Mini-Coaching session; and 1-2-1's with a 'twist' where we
  all work out ways in which we can potentially collaborate or support 
 each other, even if it's simply by following each other on Twitter etc
 .Â Our speakers this month are\nRichard OwenÂ of The Open Retirement C
 lubÂ will talk aboutÂ 5 Pension Myths: snd Hounslow Massage TherapistÂ
  Moira JohnsonÂ will talk aboutÂ Massage: Pamper or Health Investment?
 \nYou have the chance to make a one-minute business pitch about who yo
 u are, what you do and who you do it for and how we can help you. (Do 
 not worry about this if you are a little nervous, you can type it out 
 and read it if you wish! We do not judge, we just want to help you)\nW
 omen do business with men too, and Fabulous Women welcomes Marvellous 
 Men who are happy to network in our style. This means collaboration no
 t competition, and support not sell and we know that you are intereste
 d in both personal and business development\nYou don't need to be a me
 mber to attend a Fabulous Women Netwinning meeting. You can attend up 
 to three meetings as a guest.\nWith all these benefits to being a part
  of the Fabulous Women experience, how can you resist?! To attend, sim
 ply confirm your attendance by clicking on the pink \"Yes I'm Attendin
 g\" button so the venue can cater for you, then just pay the attendanc
 e fee on arrival (cash only please!).\nRemember to bring your business
  cards and marketing material and, if you sell products, bring some sa
 mples for us to see.Â \nFeel free to contact me with any queries or fo
 r further informationÂ monica@livealifeyoulove.co.uk\nCOST:Â Â£10 for 
 Guests and FW membersÂ (cash only please, on the door!)\nBOOKING: Plea
 se CLICK HEREÂ to visit our website thenÂ click on the pink \"Yes I'm 
 Attending\" button at the bottom\nMAP\n-------------------------------
 --\nFind otherÂ local Fabulous Women events hereÂ on Networking in Sur
 rey...\n\nFor more information visit https://networkinginsurrey.co.uk/
 events/fabulous-women-late-breakfast-teddington-2
DTSTART;TZID=Europe/London:20151016T100000
DTEND;TZID=Europe/London:20151020T120000
CATEGORIES:morning, teddington, netwinning, fabulous_women
LOCATION:The Anglers TW11 9NR
WEBSITE:http://fabulous-women.co.uk/event.aspx?cid=0&p=2&se=
URL:http://fabulous-women.co.uk/event.aspx?cid=0&p=2&se=
CONTACT:
ORGANIZER;CN="Monica Castenetto":https://networkinginsurrey.co.uk/prof
 ile/MonicaCastenetto
ATTACH;FMTTYPE="image/jpeg":http://storage.ning.com/topology/rest/1.0/
 file/get/1179757333?profile=original
ATTENDEE;ROLE=REQ-PARTICIPANT;PARTSTAT=ACCEPTED;RSVP=TRUE;CN="Monica C
 astenetto":https://networkinginsurrey.co.uk/profile/MonicaCastenetto
END:VEVENT
END:VCALENDAR
