BEGIN:VCALENDAR
PRODID:NingEventWidget-v1
VERSION:2.0
METHOD:PUBLISH
BEGIN:VTIMEZONE
TZID:Europe/London
X-LIC-LOCATION:Europe/London
BEGIN:DAYLIGHT
TZOFFSETFROM:+0000
TZOFFSETTO:+0100
TZNAME:BST
DTSTART:19700329T010000
RRULE:FREQ=YEARLY;BYMONTH=3;BYDAY=-1SU
END:DAYLIGHT
BEGIN:STANDARD
TZOFFSETFROM:+0100
TZOFFSETTO:+0000
TZNAME:GMT
DTSTART:19701025T020000
RRULE:FREQ=YEARLY;BYMONTH=10;BYDAY=-1SU
END:STANDARD
END:VTIMEZONE
BEGIN:VEVENT
UID:4626108:Event:86628
DTSTAMP:20260424T115926Z
SUMMARY:Fabulous Women Late Breakfast, Teddington
DESCRIPTION:Fabulous Women Late Breakfast at The Anglers\n\nHi, I am M
 onica, the group leader for the Teddington Fabulous Women group. I loo
 k forward to welcoming you!\nHere are just a few reasons why coming to
  a Fabulous Women Netwinning meeting will be the best business decisio
 n you ever made:\n\nMake new friends\nFind customers, suppliers and co
 llaborators\nBe inspired\nLearn new skills\n\nOur Agenda is the best m
 ix between formal and informal networking - perfect for the new, as we
 ll as the more experienced networker  We have Inspiring speakers; a 'H
 ot Seat' or Mini-Coaching session; and 1-2-1's with a 'twist' where we
  all work out ways in which we can potentially collaborate or support 
 each other, even if it's simply by following each other on Twitter etc
 . \nOur speakers this month are Ian Crocker of Absolute Learning on
  Maximising your Return on Investment from Networking and Joanna Br
 istow-Watkins of Harmony Healing on how to Empower Yourself With Egyp
 tian Alchemy.\ne to make a one-minute business pitch about who you are
 , what you do and who you do it for and how we can help you. (Do not w
 orry about this if you are a little nervous, you can type it out and r
 ead it if you wish! We do not judge, we just want to help you)\nWomen 
 do business with men too, and Fabulous Women welcomes Marvellous Men w
 ho are happy to network in our style. This means collaboration not com
 petition, and support not sell and we know that you are interested in 
 both personal and business development\nYou don't need to be a member 
 to attend a Fabulous Women Netwinning meeting. You can attend up to th
 ree meetings as a guest.\nWith all these benefits to being a part of t
 he Fabulous Women experience, how can you resist?! To attend, simply c
 onfirm your attendance by clicking on the pink \"Yes I'm Attending\" b
 utton so the venue can cater for you, then just pay the attendance fee
  on arrival (cash only please!).\nRemember to bring your business card
 s and marketing material and, if you sell products, bring some samples
  for us to see. \nFeel free to contact me with any queries or for fur
 ther information monica@livealifeyoulove.co.uk\nCOST: £10 for Guest
 s and FW members (cash only please, on the door!)\nBOOKING: Please CL
 ICK HERE to visit our website then click on the pink \"Yes I'm Atten
 ding\" button at the bottom\nMAP\n---------------------------------\nF
 ind other local Fabulous Women events here on Networking in Surrey..
 .\n\nFor more information visit https://networkinginsurrey.co.uk/event
 s/fabulous-women-late-breakfast-teddington-16
DTSTART;TZID=Europe/London:20170217T100000
DTEND;TZID=Europe/London:20170217T120000
CATEGORIES:morning, teddington, netwinning, fabulous_women
LOCATION:The Anglers TW11 9NR
WEBSITE:http://fabulous-women.co.uk/event.aspx?cid=0&p=2&se=
URL:http://fabulous-women.co.uk/event.aspx?cid=0&p=2&se=
CONTACT:
ORGANIZER;CN="Monica Castenetto":https://networkinginsurrey.co.uk/prof
 ile/MonicaCastenetto
ATTACH;FMTTYPE="image/jpeg":http://storage.ning.com/topology/rest/1.0/
 file/get/1179757333?profile=original
ATTENDEE;ROLE=REQ-PARTICIPANT;PARTSTAT=ACCEPTED;RSVP=TRUE;CN="Monica C
 astenetto":https://networkinginsurrey.co.uk/profile/MonicaCastenetto
END:VEVENT
END:VCALENDAR
