BEGIN:VCALENDAR
PRODID:NingEventWidget-v1
VERSION:2.0
METHOD:PUBLISH
BEGIN:VTIMEZONE
TZID:Europe/London
X-LIC-LOCATION:Europe/London
BEGIN:DAYLIGHT
TZOFFSETFROM:+0000
TZOFFSETTO:+0100
TZNAME:BST
DTSTART:19700329T010000
RRULE:FREQ=YEARLY;BYMONTH=3;BYDAY=-1SU
END:DAYLIGHT
BEGIN:STANDARD
TZOFFSETFROM:+0100
TZOFFSETTO:+0000
TZNAME:GMT
DTSTART:19701025T020000
RRULE:FREQ=YEARLY;BYMONTH=10;BYDAY=-1SU
END:STANDARD
END:VTIMEZONE
BEGIN:VEVENT
UID:4626108:Event:100881
DTSTAMP:20260422T060526Z
SUMMARY:Fabulous Women Late Breakfast, Teddington
DESCRIPTION:Fabulous Women Late Breakfast at Causeway House\nHello, Iâ
 €™mÂ Nevil KapadiaÂ and I would be delighted to welcome you to our nex
 t meeting.Â \nHere are just a few reasons why coming to a Fabulous Wom
 en Netwinning meeting will be the best business decision you ever made
 :\n\nMake new friends\nFind customers, suppliers and collaborators\nBe
  inspired\nLearn new skills\n\nOur AgendaÂ is the best mix between for
 mal and informal networking - perfect for the new, as well as the more
  experienced networker.\nWe have Inspiring speakers; a 'Hot Seat' or M
 ini-Coaching session; and 1-2-1's with a 'twist' where we all work out
  ways in which we can potentially collaborate or support each other, e
 ven if it's simply by following each other on Twitter etc.Â \nThis mon
 th our speaker is Alastair Lyon whose talk is entitled 'The 6 Ws of in
 vestment'.\nYou have the chance to make a one-minute business pitchÂ a
 bout who you are, what you do and who you do it for and how we can hel
 p you. (Do not worry about this if you are a little nervous, you can t
 ype it out and read it if you wish! We do not judge, we just want to h
 elp you)\nWomen do business with men too, and Fabulous Women welcomesÂ
  Marvellous MenÂ who are happy to network in our style. This means col
 laboration not competition, and support not sell and we know that you 
 are interested in both personal and business development\nYou don't ne
 ed to be a memberÂ to attend a Fabulous Women Netwinning meeting. You 
 can attend up to three meetings as a guest.\nWith all these benefits t
 o being a part of the Fabulous Women experience, how can you resist?!Â
  To attend, simply confirm your attendance by clicking on the pink \"Y
 es I'm Attending\" button so the venue can cater for you, then just pa
 y the attendance fee on arrival (cash only please!).\nRemember to brin
 g your business cards and marketing material and, if you sell products
 , bring some samples for us to see.Â \nFeel free to contact me with an
 y queries or for further informationÂ nevil@nkenterprises.co.uk\nCOST:
 Â Â£10Â for Guests and FW membersÂ (cash only please, on the door!)\nB
 OOKING:Â PleaseÂ CLICK HEREÂ to visit our website thenÂ click on the p
 ink \"Yes I'm Attending\" button at the bottom\nMAP\n-----------------
 ----------------\nFind otherÂ local Fabulous Women events hereÂ on Net
 working in Surrey...\n\n\nFor more information visit https://networkin
 ginsurrey.co.uk/events/fabulous-women-late-breakfast-teddington-137
DTSTART;TZID=Europe/London:20181019T100000
DTEND;TZID=Europe/London:20181019T120000
CATEGORIES:morning, teddington, netwinning, fabulous_women
LOCATION:Causeway House TW11 0JR
WEBSITE:
URL:
CONTACT:
ORGANIZER:Nevil Kapadia
ATTACH;FMTTYPE="image/jpeg":http://storage.ning.com/topology/rest/1.0/
 file/get/1179757333?profile=original
ATTENDEE;ROLE=REQ-PARTICIPANT;PARTSTAT=ACCEPTED;RSVP=TRUE;CN="Nevil Ka
 padia":https://networkinginsurrey.co.uk/profile/nevilkapadia
END:VEVENT
END:VCALENDAR
