BEGIN:VCALENDAR
PRODID:NingEventWidget-v1
VERSION:2.0
METHOD:PUBLISH
BEGIN:VTIMEZONE
TZID:Europe/London
X-LIC-LOCATION:Europe/London
BEGIN:DAYLIGHT
TZOFFSETFROM:+0000
TZOFFSETTO:+0100
TZNAME:BST
DTSTART:19700329T010000
RRULE:FREQ=YEARLY;BYMONTH=3;BYDAY=-1SU
END:DAYLIGHT
BEGIN:STANDARD
TZOFFSETFROM:+0100
TZOFFSETTO:+0000
TZNAME:GMT
DTSTART:19701025T020000
RRULE:FREQ=YEARLY;BYMONTH=10;BYDAY=-1SU
END:STANDARD
END:VTIMEZONE
BEGIN:VEVENT
UID:4626108:Event:50814
DTSTAMP:20260420T091953Z
SUMMARY:Fabulous Women Late Breakfast, Teddington
DESCRIPTION:Fabulous Women at The Anglers, Teddington\n\nFabulous Wom
 en don’t just network, they netwin.\nOur agenda is a mix of informal
  mingling and formal 'round table', aimed at both the new-at-networkin
 g and the experienced networker.\nThis means you get the best of what 
 networking offers in a netwinning format. As Fabulous Women we are as 
 interested in personal development as we are in business development.\
 nOne talk and one hot seat, that alone is worth coming for.\nBusy Fabu
 lous Women have time challenges. Our unique agenda means you can netwi
 n for one hour, or you can netwin for two and make the most of your da
 y no matter how busy it is.\nWe welcome men willing to netwin on our t
 erms: collaboration not competition, support not sell.\nCome along and
  experience Netwinning the Fabulous way!\nCOST:£10.00 meeting fee inc
 luding light breakfast\nBOOKING: Please CLICK HEREto book\nMAP\n------
 --------------------------------------------------\nPlease see http://
 www.fabulous-women.co.uk/upcoming-events for details on each of our fa
 ntastic events.\n \n\nFor more information visit https://networkingin
 surrey.co.uk/events/fabulous-women-late-breakfast-teddington-1
DTSTART;TZID=Europe/London:20121221T100000
DTEND;TZID=Europe/London:20121221T120000
CATEGORIES:netwinning, event
LOCATION:The Anglers, TW11 9NR
WEBSITE:http://anglers-teddington.co.uk/
URL:http://anglers-teddington.co.uk/
CONTACT:07919 577997
ORGANIZER;CN="Kirsten Brown":https://networkinginsurrey.co.uk/profile/
 KirstenBrown
ATTACH;FMTTYPE="image/jpeg":http://storage.ning.com/topology/rest/1.0/
 file/get/2591401887?profile=original
ATTENDEE;ROLE=REQ-PARTICIPANT;PARTSTAT=ACCEPTED;RSVP=TRUE;CN="Kirsten 
 Brown":https://networkinginsurrey.co.uk/profile/KirstenBrown
END:VEVENT
END:VCALENDAR
