BEGIN:VCALENDAR
PRODID:NingEventWidget-v1
VERSION:2.0
METHOD:PUBLISH
BEGIN:VTIMEZONE
TZID:Europe/London
X-LIC-LOCATION:Europe/London
BEGIN:DAYLIGHT
TZOFFSETFROM:+0000
TZOFFSETTO:+0100
TZNAME:BST
DTSTART:19700329T010000
RRULE:FREQ=YEARLY;BYMONTH=3;BYDAY=-1SU
END:DAYLIGHT
BEGIN:STANDARD
TZOFFSETFROM:+0100
TZOFFSETTO:+0000
TZNAME:GMT
DTSTART:19701025T020000
RRULE:FREQ=YEARLY;BYMONTH=10;BYDAY=-1SU
END:STANDARD
END:VTIMEZONE
BEGIN:VEVENT
UID:4626108:Event:97824
DTSTAMP:20260423T005528Z
SUMMARY:Fabulous Women Late Breakfast, Sutton
DESCRIPTION:Fabulous Women Late Breakfast at The Plough\n\nHi, I'm Ti
 na, the group leader for the Sutton Fabulous Women group. I look forwa
 rd to welcoming you!\nIf you have been wondering what benefits you wil
 l receive from being part of this fabulous organisation, let me share 
 with you just a few reasons why coming to a Fabulous Women Netwinning 
 meeting will be the best business decision you ever made:\n\nMake new 
 friends\nFind customers, suppliers and collaborators\nBe inspired\nLea
 rn new skills\n\nOur Agenda is the best mix between formal and informa
 l networking - perfect for the new, as well as the more experienced ne
 tworker.\nWe have Inspiring speakers; a 'Hot Seat' or Mini-Coaching se
 ssion; and 1-2-1's with a 'twist' where we all work out ways in which 
 we can potentially collaborate or support each other, even if it's sim
 ply by following each other on Twitter etc. Our speaker this month is 
 Alastair Lyon - whose take is entitled 'Inheritance tax is a voluntary
  tax, how much have you or your relatives volunteered to pay?'\nYou ha
 ve the chance to make a one-minute business pitch about who you are, w
 hat you do and who you do it for and how we can help you. (Do not worr
 y about this if you are a little nervous, you can type it out and read
  it if you wish! We do not judge, we just want to help you).\nWomen do
  business with men too, and Fabulous Women welcomes Marvellous Men who
  are happy to network in our style. This means collaboration not compe
 tition, and support not sell and we know that you are interested in bo
 th personal and business development.\nYou don't need to be a member t
 o attend a Fabulous Women Netwinning meeting. You can attend up to thr
 ee meetings as a guest.\nWith all these benefits to being a part of th
 e Fabulous Women experience, how can you resist?! To attend, simply co
 nfirm your attendance by clicking on the blue \"Yes I'm Attending\" bu
 tton on the right, so the venue can cater for you, then just pay the a
 ttendance fee on arrival (cash only please!).  Remember to bring your 
 business cards and marketing material and, if you sell products, bring
  some samples for us to see. \nFeel free to contact me with any queri
 es or for further information tinahughesonline@gmail.com\nCOST: £10 
 for Guests and FW members (cash only please, on the door!)\nBOOKING: 
 Please CLICK HERE to visit our website then click on the pink \"Yes 
 I'm Attending\" button at the bottom\nMAP\n---------------------------
 ------\nFind other local Fabulous Women events here on Networking in
  Surrey...\n\nFor more information visit https://networkinginsurrey.co
 .uk/events/fabulous-women-late-breakfast-sutton-269
DTSTART;TZID=Europe/London:20180424T100000
DTEND;TZID=Europe/London:20180424T120000
CATEGORIES:morning, sutton, netwinning, fabulous_women
LOCATION:The Plough SM3 9PW
WEBSITE:http://fabulous-women.co.uk/eventdetails
URL:http://fabulous-women.co.uk/eventdetails
CONTACT:
ORGANIZER;CN="Tina Hughes":https://networkinginsurrey.co.uk/profile/Ti
 naHughes
ATTACH;FMTTYPE="image/jpeg":http://storage.ning.com/topology/rest/1.0/
 file/get/1179757333?profile=original
ATTENDEE;ROLE=REQ-PARTICIPANT;PARTSTAT=ACCEPTED;RSVP=TRUE;CN="Tina Hug
 hes":https://networkinginsurrey.co.uk/profile/TinaHughes
END:VEVENT
END:VCALENDAR
