BEGIN:VCALENDAR
PRODID:NingEventWidget-v1
VERSION:2.0
METHOD:PUBLISH
BEGIN:VTIMEZONE
TZID:Europe/London
X-LIC-LOCATION:Europe/London
BEGIN:DAYLIGHT
TZOFFSETFROM:+0000
TZOFFSETTO:+0100
TZNAME:BST
DTSTART:19700329T010000
RRULE:FREQ=YEARLY;BYMONTH=3;BYDAY=-1SU
END:DAYLIGHT
BEGIN:STANDARD
TZOFFSETFROM:+0100
TZOFFSETTO:+0000
TZNAME:GMT
DTSTART:19701025T020000
RRULE:FREQ=YEARLY;BYMONTH=10;BYDAY=-1SU
END:STANDARD
END:VTIMEZONE
BEGIN:VEVENT
UID:4626108:Event:75306
DTSTAMP:20260426T003533Z
SUMMARY:VENUE CHANGE: Fabulous Women Late Breakfast, Sutton
DESCRIPTION:Fabulous Women Late Breakfast at The George (October only
 )\n\nHi, I'm Tina, the group leader for the Sutton Fabulous Women grou
 p. I look forward to welcoming you! We are in a different venue for th
 is month only...\nIf you have been wondering what benefits you will re
 ceive from being part of this fabulous organisation, let me share with
  you just a few reasons why coming to a Fabulous Women Netwinning meet
 ing will be the best business decision you ever made:\n\nMake new frie
 nds\nFind customers, suppliers and collaborators\nBe inspired\nLearn n
 ew skills\n\nOur Agenda is the best mix between formal and informal ne
 tworking - perfect for the new, as well as the more experienced networ
 ker.\nWe have Inspiring speakers; a 'Hot Seat' or Mini-Coaching sessio
 n; and 1-2-1's with a 'twist' where we all work out ways in which we c
 an potentially collaborate or support each other, even if it's simply 
 by following each other on Twitter etc. Our speaker this month is NiS
  Member Mark Rouvray of Activ Web Design. \nYou have the chance to 
 make a one-minute business pitch about who you are, what you do and wh
 o you do it for and how we can help you. (Do not worry about this if y
 ou are a little nervous, you can type it out and read it if you wish! 
 We do not judge, we just want to help you).\nWomen do business with me
 n too, and Fabulous Women welcomes Marvellous Men who are happy to net
 work in our style. This means collaboration not competition, and suppo
 rt not sell and we know that you are interested in both personal and b
 usiness development.\nYou don't need to be a member to attend a Fabulo
 us Women Netwinning meeting. You can attend up to three meetings as a 
 guest.\nWith all these benefits to being a part of the Fabulous Women 
 experience, how can you resist?! To attend, simply confirm your attend
 ance by clicking on the blue \"Yes I'm Attending\" button on the right
 , so the venue can cater for you, then just pay the attendance fee on 
 arrival (cash only please!).  Remember your business cards and marketi
 ng material and, if you sell products, bring some samples.  Feel free 
 to contact me with any queries or for further information tinahugheson
 line@gmail.com\nCOST: £10 for Guests and FW members (cash only plea
 se, on the door!)\nBOOKING: Please CLICK HERE to visit our website th
 en click on the pink \"Yes I'm Attending\" button at the bottom\nMAP\
 n---------------------------------\nFind other local Fabulous Women e
 vents here on Networking in Surrey...\n\nFor more information visit h
 ttps://networkinginsurrey.co.uk/events/fabulous-women-late-breakfast-s
 utton-12
DTSTART;TZID=Europe/London:20151027T100000
DTEND;TZID=Europe/London:20151027T120000
CATEGORIES:morning, sutton, netwinning, fabulous_women
LOCATION:The George Inn Harvester Morden, SM4 5PJ
WEBSITE:http://fabulous-women.co.uk/eventdetails
URL:http://fabulous-women.co.uk/eventdetails
CONTACT:
ORGANIZER;CN="Tina Hughes":https://networkinginsurrey.co.uk/profile/Ti
 naHughes
ATTACH;FMTTYPE="image/jpeg":http://storage.ning.com/topology/rest/1.0/
 file/get/1179757333?profile=original
ATTENDEE;ROLE=REQ-PARTICIPANT;PARTSTAT=ACCEPTED;RSVP=TRUE;CN="Tina Hug
 hes":https://networkinginsurrey.co.uk/profile/TinaHughes
END:VEVENT
END:VCALENDAR
