BEGIN:VCALENDAR
PRODID:NingEventWidget-v1
VERSION:2.0
METHOD:PUBLISH
BEGIN:VTIMEZONE
TZID:Europe/London
X-LIC-LOCATION:Europe/London
BEGIN:DAYLIGHT
TZOFFSETFROM:+0000
TZOFFSETTO:+0100
TZNAME:BST
DTSTART:19700329T010000
RRULE:FREQ=YEARLY;BYMONTH=3;BYDAY=-1SU
END:DAYLIGHT
BEGIN:STANDARD
TZOFFSETFROM:+0100
TZOFFSETTO:+0000
TZNAME:GMT
DTSTART:19701025T020000
RRULE:FREQ=YEARLY;BYMONTH=10;BYDAY=-1SU
END:STANDARD
END:VTIMEZONE
BEGIN:VEVENT
UID:4626108:Event:119710
DTSTAMP:20260424T105919Z
SUMMARY:Fabulous Women Late Breakfast, Sunninghill
DESCRIPTION:Fabulous Women Ascot & Virginia Water Late Breakfast at Th
 e Belvedere Arms\r\n\r\nHello, I’m Gilles Pelenc and I would be del
 ighted to welcome you to our next meeting. We’re a friendly group an
 d our meetings are structured but informal and invariably attendees le
 ave energized, inspired and supported. Why not join us?\r\nThe agenda
  may change slightly on the day depending upon numbers attending and t
 heir needs, but typically includes:\r\n\r\nInformal networking\r\nOne 
 minute round (we have no problem with you reading your prepared script
  if you wish)\r\nOur speaker this month is Jenny Thomas with 'Getting 
 out of Your Head & into Your Heart’ sharing her process for decision
 -making with certainty\r\nBusiness development slot\r\nFuture dates et
 c.\r\n\r\nBring lots of business cards, any marketing materials and, i
 f you have products, feel free to bring samples to showcase on our dis
 play table.\r\nIf you have any queries please visit our website  or
  email me on gilles@gillespelenc.com. I look forward to seeing you.\
 r\nCOST: £10 for Guests and FW members (cash only please, on the d
 oor!)\r\nBOOKING: Please CLICK HERE to visit our website then clic
 k on the pink \"Yes I'm Attending\" button at the bottom\r\nMAP\r\n---
 ------------------------------\r\nFind other local Fabulous Women eve
 nts here on Networking in Surrey...\n\nFor more information visit htt
 ps://networkinginsurrey.co.uk/events/fabulous-women-late-breakfast-sun
 ninghill-7
DTSTART;TZID=Europe/London:20190425T100000
DTEND;TZID=Europe/London:20190425T120000
CATEGORIES:late, breakfast, networking, meeting, netwinning, fabulous,
  women
LOCATION:The Belvedere Arms SL5 7SB
WEBSITE:https://www.thebelvederearms.co.uk/
URL:https://www.thebelvederearms.co.uk/
CONTACT:07877498845
ORGANIZER;CN="Gilles Pelenc":https://networkinginsurrey.co.uk/profile/
 GillesPelenc
ATTACH;FMTTYPE="image/jpeg":https://storage.ning.com/topology/rest/1.0
 /file/get/628423033?profile=original
ATTENDEE;ROLE=REQ-PARTICIPANT;PARTSTAT=ACCEPTED;RSVP=TRUE;CN="Gilles P
 elenc":https://networkinginsurrey.co.uk/profile/GillesPelenc
END:VEVENT
END:VCALENDAR
