BEGIN:VCALENDAR
PRODID:NingEventWidget-v1
VERSION:2.0
METHOD:PUBLISH
BEGIN:VTIMEZONE
TZID:Europe/London
X-LIC-LOCATION:Europe/London
BEGIN:DAYLIGHT
TZOFFSETFROM:+0000
TZOFFSETTO:+0100
TZNAME:BST
DTSTART:19700329T010000
RRULE:FREQ=YEARLY;BYMONTH=3;BYDAY=-1SU
END:DAYLIGHT
BEGIN:STANDARD
TZOFFSETFROM:+0100
TZOFFSETTO:+0000
TZNAME:GMT
DTSTART:19701025T020000
RRULE:FREQ=YEARLY;BYMONTH=10;BYDAY=-1SU
END:STANDARD
END:VTIMEZONE
BEGIN:VEVENT
UID:4626108:Event:103635
DTSTAMP:20260424T115926Z
SUMMARY:Fabulous Women Late Breakfast, Sunninghill
DESCRIPTION:Fabulous Women Ascot & Virginia Water Late Breakfast at Th
 e Belvedere Arms\n\nHello, Iâ€™m Gilles PelencÂ and I would be delight
 ed to welcome you to our next meeting. Weâ€™re a friendly group and ou
 r meetings are structured but informal and invariably attendees leaveÂ
  energized, inspired and supported. Why not join us?\nThe agenda may c
 hange slightly on the day depending upon numbers attending and their n
 eeds, but typically includes:\n\nInformal networking\nOne minute round
  (we have no problem with you reading your prepared script if you wish
 )\nOur speaker this month is Jill Aburrow whose talk is entitled -Â Ju
 ggling All The Balls\" about work-life balance.\nBusiness development 
 slot\nFuture dates etc.\n\nBring lots of business cards, any marketing
  materials and, if you have products, feel free to bring samples to sh
 owcase on our display table.\nIf you have any queries please visit our
 Â websiteÂ Â orÂ email me on gilles@gillespelenc.com.Â I look forward 
 to seeing you.\nCOST:Â Â£10Â for Guests and FW membersÂ (cash only ple
 ase, on the door!)\nBOOKING:Â PleaseÂ CLICK HEREÂ to visit our website
  thenÂ click on the pink \"Yes I'm Attending\" button at the bottom\nM
 AP\n---------------------------------\nFind otherÂ local Fabulous Wome
 n events hereÂ on Networking in Surrey...\n\nFor more information visi
 t https://networkinginsurrey.co.uk/events/fabulous-women-late-breakfas
 t-sunninghill-5
DTSTART;TZID=Europe/London:20190221T100000
DTEND;TZID=Europe/London:20190221T120000
CATEGORIES:late, breakfast, networking, meeting, netwinning, fabulous,
  women
LOCATION:The Belvedere Arms SL5 7SB
WEBSITE:https://www.thebelvederearms.co.uk/
URL:https://www.thebelvederearms.co.uk/
CONTACT:07877498845
ORGANIZER;CN="Gilles Pelenc":https://networkinginsurrey.co.uk/profile/
 GillesPelenc
ATTACH;FMTTYPE="image/jpeg":https://storage.ning.com/topology/rest/1.0
 /file/get/628423033?profile=original
ATTENDEE;ROLE=REQ-PARTICIPANT;PARTSTAT=ACCEPTED;RSVP=TRUE;CN="Gilles P
 elenc":https://networkinginsurrey.co.uk/profile/GillesPelenc
END:VEVENT
END:VCALENDAR
