BEGIN:VCALENDAR
PRODID:NingEventWidget-v1
VERSION:2.0
METHOD:PUBLISH
BEGIN:VTIMEZONE
TZID:Europe/London
X-LIC-LOCATION:Europe/London
BEGIN:DAYLIGHT
TZOFFSETFROM:+0000
TZOFFSETTO:+0100
TZNAME:BST
DTSTART:19700329T010000
RRULE:FREQ=YEARLY;BYMONTH=3;BYDAY=-1SU
END:DAYLIGHT
BEGIN:STANDARD
TZOFFSETFROM:+0100
TZOFFSETTO:+0000
TZNAME:GMT
DTSTART:19701025T020000
RRULE:FREQ=YEARLY;BYMONTH=10;BYDAY=-1SU
END:STANDARD
END:VTIMEZONE
BEGIN:VEVENT
UID:4626108:Event:93891
DTSTAMP:20260423T040501Z
SUMMARY:Fabulous Women Late Breakfast, Sunbury
DESCRIPTION:Fabulous Women Late Breakfast at Hazelwood (London Irish)\
 r\n\r\nThank you for your interest in our group, Iām Nick BlanchardĀ
  and I would love you to come to our meeting. We promise you a warm we
 lcome, a chance Ā to promote your business and some great connections 
 with other business women and men.\r\nThe attendance fee of Ā£10 inclu
 des a hot drink and light refreshments and the opportunity to make a p
 itch for business in our 60 second round. Visitors may attend up to 2 
 Fabulous Women and Marvellous Men meetings before being required to jo
 in.\r\nThis month our speaker is Julia Philpott with 'Are men really f
 rom Mars and women from Venus?'\r\nOur meetings are an effective mix o
 f informal and structured networking and business support. Everyone is
  welcome, we believe in collaboration not competition so we have no re
 strictions on who can attend.Ā \r\nWomen do business with men too, and
  Fabulous Women welcomesĀ Marvellous MenĀ who are happy to network in 
 our style. This means collaboration not competition, and support not s
 ell and we know that you are interested in both personal and business 
 development.\r\nDo bring lots of business cards, any marketing materia
 ls and, if you have products, feel free to bring samples to showcase o
 n our display table. Donāt forget to prepare your 60 second pitch so
  that we can understand what you do and how we can connect you to pote
 ntial buyers (we donāt mind if you read it if that would make you mo
 re comfortable).\r\nYou don't need to be a memberĀ to attend a Fabulou
 s Women Netwinning meeting. You can attend up to three meetings as a g
 uest.\r\nWith all these benefits to being a part of the Fabulous Women
  experience, how can you resist?! To attend, simply confirm your atten
 dance by clicking on the blue \"Yes I'm Attending\" button on the righ
 t, so the venue can cater for you, then just pay the attendance fee on
  arrival (cash only please!).\r\nFeel free to contact me with any quer
 ies or for further informationĀ Nick@maytreemortgages.co.ukĀ Ā I look 
 forward to seeing you.\r\nCOST:Ā Ā£10 for Guests and FW membersĀ (cash
  only please, on the door!)\r\nBOOKING: Please CLICK HEREĀ to visit ou
 r website thenĀ click on the pink \"Yes I'm Attending\" button at the 
 bottom\r\nMAP \r\n---------------------------------\r\nFind otherĀ loc
 al Fabulous Women events hereĀ on Networking in Surrey...\n\nFor more 
 information visit https://networkinginsurrey.co.uk/events/fabulous-wom
 en-late-breakfast-sunbury
DTSTART;TZID=Europe/London:20171129T100000
DTEND;TZID=Europe/London:20171129T120000
CATEGORIES:morning, sunbury, netwinning, fabulous_women
LOCATION:Hazelwood TW16 6QU (home of London Irish Rugby Club)
WEBSITE:http://fabulous-women.co.uk/eventdetails
URL:http://fabulous-women.co.uk/eventdetails
CONTACT:
ORGANIZER:Nick Blanchard
ATTACH;FMTTYPE="image/jpeg":http://storage.ning.com/topology/rest/1.0/
 file/get/1179757333?profile=original
ATTENDEE;ROLE=REQ-PARTICIPANT;PARTSTAT=ACCEPTED;RSVP=TRUE;CN="Keith Gr
 over, NiS Founder":https://networkinginsurrey.co.uk/profile/KeithGrove
 r
END:VEVENT
END:VCALENDAR
