BEGIN:VCALENDAR
PRODID:NingEventWidget-v1
VERSION:2.0
METHOD:PUBLISH
BEGIN:VTIMEZONE
TZID:Europe/London
X-LIC-LOCATION:Europe/London
BEGIN:DAYLIGHT
TZOFFSETFROM:+0000
TZOFFSETTO:+0100
TZNAME:BST
DTSTART:19700329T010000
RRULE:FREQ=YEARLY;BYMONTH=3;BYDAY=-1SU
END:DAYLIGHT
BEGIN:STANDARD
TZOFFSETFROM:+0100
TZOFFSETTO:+0000
TZNAME:GMT
DTSTART:19701025T020000
RRULE:FREQ=YEARLY;BYMONTH=10;BYDAY=-1SU
END:STANDARD
END:VTIMEZONE
BEGIN:VEVENT
UID:4626108:Event:95760
DTSTAMP:20260422T203929Z
SUMMARY:Fabulous Women Late Breakfast, Sunbury
DESCRIPTION:Fabulous Women Late Breakfast at Hazelwood (London Irish)\
 r\n\r\nThank you for your interest in our group, Iām Nick BlanchardĀ
  and I would love you to come to our meeting. We promise you a warm we
 lcome, a chance Ā to promote your business and some great connections 
 with other business women and men.\r\nThe attendance fee of Ā£10 inclu
 des a hot drink and light refreshments and the opportunity to make a p
 itch for business in our 60 second round. Visitors may attend up to 2 
 Fabulous Women and Marvellous Men meetings before being required to jo
 in.\r\nThis month our speaker is Glenda Shawley whose talk is entitled
  'Grow your business garden.'\r\nOur meetings are an effective mix of 
 informal and structured networking and business support. Everyone is w
 elcome, we believe in collaboration not competition so we have no rest
 rictions on who can attend.Ā \r\nWomen do business with men too, and F
 abulous Women welcomesĀ Marvellous MenĀ who are happy to network in ou
 r style. This means collaboration not competition, and support not sel
 l and we know that you are interested in both personal and business de
 velopment.\r\nDo bring lots of business cards, any marketing materials
  and, if you have products, feel free to bring samples to showcase on 
 our display table. Donāt forget to prepare your 60 second pitch so t
 hat we can understand what you do and how we can connect you to potent
 ial buyers (we donāt mind if you read it if that would make you more
  comfortable).\r\nYou don't need to be a memberĀ to attend a Fabulous 
 Women Netwinning meeting. You can attend up to three meetings as a gue
 st.\r\nWith all these benefits to being a part of the Fabulous Women e
 xperience, how can you resist?! To attend, simply confirm your attenda
 nce by clicking on the blue \"Yes I'm Attending\" button on the right,
  so the venue can cater for you, then just pay the attendance fee on a
 rrival (cash only please!).\r\nFeel free to contact me with any querie
 s or for further informationĀ Nick@maytreemortgages.co.ukĀ Ā I look fo
 rward to seeing you.\r\nCOST:Ā Ā£10 for Guests and FW membersĀ (cash o
 nly please, on the door!)\r\nBOOKING: Please CLICK HEREĀ to visit our 
 website thenĀ click on the pink \"Yes I'm Attending\" button at the bo
 ttom\r\nMAP \r\n---------------------------------\r\nFind otherĀ local
  Fabulous Women events hereĀ on Networking in Surrey...\n\nFor more in
 formation visit https://networkinginsurrey.co.uk/events/fabulous-women
 -late-breakfast-sunbury-2
DTSTART;TZID=Europe/London:20180131T100000
DTEND;TZID=Europe/London:20180131T120000
CATEGORIES:morning, sunbury, netwinning, fabulous_women
LOCATION:Hazelwood TW16 6QU (home of London Irish Rugby Club)
WEBSITE:http://fabulous-women.co.uk/eventdetails
URL:http://fabulous-women.co.uk/eventdetails
CONTACT:
ORGANIZER:Nick Blanchard
ATTACH;FMTTYPE="image/jpeg":http://storage.ning.com/topology/rest/1.0/
 file/get/1179757333?profile=original
ATTENDEE;ROLE=REQ-PARTICIPANT;PARTSTAT=ACCEPTED;RSVP=TRUE;CN="Keith Gr
 over, NiS Founder":https://networkinginsurrey.co.uk/profile/KeithGrove
 r
END:VEVENT
END:VCALENDAR
