BEGIN:VCALENDAR
PRODID:NingEventWidget-v1
VERSION:2.0
METHOD:PUBLISH
BEGIN:VTIMEZONE
TZID:Europe/London
X-LIC-LOCATION:Europe/London
BEGIN:DAYLIGHT
TZOFFSETFROM:+0000
TZOFFSETTO:+0100
TZNAME:BST
DTSTART:19700329T010000
RRULE:FREQ=YEARLY;BYMONTH=3;BYDAY=-1SU
END:DAYLIGHT
BEGIN:STANDARD
TZOFFSETFROM:+0100
TZOFFSETTO:+0000
TZNAME:GMT
DTSTART:19701025T020000
RRULE:FREQ=YEARLY;BYMONTH=10;BYDAY=-1SU
END:STANDARD
END:VTIMEZONE
BEGIN:VEVENT
UID:4626108:Event:276011
DTSTAMP:20260422T095851Z
SUMMARY:Fabulous Women Late Breakfast, Richmond
DESCRIPTION:Fabulous Women Late Breakfast at The Lass o'Richmond Hill\
 n\nAre you looking for ways to grow your business contact book? You ar
 e in the right place. I'm Nick Blanchard and I would love to welcome y
 ou to our meeting.\nIf you have been wondering what benefits you will 
 receive from being part of this fabulous organisation, let me share wi
 th you just a few reasons why coming to a Fabulous Women Netwinning me
 eting will be the best business decision you ever made:\n\nMake new fr
 iends\nFind customers, suppliers and collaborators\nBe inspired\nLearn
  new skills\n\nOur Agenda is the best mix between formal and informal
  networking - perfect for the new, as well as the more experienced net
 worker.\nWe have Inspiring speakers; a 'Hot Seat' or Mini-Coaching ses
 sion; and 1-2-1's with a 'twist' where we all work out ways in which w
 e can potentially collaborate or support each other, even if it's simp
 ly by following each other on Twitter etc.\nThis month's speaker is Ta
 lya Stone from Motherhood the Real Deal!\nYou have the chance to make 
 a one-minute business pitch about who you are, what you do and who yo
 u do it for and how we can help you. (Do not worry about this if you a
 re a little nervous, you can type it out and read it if you wish! We d
 o not judge, we just want to help you).\nWomen do business with men to
 o, and Fabulous Women welcomes Marvellous Men who are happy to netwo
 rk in our style. This means collaboration not competition, and support
  not sell and we know that you are interested in both personal and bus
 iness development.\nYou don't need to be a member - you can attend up
  to three Fabulous Women Netwinningmeetings as a guest\nWith all these
  benefits to being a part of the Fabulous Women experience, how can yo
 u resist?! To attend, simply clicking on the booking link below to go
  to our website and confirm your attendance, so the venue can cater fo
 r you, then just pay on arrival (cash only please!).\nPlease remember 
 to bring your business cards and marketing material and, if you sell p
 roducts, bring some samples for us to see.\nCOST: £10 for Guests an
 d FW members (cash only please, on the door!)\nBOOKING: Please CLIC
 K HERE to visit our website then click on the pink \"Yes I'm Attendi
 ng\" button at the bottom\nMAP\n--------------------------\nFind other
  local Fabulous Women events here on Networking in Surrey...\n\nFor 
 more information visit https://networkinginsurrey.co.uk/events/fabulou
 s-women-late-breakfast-richmond-309
DTSTART;TZID=Europe/London:20200115T100000
DTEND;TZID=Europe/London:20200115T120000
CATEGORIES:late_breakfast, richmond, fabulous_women
LOCATION:Lass o' Richmond Hill TW10 6JJ
WEBSITE:
URL:
CONTACT:
ORGANIZER;CN="Nick Blanchard":https://networkinginsurrey.co.uk/profile
 /NickBlanchard
ATTACH;FMTTYPE="image/jpeg":https://storage.ning.com/topology/rest/1.0
 /file/get/211056595?profile=original
ATTENDEE;ROLE=REQ-PARTICIPANT;PARTSTAT=ACCEPTED;RSVP=TRUE;CN="Nick Bla
 nchard":https://networkinginsurrey.co.uk/profile/NickBlanchard
END:VEVENT
END:VCALENDAR
