BEGIN:VCALENDAR
PRODID:NingEventWidget-v1
VERSION:2.0
METHOD:PUBLISH
BEGIN:VTIMEZONE
TZID:Europe/London
X-LIC-LOCATION:Europe/London
BEGIN:DAYLIGHT
TZOFFSETFROM:+0000
TZOFFSETTO:+0100
TZNAME:BST
DTSTART:19700329T010000
RRULE:FREQ=YEARLY;BYMONTH=3;BYDAY=-1SU
END:DAYLIGHT
BEGIN:STANDARD
TZOFFSETFROM:+0100
TZOFFSETTO:+0000
TZNAME:GMT
DTSTART:19701025T020000
RRULE:FREQ=YEARLY;BYMONTH=10;BYDAY=-1SU
END:STANDARD
END:VTIMEZONE
BEGIN:VEVENT
UID:4626108:Event:101144
DTSTAMP:20260422T002228Z
SUMMARY:Fabulous Women Late Breakfast, Richmond
DESCRIPTION:Â Fabulous Women Late Breakfast at The Lass o'Richmond Hil
 l\n\nHi, I'mÂ Margaret, the group leader for theÂ Richmond Fabulous Wo
 menÂ group. I look forward to welcoming you!\nIf you have been wonderi
 ng what benefits you will receive from being part of this fabulous org
 anisation, let me share with you just a few reasons why coming to a Fa
 bulous Women Netwinning meeting will be the best business decision you
  ever made:\n\nMake new friends\nFind customers, suppliers and collabo
 rators\nBe inspired\nLearn new skills\n\nOur AgendaÂ is the best mix b
 etween formal and informal networking - perfect for the new, as well a
 s the more experienced networker.\nWe have Inspiring speakers; a 'Hot 
 Seat' or Mini-Coaching session; and 1-2-1's with a 'twist' where we al
 l work out ways in which we can potentially collaborate or support eac
 h other, even if it's simply by following each other on Twitter etc. T
 his month our speaker is Glenda Shawley from the Training Pack.\nYou h
 ave the chance to make a one-minute business pitchÂ about who you are,
  what you do and who you do it for and how we can help you. (Do not wo
 rry about this if you are a little nervous, you can type it out and re
 ad it if you wish! We do not judge, we just want to help you).\nWomen 
 do business with men too, and Fabulous Women welcomesÂ Marvellous MenÂ
  who are happy to network in our style. This means collaboration not c
 ompetition, and support not sell and we know that you are interested i
 n both personal and business development.\nYou don't need to be a memb
 erÂ - you can attend up to three Fabulous Women Netwinningmeetings as 
 a guest\nWith all these benefits to being a part of the Fabulous Women
  experience, how can you resist?!Â To attend, simply clicking on the b
 ooking link below to go to our website and confirm your attendance, so
  the venue can cater for you, then just pay on arrival (cash only plea
 se!).\nPlease remember to bring your business cards and marketing mate
 rial and, if you sell products, bring some samples for us to see.\nFee
 l free to contact me with any queries or for further information: marg
 aretyatesfwmm@gmail.com\nCOST:Â Â£10Â for Guests and FW membersÂ (cash
  only please, on the door!)\nBOOKING: Please CLICK HEREÂ to visit our 
 website thenÂ click on the pink \"Yes I'm Attending\" button at the bo
 ttom\nMAP\n--------------------------\nFind otherÂ local Fabulous Wome
 n events hereÂ on Networking in Surrey...\n\nFor more information visi
 t https://networkinginsurrey.co.uk/events/fabulous-women-late-breakfas
 t-richmond-30
DTSTART;TZID=Europe/London:20181010T100000
DTEND;TZID=Europe/London:20181010T120000
CATEGORIES:late_breakfast, richmond, fabulous_women
LOCATION:Lass o' Richmond Hill TW10 6JJ
WEBSITE:
URL:
CONTACT:
ORGANIZER;CN="Margaret Yates":https://networkinginsurrey.co.uk/profile
 /MargaretYates
ATTACH;FMTTYPE="image/jpeg":http://storage.ning.com/topology/rest/1.0/
 file/get/1179757333?profile=original
ATTENDEE;ROLE=REQ-PARTICIPANT;PARTSTAT=ACCEPTED;RSVP=TRUE;CN="Margaret
  Yates":https://networkinginsurrey.co.uk/profile/MargaretYates
END:VEVENT
END:VCALENDAR
