BEGIN:VCALENDAR
PRODID:NingEventWidget-v1
VERSION:2.0
METHOD:PUBLISH
BEGIN:VTIMEZONE
TZID:Europe/London
X-LIC-LOCATION:Europe/London
BEGIN:DAYLIGHT
TZOFFSETFROM:+0000
TZOFFSETTO:+0100
TZNAME:BST
DTSTART:19700329T010000
RRULE:FREQ=YEARLY;BYMONTH=3;BYDAY=-1SU
END:DAYLIGHT
BEGIN:STANDARD
TZOFFSETFROM:+0100
TZOFFSETTO:+0000
TZNAME:GMT
DTSTART:19701025T020000
RRULE:FREQ=YEARLY;BYMONTH=10;BYDAY=-1SU
END:STANDARD
END:VTIMEZONE
BEGIN:VEVENT
UID:4626108:Event:365355
DTSTAMP:20260422T091037Z
SUMMARY:Fabulous Women Richmond Coffee-Time Online
DESCRIPTION:Fabulous Women Coffee-Time Online \r\n\r\nAll our Networki
 ng meetings are now online and via Zoom.\r\nRunning a small business c
 an be isolating never more so than in a world where we are confined to
  our homes. It helps to meet with others who understand the challenges
  you face., even if that meeting has to be virtual. Why not join us fo
 r a morning of networking, learning and inspiration in an uplifting en
 vironment? I’m Nick Blanchard and I would love to welcome you to our
  business networking meeting online. \r\nOur online meetings follow a
  similar agenda to our in person meetings. The Zoom call is set up to 
 allow you to join a few minutes ahead of the advertised time for some 
 informal chat. We can't do a business card shuffle but if you type you
 r details into the chat we'll share them after the meeting.\r\nYou'll 
 have the opportunity to introduce yourself/your business in 60 seconds
  and then we'll have a speaker. \r\nThe event is FREE to members. Vis
 itors are welcome to attend three Fabulous Networking meetings without
  charge after which you can either join us for £17 per month or pay a
 n attendance fee of £10 for each additional meeting.\r\nWe look forwa
 rd to meeting you.\r\nCOST: FREE for Fabulous Networking Members, and 
 Guests (for up to three meetings)\r\nBOOKING: Please CLICK HERE to vis
 it our website then click on the pink \"Yes I'm Attending\" button at 
 the bottom (we'll send you a link to join in before the meeting).\n\nF
 or more information visit https://networkinginsurrey.co.uk/events/fabu
 lous-women-late-breakfast-richmond-194
DTSTART;TZID=Europe/London:20200513T100000
DTEND;TZID=Europe/London:20200513T120000
CATEGORIES:late_breakfast, richmond, fabulous_women, online
LOCATION:Online only
WEBSITE:
URL:
CONTACT:
ORGANIZER;CN="Nick Blanchard":https://networkinginsurrey.co.uk/profile
 /NickBlanchard
ATTACH;FMTTYPE="image/jpeg":https://storage.ning.com/topology/rest/1.0
 /file/get/211056595?profile=original
ATTENDEE;ROLE=REQ-PARTICIPANT;PARTSTAT=ACCEPTED;RSVP=TRUE;CN="Nick Bla
 nchard":https://networkinginsurrey.co.uk/profile/NickBlanchard
END:VEVENT
END:VCALENDAR
