BEGIN:VCALENDAR
PRODID:NingEventWidget-v1
VERSION:2.0
METHOD:PUBLISH
BEGIN:VTIMEZONE
TZID:Europe/London
X-LIC-LOCATION:Europe/London
BEGIN:DAYLIGHT
TZOFFSETFROM:+0000
TZOFFSETTO:+0100
TZNAME:BST
DTSTART:19700329T010000
RRULE:FREQ=YEARLY;BYMONTH=3;BYDAY=-1SU
END:DAYLIGHT
BEGIN:STANDARD
TZOFFSETFROM:+0100
TZOFFSETTO:+0000
TZNAME:GMT
DTSTART:19701025T020000
RRULE:FREQ=YEARLY;BYMONTH=10;BYDAY=-1SU
END:STANDARD
END:VTIMEZONE
BEGIN:VEVENT
UID:4626108:Event:86577
DTSTAMP:20260424T063241Z
SUMMARY:Fabulous Women Late Breakfast, Richmond
DESCRIPTION:Â Fabulous Women Late Breakfast at The Lass o'Richmond Hil
 l\n\nHi, I'm Lorna, the group leader for the Richmond Fabulous Women g
 roup. I look forward to welcoming you!\nIf you have been wondering wha
 t benefits you will receive from being part of this fabulous organisat
 ion, let me share with you just a few reasons why coming to a Fabulous
  Women Netwinning meeting will be the best business decision you ever 
 made:\n\nMake new friends\nFind customers, suppliers and collaborators
 \nBe inspired\nLearn new skills\n\n Our Agenda is the best mix between
  formal and informal networking - perfect for the new, as well as the 
 more experienced networker  We have Inspiring speakers; a 'Hot Seat' o
 r Mini-Coaching session; and 1-2-1's with a 'twist' where we all work 
 out ways in which we can potentially collaborate or support each other
 , even if it's simply by following each other on Twitter etc.Â Our spe
 aker(s) this month is Leonie Wright of EatWright withÂ \"A diet or not
 \". Â Should you go on a diet to improve your health? Â Does it work?\
 nYou have the chance to make a one-minute business pitch about who you
  are, what you do and who you do it for and how we can help you. (Do n
 ot worry about this if you are a little nervous, you can type it out a
 nd read it if you wish! We do not judge, we just want to help you)  Wo
 men do business with men too, and Fabulous Women welcomes Marvellous M
 en who are happy to network in our style. This means collaboration not
  competition, and support not sell and we know that you are interested
  in both personal and business development  You don't need to be a mem
 ber - you can attend up to three Fabulous Women Netwinningmeetings as 
 a guest\n With all these benefits to being a part of the Fabulous Wome
 n experience, how can you resist?! To attend, simply clicking on the b
 ooking link below to go to our website and confirm your attendance, so
  the venue can cater for you, then just pay on arrival (cash only plea
 se!).\n Remember to bring your business cards and marketing material a
 nd, if you sell products, bring some samples for us to see.  Feel free
  to contact me with any queries or for further informationÂ lornavalci
 n@gmail.com\nCOST:Â Â£10 for Guests and FW membersÂ (cash only please,
  on the door!)\nBOOKING: Please CLICK HEREÂ to visit our website thenÂ
  click on the pink \"Yes I'm Attending\" button at the bottom\nMAP\n--
 -------------------------------\nFind otherÂ local Fabulous Women even
 ts hereÂ on Networking in Surrey...\n\nFor more information visit http
 s://networkinginsurrey.co.uk/events/fabulous-women-late-breakfast-rich
 mond-11
DTSTART;TZID=Europe/London:20170308T100000
DTEND;TZID=Europe/London:20170308T120000
CATEGORIES:late_breakfast, richmond
LOCATION:Lass o' Richmond Hill TW10 6JJ
WEBSITE:
URL:
CONTACT:
ORGANIZER;CN="Lorna Valcin":https://networkinginsurrey.co.uk/profile/L
 ornaValcin771
ATTACH;FMTTYPE="image/jpeg":http://storage.ning.com/topology/rest/1.0/
 file/get/1179757333?profile=original
ATTENDEE;ROLE=REQ-PARTICIPANT;PARTSTAT=ACCEPTED;RSVP=TRUE;CN="Lorna Va
 lcin":https://networkinginsurrey.co.uk/profile/LornaValcin771
END:VEVENT
END:VCALENDAR
