BEGIN:VCALENDAR
PRODID:NingEventWidget-v1
VERSION:2.0
METHOD:PUBLISH
BEGIN:VTIMEZONE
TZID:Europe/London
X-LIC-LOCATION:Europe/London
BEGIN:DAYLIGHT
TZOFFSETFROM:+0000
TZOFFSETTO:+0100
TZNAME:BST
DTSTART:19700329T010000
RRULE:FREQ=YEARLY;BYMONTH=3;BYDAY=-1SU
END:DAYLIGHT
BEGIN:STANDARD
TZOFFSETFROM:+0100
TZOFFSETTO:+0000
TZNAME:GMT
DTSTART:19701025T020000
RRULE:FREQ=YEARLY;BYMONTH=10;BYDAY=-1SU
END:STANDARD
END:VTIMEZONE
BEGIN:VEVENT
UID:4626108:Event:101378
DTSTAMP:20260422T025302Z
SUMMARY:Fabulous Women Late Breakfast, Reigate
DESCRIPTION:Fabulous Women Late Breakfast at Hartsfield Manor\n\nHi, I
 'm Anita, the group leader for the Reigate Fabulous Women group. I 
 look forward to welcoming you!\nIf you have been wondering what benefi
 ts you will receive from being part of this fabulous organisation, let
  me share with you just a few reasons why coming to a Fabulous Women N
 etwinning meeting will be the best business decision you ever made:\n\
 nMake new friends\nFind customers, suppliers and collaborators\nBe ins
 pired\nLearn new skills\n\nOur Agenda is the best mix between formal 
 and informal networking - perfect for the new, as well as the more exp
 erienced networker. \nWe have Inspiring speakers; a 'Hot Seat' or Min
 i-Coaching session; and 1-2-1's with a 'twist' where we all work out w
 ays in which we can potentially collaborate or support each other, eve
 n if it's simply by following each other on Twitter etc. \nThis month
  our speaker is Simon Bland, Head of Economic Prosperity at Reigate
  and Banstead Borough Council telling us about the Council’s initi
 atives to support local business and encourage a vibrant local econo
 my.\nYou have the chance to make a one-minute business pitch about wh
 o you are, what you do and who you do it for and how we can help you. 
 (Do not worry about this if you are a little nervous, you can type it 
 out and read it if you wish! We do not judge, we just want to help you
 ).\nWomen do business with men too, and Fabulous Women welcomes Marve
 llous Men who are happy to network in our style. This means collabora
 tion not competition, and support not sell and we know that you are in
 terested in both personal and business development.\nYou don't need to
  be a member - you can attend up to three Fabulous Women Netwinningme
 etings as a guest\nWith all these benefits to being a part of the Fabu
 lous Women experience, how can you resist?! To attend, simply clickin
 g on the booking link below to go to our website and confirm your atte
 ndance, so the venue can cater for you, then just pay on arrival (cash
  only please!).\nRemember to bring your business cards and marketing m
 aterial and, if you sell products, bring some samples for us to see.\n
 COST: £10 for Guests and FW members (cash only please, on the door
 !)\nBOOKING: Please CLICK HERE to visit our website then click on 
 the pink \"Yes I'm Attending\" button at the bottom\nMAP\n------------
 ---------------------\nFind other local Fabulous Women events here o
 n Networking in Surrey...\n\nFor more information visit https://networ
 kinginsurrey.co.uk/events/fabulous-women-late-breakfast-reigate-92
DTSTART;TZID=Europe/London:20181108T100000
DTEND;TZID=Europe/London:20181108T120000
CATEGORIES:morning, reigate, netwinning, fabulous_women
LOCATION:Hartsfield Manor
WEBSITE:
URL:
CONTACT:
ORGANIZER;CN="Anita Wisdom":https://networkinginsurrey.co.uk/profile/A
 nitaWisdom9
ATTACH;FMTTYPE="image/jpeg":http://storage.ning.com/topology/rest/1.0/
 file/get/1179757333?profile=original
ATTENDEE;ROLE=REQ-PARTICIPANT;PARTSTAT=ACCEPTED;RSVP=TRUE;CN="Anita Wi
 sdom":https://networkinginsurrey.co.uk/profile/AnitaWisdom9
END:VEVENT
END:VCALENDAR
