BEGIN:VCALENDAR
PRODID:NingEventWidget-v1
VERSION:2.0
METHOD:PUBLISH
BEGIN:VTIMEZONE
TZID:Europe/London
X-LIC-LOCATION:Europe/London
BEGIN:DAYLIGHT
TZOFFSETFROM:+0000
TZOFFSETTO:+0100
TZNAME:BST
DTSTART:19700329T010000
RRULE:FREQ=YEARLY;BYMONTH=3;BYDAY=-1SU
END:DAYLIGHT
BEGIN:STANDARD
TZOFFSETFROM:+0100
TZOFFSETTO:+0000
TZNAME:GMT
DTSTART:19701025T020000
RRULE:FREQ=YEARLY;BYMONTH=10;BYDAY=-1SU
END:STANDARD
END:VTIMEZONE
BEGIN:VEVENT
UID:4626108:Event:96638
DTSTAMP:20260422T220328Z
SUMMARY:Fabulous Women Late Breakfast, Reigate
DESCRIPTION:Fabulous Women Reigate/Dorking Late Breakfast at Hartsfiel
 d Manor\r\n\r\nHi, I'm Jane, the group leader for the Reigate/Dorking 
 Fabulous Women group. I look forward to welcoming you!\r\nIf you have 
 been wondering what benefits you will receive from being part of this 
 fabulous organisation, let me share with you just a few reasons why co
 ming to a Fabulous Women Netwinning meeting will be the best business 
 decision you ever made:\r\n\r\nMake new friends\r\nFind customers, sup
 pliers and collaborators\r\nBe inspired\r\nLearn new skills\r\n\r\n Ou
 r Agenda is the best mix between formal and informal networking - perf
 ect for the new, as well as the more experienced networker.\r\nWe have
  Inspiring speakers; a 'Hot Seat' or Mini-Coaching session; and 1-2-1'
 s with a 'twist' where we all work out ways in which we can potentiall
 y collaborate or support each other, even if it's simply by following 
 each other on Twitter etc. \r\nOur speaker this month will be announc
 ed shortly...\r\nYou have the chance to make a one-minute business pit
 ch about who you are, what you do and who you do it for and how we can
  help you. (Do not worry about this if you are a little nervous, you c
 an type it out and read it if you wish! We do not judge, we just want 
 to help you).\r\nWomen do business with men too, and Fabulous Women we
 lcomes Marvellous Men who are happy to network in our style. This mean
 s collaboration not competition, and support not sell and we know that
  you are interested in both personal and business development.\r\nYou 
 don't need to be a member - you can attend up to three Fabulous Women 
 Netwinningmeetings as a guest\r\nWith all these benefits to being a pa
 rt of the Fabulous Women experience, how can you resist?! To attend, s
 imply clicking on the booking link below to go to our website and conf
 irm your attendance, so the venue can cater for you, then just pay on 
 arrival (cash only please!).\r\nRemember to bring your business cards 
 and marketing material and, if you sell products, bring some samples f
 or us to see. \r\nFeel free to contact me with any queries or for fur
 ther information Jane@fabulous-women.co.uk\r\nCOST: £10 for Guests a
 nd FW members (cash only please, on the door!)\r\nBOOKING: Please CLI
 CK HERE to visit our website then click on the pink \"Yes I'm Attend
 ing\" button at the bottom\r\nMAP \r\n--------------------------------
 -\r\nFind other local Fabulous Women events here on Networking in Su
 rrey...\n\nFor more information visit https://networkinginsurrey.co.uk
 /events/fabulous-women-late-breakfast-reigate-828
DTSTART;TZID=Europe/London:20180308T100000
DTEND;TZID=Europe/London:20180308T120000
CATEGORIES:morning, reigate, netwinning, fabulous_women
LOCATION:Hartsfield Manor RH3 7AA
WEBSITE:
URL:
CONTACT:
ORGANIZER;CN="Jane Hardy":https://networkinginsurrey.co.uk/profile/Jan
 eHardy
ATTACH;FMTTYPE="image/jpeg":http://storage.ning.com/topology/rest/1.0/
 file/get/1179757333?profile=original
ATTENDEE;ROLE=REQ-PARTICIPANT;PARTSTAT=ACCEPTED;RSVP=TRUE;CN="Jane Har
 dy":https://networkinginsurrey.co.uk/profile/JaneHardy
END:VEVENT
END:VCALENDAR
