BEGIN:VCALENDAR
PRODID:NingEventWidget-v1
VERSION:2.0
METHOD:PUBLISH
BEGIN:VTIMEZONE
TZID:Europe/London
X-LIC-LOCATION:Europe/London
BEGIN:DAYLIGHT
TZOFFSETFROM:+0000
TZOFFSETTO:+0100
TZNAME:BST
DTSTART:19700329T010000
RRULE:FREQ=YEARLY;BYMONTH=3;BYDAY=-1SU
END:DAYLIGHT
BEGIN:STANDARD
TZOFFSETFROM:+0100
TZOFFSETTO:+0000
TZNAME:GMT
DTSTART:19701025T020000
RRULE:FREQ=YEARLY;BYMONTH=10;BYDAY=-1SU
END:STANDARD
END:VTIMEZONE
BEGIN:VEVENT
UID:4626108:Event:69439
DTSTAMP:20260419T232549Z
SUMMARY:Fabulous Women Late Breakfast, Reigate
DESCRIPTION:Fabulous Women Late Breakfast at The Jolly Farmer\n\nHi, I
 'm Sharon,Â the group leader for the Reigate Fabulous Women group. I l
 ook forward to welcoming you!\nOur speaker forÂ January is TBA\nThe ta
 lk is divided into 3 sections namely: Research, Remember, Write. It Is
  an overview of the things you should be researching, and remembering 
 before you start writing â€“ such as target audience, keyword research
 , content research, marketing objectives, brand identity and features 
 v benefits. Then finally it looks at the structure, length lay out and
  use of SEO.\nIf you have been wondering what benefits you will receiv
 e from being part of this fabulous organisation, let me share with you
  just a few reasons why coming to a Fabulous Women Netwinning meeting 
 will be the best business decision you ever made:\n\nMake new friends\
 nFind customers, suppliers and collaborators\nBe inspired\nLearn new s
 kills\n\n- Our Agenda is the best mix between formal and informal netw
 orking - perfect for the new, as well as the more experienced networke
 r  - Inspiring speakers; a 'Hot Seat' or Mini-Coaching session; and 1-
 2-1's with a 'twist' where we all work out ways in which we can potent
 ially collaborate or support each other, even if it's simply by follow
 ing each other on Twitter etc.  - The chance to make a one minute busi
 ness pitch about who you are, what you do and who you do it for and ho
 w we can help you. (Do not worry about this if you are a little nervou
 s, you can type it out and read it if you wish! We do not judge, we ju
 st want to help you)\n- Women do business with men too, and Fabulous W
 omen welcomes Marvellous Men who are happy to network in our style. Th
 is means collaboration not competition, and support not sell and we kn
 ow that you are interested in both personal and business development\n
 - You don't need to be a member to attend a Fabulous Women Netwinning 
 meeting. You can attend up to three meetings as a guest\nWith all thes
 e benefits to being a part of the Fabulous Women experience, how can y
 ou resist?!Â   Remember to bring your business cards and marketing mat
 erial and, if you sell products, bring some samples for us to see.\nPl
 ease contact me if you have ANY queries or concerns.\nsharon@betterfut
 ure4women.co.uk\nCOST:Â Â£15 for Guests and Â£10 for FW membersÂ (cash
  only please!)\nBOOKING: Please CLICK HEREÂ to visit our website thenÂ
  click on the blue \"Yes I'm Attending\" button on the right\nMAP\n\nF
 or more information visit https://networkinginsurrey.co.uk/events/fabu
 lous-women-late-breakfast-reigate-6
DTSTART;TZID=Europe/London:20150108T093000
DTEND;TZID=Europe/London:20150108T113000
CATEGORIES:morning, reigate, netwinning, fabulous_women
LOCATION:Jolly Farmer Pub
WEBSITE:http://www.fabulous-women.co.uk/meetings-events/viewevent/1517
 -reigate?groupid=30
URL:http://www.fabulous-women.co.uk/meetings-events/viewevent/1517-rei
 gate?groupid=30
CONTACT:07768 197507
ORGANIZER:Sharon Curry
ATTACH;FMTTYPE="image/jpeg":http://storage.ning.com/topology/rest/1.0/
 file/get/2591436642?profile=original
ATTENDEE;ROLE=REQ-PARTICIPANT;PARTSTAT=ACCEPTED;RSVP=TRUE;CN="Jane Har
 dy":https://networkinginsurrey.co.uk/profile/JaneHardy
ATTENDEE;ROLE=REQ-PARTICIPANT;PARTSTAT=TENTATIVE;RSVP=TRUE;CN="Wendy H
 oyle":https://networkinginsurrey.co.uk/profile/WendyHoyle
END:VEVENT
END:VCALENDAR
