BEGIN:VCALENDAR
PRODID:NingEventWidget-v1
VERSION:2.0
METHOD:PUBLISH
BEGIN:VTIMEZONE
TZID:Europe/London
X-LIC-LOCATION:Europe/London
BEGIN:DAYLIGHT
TZOFFSETFROM:+0000
TZOFFSETTO:+0100
TZNAME:BST
DTSTART:19700329T010000
RRULE:FREQ=YEARLY;BYMONTH=3;BYDAY=-1SU
END:DAYLIGHT
BEGIN:STANDARD
TZOFFSETFROM:+0100
TZOFFSETTO:+0000
TZNAME:GMT
DTSTART:19701025T020000
RRULE:FREQ=YEARLY;BYMONTH=10;BYDAY=-1SU
END:STANDARD
END:VTIMEZONE
BEGIN:VEVENT
UID:4626108:Event:103960
DTSTAMP:20260424T094139Z
SUMMARY:Fabulous Women Late Breakfast, Reigate
DESCRIPTION:Fabulous Women Late Breakfast at Hartsfield Manor\r\n\r\nH
 i, I'm Anita, the group leader for the Reigate Fabulous Women group
 . I look forward to welcoming you!\r\nIf you have been wondering what 
 benefits you will receive from being part of this fabulous organisatio
 n, let me share with you just a few reasons why coming to a Fabulous W
 omen Netwinning meeting will be the best business decision you ever ma
 de:\r\n\r\nMake new friends\r\nFind customers, suppliers and collabora
 tors\r\nBe inspired\r\nLearn new skills\r\n\r\nOur Agenda is the best
  mix between formal and informal networking - perfect for the new, as 
 well as the more experienced networker. \r\nWe have Inspiring speaker
 s; a 'Hot Seat' or Mini-Coaching session; and 1-2-1's with a 'twist' w
 here we all work out ways in which we can potentially collaborate or s
 upport each other, even if it's simply by following each other on Twit
 ter etc. \r\nThis month's speaker is Gilles Pelenc (l'homme merveil
 leux).\r\nYou have the chance to make a one-minute business pitch abo
 ut who you are, what you do and who you do it for and how we can help 
 you. (Do not worry about this if you are a little nervous, you can typ
 e it out and read it if you wish! We do not judge, we just want to hel
 p you).\r\nWomen do business with men too, and Fabulous Women welcomes
  Marvellous Men who are happy to network in our style. This means co
 llaboration not competition, and support not sell and we know that you
  are interested in both personal and business development.\r\nYou don'
 t need to be a member - you can attend up to three Fabulous Women Net
 winningmeetings as a guest\r\nWith all these benefits to being a part 
 of the Fabulous Women experience, how can you resist?! To attend, sim
 ply clicking on the booking link below to go to our website and confir
 m your attendance, so the venue can cater for you, then just pay on ar
 rival (cash only please!).\r\nRemember to bring your business cards an
 d marketing material and, if you sell products, bring some samples for
  us to see.\r\nCOST: £10 for Guests and FW members (cash only plea
 se, on the door!)\r\nBOOKING: Please CLICK HERE to visit our websit
 e then click on the pink \"Yes I'm Attending\" button at the bottom\r
 \nMAP \r\n---------------------------------\r\nFind other local Fabul
 ous Women events here on Networking in Surrey...\n\nFor more informat
 ion visit https://networkinginsurrey.co.uk/events/fabulous-women-late-
 breakfast-reigate-561
DTSTART;TZID=Europe/London:20190314T100000
DTEND;TZID=Europe/London:20190314T120000
CATEGORIES:morning, reigate, netwinning, fabulous_women
LOCATION:Hartsfield Manor
WEBSITE:
URL:
CONTACT:
ORGANIZER;CN="Anita Wisdom":https://networkinginsurrey.co.uk/profile/A
 nitaWisdom9
ATTACH;FMTTYPE="image/jpeg":https://storage.ning.com/topology/rest/1.0
 /file/get/541438933?profile=original
ATTENDEE;ROLE=REQ-PARTICIPANT;PARTSTAT=ACCEPTED;RSVP=TRUE;CN="Anita Wi
 sdom":https://networkinginsurrey.co.uk/profile/AnitaWisdom9
END:VEVENT
END:VCALENDAR
