BEGIN:VCALENDAR
PRODID:NingEventWidget-v1
VERSION:2.0
METHOD:PUBLISH
BEGIN:VTIMEZONE
TZID:Europe/London
X-LIC-LOCATION:Europe/London
BEGIN:DAYLIGHT
TZOFFSETFROM:+0000
TZOFFSETTO:+0100
TZNAME:BST
DTSTART:19700329T010000
RRULE:FREQ=YEARLY;BYMONTH=3;BYDAY=-1SU
END:DAYLIGHT
BEGIN:STANDARD
TZOFFSETFROM:+0100
TZOFFSETTO:+0000
TZNAME:GMT
DTSTART:19701025T020000
RRULE:FREQ=YEARLY;BYMONTH=10;BYDAY=-1SU
END:STANDARD
END:VTIMEZONE
BEGIN:VEVENT
UID:4626108:Event:69526
DTSTAMP:20260420T022306Z
SUMMARY:Fabulous Women Late Breakfast, Reigate
DESCRIPTION:Fabulous Women Late Breakfast at The Jolly Farmer\n\nHi, I
 'm Sharon, the group leader for the Reigate Fabulous Women group. I l
 ook forward to welcoming you!\nOur speaker for November is Lucy Pitts 
 from \"Strood Copy\", who is talking about how to write a killer copy.
 \nThe talk is divided into 3 sections namely: Research, Remember, Writ
 e. It Is an overview of the things you should be researching, and reme
 mbering before you start writing – such as target audience, keyword 
 research, content research, marketing objectives, brand identity and f
 eatures v benefits. Then finally it looks at the structure, length lay
  out and use of SEO.\nIf you have been wondering what benefits you wil
 l receive from being part of this fabulous organisation, let me share 
 with you just a few reasons why coming to a Fabulous Women Netwinning 
 meeting will be the best business decision you ever made:\n\nMake new 
 friends\nFind customers, suppliers and collaborators\nBe inspired\nLea
 rn new skills\n\n- Our Agenda is the best mix between formal and infor
 mal networking - perfect for the new, as well as the more experienced 
 networker  - Inspiring speakers; a 'Hot Seat' or Mini-Coaching session
 ; and 1-2-1's with a 'twist' where we all work out ways in which we ca
 n potentially collaborate or support each other, even if it's simply b
 y following each other on Twitter etc.  - The chance to make a one min
 ute business pitch about who you are, what you do and who you do it fo
 r and how we can help you. (Do not worry about this if you are a littl
 e nervous, you can type it out and read it if you wish! We do not judg
 e, we just want to help you)\n- Women do business with men too, and Fa
 bulous Women welcomes Marvellous Men who are happy to network in our s
 tyle. This means collaboration not competition, and support not sell a
 nd we know that you are interested in both personal and business devel
 opment\n- You don't need to be a member to attend a Fabulous Women Net
 winning meeting. You can attend up to three meetings as a guest\nWith 
 all these benefits to being a part of the Fabulous Women experience, h
 ow can you resist?!   Remember to bring your business cards and marke
 ting material and, if you sell products, bring some samples for us to 
 see.\nPlease contact me if you have ANY queries or concerns.\nsharon@b
 etterfuture4women.co.uk\nCOST: £15 for Guests and £10 for FW member
 s (cash only please!)\nBOOKING: Please CLICK HERE to visit our websi
 te then click on the blue \"Yes I'm Attending\" button on the right\n
 MAP\n\nFor more information visit https://networkinginsurrey.co.uk/eve
 nts/fabulous-women-late-breakfast-reigate-5
DTSTART;TZID=Europe/London:20141113T093000
DTEND;TZID=Europe/London:20141113T113000
CATEGORIES:morning, reigate, netwinning, fabulous_women
LOCATION:Jolly Farmer Pub
WEBSITE:http://www.fabulous-women.co.uk/index.php?option=com_community
 &view=events&task=viewevent&eventid=1346
URL:http://www.fabulous-women.co.uk/index.php?option=com_community&vie
 w=events&task=viewevent&eventid=1346
CONTACT:07768 197507
ORGANIZER:Sharon Curry
ATTACH;FMTTYPE="image/jpeg":http://storage.ning.com/topology/rest/1.0/
 file/get/2591436642?profile=original
ATTENDEE;ROLE=REQ-PARTICIPANT;PARTSTAT=ACCEPTED;RSVP=TRUE;CN="Jane Har
 dy":https://networkinginsurrey.co.uk/profile/JaneHardy
END:VEVENT
END:VCALENDAR
