BEGIN:VCALENDAR
PRODID:NingEventWidget-v1
VERSION:2.0
METHOD:PUBLISH
BEGIN:VTIMEZONE
TZID:Europe/London
X-LIC-LOCATION:Europe/London
BEGIN:DAYLIGHT
TZOFFSETFROM:+0000
TZOFFSETTO:+0100
TZNAME:BST
DTSTART:19700329T010000
RRULE:FREQ=YEARLY;BYMONTH=3;BYDAY=-1SU
END:DAYLIGHT
BEGIN:STANDARD
TZOFFSETFROM:+0100
TZOFFSETTO:+0000
TZNAME:GMT
DTSTART:19701025T020000
RRULE:FREQ=YEARLY;BYMONTH=10;BYDAY=-1SU
END:STANDARD
END:VTIMEZONE
BEGIN:VEVENT
UID:4626108:Event:95707
DTSTAMP:20260422T232856Z
SUMMARY:Fabulous Women Late Breakfast, Reigate
DESCRIPTION:Fabulous Women Reigate/Dorking Late Breakfast at Hartsfiel
 d Manor\r\n\r\nHi, I'm Sharon, the group leader for the Reigate/Dorkin
 g Fabulous Women group. I look forward to welcoming you!\r\nIf you hav
 e been wondering what benefits you will receive from being part of thi
 s fabulous organisation, let me share with you just a few reasons why 
 coming to a Fabulous Women Netwinning meeting will be the best busines
 s decision you ever made:\r\n\r\nMake new friends\r\nFind customers, s
 uppliers and collaborators\r\nBe inspired\r\nLearn new skills\r\n\r\n\
 r\n Our Agenda is the best mix between formal and informal networking 
 - perfect for the new, as well as the more experienced networker\r\n \
 r\n We have Inspiring speakers; a 'Hot Seat' or Mini-Coaching session;
  and 1-2-1's with a 'twist' where we all work out ways in which we can
  potentially collaborate or support each other, even if it's simply by
  following each other on Twitter etc. \r\nOur speaker this month will
  be announced shortly...\r\nYou have the chance to make a one-minute b
 usiness pitch about who you are, what you do and who you do it for and
  how we can help you. (Do not worry about this if you are a little ner
 vous, you can type it out and read it if you wish! We do not judge, we
  just want to help you)\r\n \r\n Women do business with men too, and F
 abulous Women welcomes Marvellous Men who are happy to network in our 
 style. This means collaboration not competition, and support not sell 
 and we know that you are interested in both personal and business deve
 lopment\r\n \r\n You don't need to be a member - you can attend up to 
 three Fabulous Women Netwinningmeetings as a guest\r\n\r\n With all th
 ese benefits to being a part of the Fabulous Women experience, how can
  you resist?! To attend, simply clicking on the booking link below to 
 go to our website and confirm your attendance, so the venue can cater 
 for you, then just pay on arrival (cash only please!).\r\nRemember to 
 bring your business cards and marketing material and, if you sell prod
 ucts, bring some samples for us to see.\r\n \r\n Feel free to contact 
 me with any queries or for further information sharon@betterfuture4wom
 en.co.uk\r\nCOST: £10 for Guests and FW members (cash only please, 
 on the door!)\r\nBOOKING: Please CLICK HERE to visit our website then
  click on the pink \"Yes I'm Attending\" button at the bottom\r\nMAP\
 r\n \r\n---------------------------------\r\nFind other local Fabulou
 s Women events here on Networking in Surrey...\n\nFor more informatio
 n visit https://networkinginsurrey.co.uk/events/fabulous-women-late-br
 eakfast-reigate-347
DTSTART;TZID=Europe/London:20180208T093000
DTEND;TZID=Europe/London:20180208T113000
CATEGORIES:morning, reigate, netwinning, fabulous_women
LOCATION:Hartsfield Manor RH3 7AA
WEBSITE:http://fabulous-women.co.uk/eventdetails
URL:http://fabulous-women.co.uk/eventdetails
CONTACT:
ORGANIZER:Jane Hardy
ATTACH;FMTTYPE="image/jpeg":http://storage.ning.com/topology/rest/1.0/
 file/get/1179757333?profile=original
ATTENDEE;ROLE=REQ-PARTICIPANT;PARTSTAT=ACCEPTED;RSVP=TRUE;CN="Sharon C
 urry":https://networkinginsurrey.co.uk/profile/SharonCurry
END:VEVENT
END:VCALENDAR
