BEGIN:VCALENDAR
PRODID:NingEventWidget-v1
VERSION:2.0
METHOD:PUBLISH
BEGIN:VTIMEZONE
TZID:Europe/London
X-LIC-LOCATION:Europe/London
BEGIN:DAYLIGHT
TZOFFSETFROM:+0000
TZOFFSETTO:+0100
TZNAME:BST
DTSTART:19700329T010000
RRULE:FREQ=YEARLY;BYMONTH=3;BYDAY=-1SU
END:DAYLIGHT
BEGIN:STANDARD
TZOFFSETFROM:+0100
TZOFFSETTO:+0000
TZNAME:GMT
DTSTART:19701025T020000
RRULE:FREQ=YEARLY;BYMONTH=10;BYDAY=-1SU
END:STANDARD
END:VTIMEZONE
BEGIN:VEVENT
UID:4626108:Event:101146
DTSTAMP:20260422T014624Z
SUMMARY:Fabulous Women Late Breakfast, Reigate
DESCRIPTION:Fabulous Women Late Breakfast at Hartsfield Manor\n\nHi, I
 'm Anita, the group leader for the Reigate Fabulous Women group. I 
 look forward to welcoming you!\nIf you have been wondering what benefi
 ts you will receive from being part of this fabulous organisation, let
  me share with you just a few reasons why coming to a Fabulous Women N
 etwinning meeting will be the best business decision you ever made:\n\
 nMake new friends\nFind customers, suppliers and collaborators\nBe ins
 pired\nLearn new skills\n\nOur Agenda is the best mix between formal 
 and informal networking - perfect for the new, as well as the more exp
 erienced networker. \nWe have Inspiring speakers; a 'Hot Seat' or Min
 i-Coaching session; and 1-2-1's with a 'twist' where we all work out w
 ays in which we can potentially collaborate or support each other, eve
 n if it's simply by following each other on Twitter etc. \nThis month
  our speaker is Julia Philpott whose talk is entitled - 'Using questio
 ns for maximum impact'.\nYou have the chance to make a one-minute busi
 ness pitch about who you are, what you do and who you do it for and h
 ow we can help you. (Do not worry about this if you are a little nervo
 us, you can type it out and read it if you wish! We do not judge, we j
 ust want to help you).\nWomen do business with men too, and Fabulous W
 omen welcomes Marvellous Men who are happy to network in our style. 
 This means collaboration not competition, and support not sell and we 
 know that you are interested in both personal and business development
 .\nYou don't need to be a member - you can attend up to three Fabulou
 s Women Netwinningmeetings as a guest\nWith all these benefits to bein
 g a part of the Fabulous Women experience, how can you resist?! To at
 tend, simply clicking on the booking link below to go to our website a
 nd confirm your attendance, so the venue can cater for you, then just 
 pay on arrival (cash only please!).\nRemember to bring your business c
 ards and marketing material and, if you sell products, bring some samp
 les for us to see.\nCOST: £10 for Guests and FW members (cash only
  please, on the door!)\nBOOKING: Please CLICK HERE to visit our web
 site then click on the pink \"Yes I'm Attending\" button at the botto
 m\nMAP\n---------------------------------\nFind other local Fabulous 
 Women events here on Networking in Surrey...\n\nFor more information 
 visit https://networkinginsurrey.co.uk/events/fabulous-women-late-brea
 kfast-reigate-330
DTSTART;TZID=Europe/London:20181011T100000
DTEND;TZID=Europe/London:20181011T120000
CATEGORIES:morning, reigate, netwinning, fabulous_women
LOCATION:Hartsfield Manor
WEBSITE:
URL:
CONTACT:
ORGANIZER;CN="Anita Wisdom":https://networkinginsurrey.co.uk/profile/A
 nitaWisdom9
ATTACH;FMTTYPE="image/jpeg":http://storage.ning.com/topology/rest/1.0/
 file/get/1179757333?profile=original
ATTENDEE;ROLE=REQ-PARTICIPANT;PARTSTAT=ACCEPTED;RSVP=TRUE;CN="Anita Wi
 sdom":https://networkinginsurrey.co.uk/profile/AnitaWisdom9
END:VEVENT
END:VCALENDAR
